BEGIN:VCALENDAR
VERSION:2.0
PRODID:-//Spring Creek Oaks - ECPv6.15.20//NONSGML v1.0//EN
CALSCALE:GREGORIAN
METHOD:PUBLISH
X-ORIGINAL-URL:https://www.springcreekoaks.org
X-WR-CALDESC:Events for Spring Creek Oaks
REFRESH-INTERVAL;VALUE=DURATION:PT1H
X-Robots-Tag:noindex
X-PUBLISHED-TTL:PT1H
BEGIN:VTIMEZONE
TZID:America/Chicago
BEGIN:DAYLIGHT
TZOFFSETFROM:-0600
TZOFFSETTO:-0500
TZNAME:CDT
DTSTART:20240310T080000
END:DAYLIGHT
BEGIN:STANDARD
TZOFFSETFROM:-0500
TZOFFSETTO:-0600
TZNAME:CST
DTSTART:20241103T070000
END:STANDARD
BEGIN:DAYLIGHT
TZOFFSETFROM:-0600
TZOFFSETTO:-0500
TZNAME:CDT
DTSTART:20250309T080000
END:DAYLIGHT
BEGIN:STANDARD
TZOFFSETFROM:-0500
TZOFFSETTO:-0600
TZNAME:CST
DTSTART:20251102T070000
END:STANDARD
BEGIN:DAYLIGHT
TZOFFSETFROM:-0600
TZOFFSETTO:-0500
TZNAME:CDT
DTSTART:20260308T080000
END:DAYLIGHT
BEGIN:STANDARD
TZOFFSETFROM:-0500
TZOFFSETTO:-0600
TZNAME:CST
DTSTART:20261101T070000
END:STANDARD
END:VTIMEZONE
BEGIN:VEVENT
DTSTART;TZID=America/Chicago:20251008T160000
DTEND;TZID=America/Chicago:20251008T200000
DTSTAMP:20260421T120047
CREATED:20250812T123924Z
LAST-MODIFIED:20250813T110128Z
UID:10014270-1759939200-1759953600@www.springcreekoaks.org
SUMMARY:Large Soccer Field - Jeronimo
DESCRIPTION:
URL:https://www.springcreekoaks.org/reservations/large-field-jeronimo/2025-10-08/
LOCATION:Large Soccer Field (Bilma)\, United States
CATEGORIES:Soccer Fields
END:VEVENT
BEGIN:VEVENT
DTSTART;TZID=America/Chicago:20251006T160000
DTEND;TZID=America/Chicago:20251006T200000
DTSTAMP:20260421T120047
CREATED:20250916T135316Z
LAST-MODIFIED:20250916T135317Z
UID:10014613-1759766400-1759780800@www.springcreekoaks.org
SUMMARY:Large Soccer Field - Klein Lacrosse
DESCRIPTION:
URL:https://www.springcreekoaks.org/reservations/large-soccer-field-klein-lacrosse-2/2025-10-06/
LOCATION:Large Soccer Field (Bilma)\, United States
CATEGORIES:Soccer Fields
END:VEVENT
BEGIN:VEVENT
DTSTART;TZID=America/Chicago:20251004T070000
DTEND;TZID=America/Chicago:20251004T100000
DTSTAMP:20260421T120047
CREATED:20250812T124031Z
LAST-MODIFIED:20250813T105731Z
UID:10014320-1759561200-1759572000@www.springcreekoaks.org
SUMMARY:Large Soccer Field - Jeronimo
DESCRIPTION:
URL:https://www.springcreekoaks.org/reservations/large-field-jeronimo-2/2025-10-04/
LOCATION:Large Soccer Field (Bilma)\, United States
CATEGORIES:Soccer Fields
END:VEVENT
BEGIN:VEVENT
DTSTART;TZID=America/Chicago:20251002T160000
DTEND;TZID=America/Chicago:20251002T200000
DTSTAMP:20260421T120047
CREATED:20250916T135316Z
LAST-MODIFIED:20250916T135317Z
UID:10014479-1759420800-1759435200@www.springcreekoaks.org
SUMMARY:Large Soccer Field - Klein Lacrosse
DESCRIPTION:
URL:https://www.springcreekoaks.org/reservations/large-soccer-field-klein-lacrosse-2/2025-10-02/
LOCATION:Large Soccer Field (Bilma)\, United States
CATEGORIES:Soccer Fields
END:VEVENT
BEGIN:VEVENT
DTSTART;TZID=America/Chicago:20251001T160000
DTEND;TZID=America/Chicago:20251001T200000
DTSTAMP:20260421T120047
CREATED:20250812T123924Z
LAST-MODIFIED:20250813T110128Z
UID:10014269-1759334400-1759348800@www.springcreekoaks.org
SUMMARY:Large Soccer Field - Jeronimo
DESCRIPTION:
URL:https://www.springcreekoaks.org/reservations/large-field-jeronimo/2025-10-01/
LOCATION:Large Soccer Field (Bilma)\, United States
CATEGORIES:Soccer Fields
END:VEVENT
BEGIN:VEVENT
DTSTART;TZID=America/Chicago:20250929T160000
DTEND;TZID=America/Chicago:20250929T200000
DTSTAMP:20260421T120047
CREATED:20250916T135316Z
LAST-MODIFIED:20250916T135317Z
UID:10014612-1759161600-1759176000@www.springcreekoaks.org
SUMMARY:Large Soccer Field - Klein Lacrosse
DESCRIPTION:
URL:https://www.springcreekoaks.org/reservations/large-soccer-field-klein-lacrosse-2/2025-09-29/
LOCATION:Large Soccer Field (Bilma)\, United States
CATEGORIES:Soccer Fields
END:VEVENT
BEGIN:VEVENT
DTSTART;TZID=America/Chicago:20250927T070000
DTEND;TZID=America/Chicago:20250927T100000
DTSTAMP:20260421T120047
CREATED:20250812T124031Z
LAST-MODIFIED:20250813T105731Z
UID:10014319-1758956400-1758967200@www.springcreekoaks.org
SUMMARY:Large Soccer Field - Jeronimo
DESCRIPTION:
URL:https://www.springcreekoaks.org/reservations/large-field-jeronimo-2/2025-09-27/
LOCATION:Large Soccer Field (Bilma)\, United States
CATEGORIES:Soccer Fields
END:VEVENT
BEGIN:VEVENT
DTSTART;TZID=America/Chicago:20250925T160000
DTEND;TZID=America/Chicago:20250925T200000
DTSTAMP:20260421T120047
CREATED:20250916T135316Z
LAST-MODIFIED:20250916T135317Z
UID:10014477-1758816000-1758830400@www.springcreekoaks.org
SUMMARY:Large Soccer Field - Klein Lacrosse
DESCRIPTION:
URL:https://www.springcreekoaks.org/reservations/large-soccer-field-klein-lacrosse-2/2025-09-25/
LOCATION:Large Soccer Field (Bilma)\, United States
CATEGORIES:Soccer Fields
END:VEVENT
BEGIN:VEVENT
DTSTART;TZID=America/Chicago:20250924T160000
DTEND;TZID=America/Chicago:20250924T200000
DTSTAMP:20260421T120047
CREATED:20250812T123924Z
LAST-MODIFIED:20250813T110128Z
UID:10014268-1758729600-1758744000@www.springcreekoaks.org
SUMMARY:Large Soccer Field - Jeronimo
DESCRIPTION:
URL:https://www.springcreekoaks.org/reservations/large-field-jeronimo/2025-09-24/
LOCATION:Large Soccer Field (Bilma)\, United States
CATEGORIES:Soccer Fields
END:VEVENT
BEGIN:VEVENT
DTSTART;TZID=America/Chicago:20250922T160000
DTEND;TZID=America/Chicago:20250922T200000
DTSTAMP:20260421T120047
CREATED:20250916T135316Z
LAST-MODIFIED:20250916T135317Z
UID:10014611-1758556800-1758571200@www.springcreekoaks.org
SUMMARY:Large Soccer Field - Klein Lacrosse
DESCRIPTION:
URL:https://www.springcreekoaks.org/reservations/large-soccer-field-klein-lacrosse-2/2025-09-22/
LOCATION:Large Soccer Field (Bilma)\, United States
CATEGORIES:Soccer Fields
END:VEVENT
BEGIN:VEVENT
DTSTART;TZID=America/Chicago:20250920T070000
DTEND;TZID=America/Chicago:20250920T100000
DTSTAMP:20260421T120047
CREATED:20250812T124031Z
LAST-MODIFIED:20250813T105731Z
UID:10014318-1758351600-1758362400@www.springcreekoaks.org
SUMMARY:Large Soccer Field - Jeronimo
DESCRIPTION:
URL:https://www.springcreekoaks.org/reservations/large-field-jeronimo-2/2025-09-20/
LOCATION:Large Soccer Field (Bilma)\, United States
CATEGORIES:Soccer Fields
END:VEVENT
BEGIN:VEVENT
DTSTART;TZID=America/Chicago:20250918T160000
DTEND;TZID=America/Chicago:20250918T200000
DTSTAMP:20260421T120047
CREATED:20250916T135316Z
LAST-MODIFIED:20250916T135317Z
UID:10014475-1758211200-1758225600@www.springcreekoaks.org
SUMMARY:Large Soccer Field - Klein Lacrosse
DESCRIPTION:
URL:https://www.springcreekoaks.org/reservations/large-soccer-field-klein-lacrosse-2/2025-09-18/
LOCATION:Large Soccer Field (Bilma)\, United States
CATEGORIES:Soccer Fields
END:VEVENT
BEGIN:VEVENT
DTSTART;TZID=America/Chicago:20250917T160000
DTEND;TZID=America/Chicago:20250917T200000
DTSTAMP:20260421T120047
CREATED:20250812T123924Z
LAST-MODIFIED:20250813T110128Z
UID:10014267-1758124800-1758139200@www.springcreekoaks.org
SUMMARY:Large Soccer Field - Jeronimo
DESCRIPTION:
URL:https://www.springcreekoaks.org/reservations/large-field-jeronimo/2025-09-17/
LOCATION:Large Soccer Field (Bilma)\, United States
CATEGORIES:Soccer Fields
END:VEVENT
BEGIN:VEVENT
DTSTART;TZID=America/Chicago:20250915T160000
DTEND;TZID=America/Chicago:20250915T200000
DTSTAMP:20260421T120047
CREATED:20250916T135316Z
LAST-MODIFIED:20250916T135317Z
UID:10014474-1757952000-1757966400@www.springcreekoaks.org
SUMMARY:Large Soccer Field - Klein Lacrosse
DESCRIPTION:
URL:https://www.springcreekoaks.org/reservations/large-soccer-field-klein-lacrosse-2/2025-09-15/
LOCATION:Large Soccer Field (Bilma)\, United States
CATEGORIES:Soccer Fields
END:VEVENT
BEGIN:VEVENT
DTSTART;TZID=America/Chicago:20250913T070000
DTEND;TZID=America/Chicago:20250913T100000
DTSTAMP:20260421T120047
CREATED:20250812T124031Z
LAST-MODIFIED:20250813T105731Z
UID:10014317-1757746800-1757757600@www.springcreekoaks.org
SUMMARY:Large Soccer Field - Jeronimo
DESCRIPTION:
URL:https://www.springcreekoaks.org/reservations/large-field-jeronimo-2/2025-09-13/
LOCATION:Large Soccer Field (Bilma)\, United States
CATEGORIES:Soccer Fields
END:VEVENT
BEGIN:VEVENT
DTSTART;TZID=America/Chicago:20250911T160000
DTEND;TZID=America/Chicago:20250911T200000
DTSTAMP:20260421T120047
CREATED:20250828T181357Z
LAST-MODIFIED:20250828T181357Z
UID:10014473-1757606400-1757620800@www.springcreekoaks.org
SUMMARY:Large Soccer Field - Klein Lacrosse
DESCRIPTION:
URL:https://www.springcreekoaks.org/reservations/large-soccer-field-klein-lacrosse/2025-09-11/
LOCATION:Large Soccer Field (Bilma)\, United States
CATEGORIES:Soccer Fields
END:VEVENT
BEGIN:VEVENT
DTSTART;TZID=America/Chicago:20250910T160000
DTEND;TZID=America/Chicago:20250910T200000
DTSTAMP:20260421T120047
CREATED:20250812T123924Z
LAST-MODIFIED:20250813T110128Z
UID:10014266-1757520000-1757534400@www.springcreekoaks.org
SUMMARY:Large Soccer Field - Jeronimo
DESCRIPTION:
URL:https://www.springcreekoaks.org/reservations/large-field-jeronimo/2025-09-10/
LOCATION:Large Soccer Field (Bilma)\, United States
CATEGORIES:Soccer Fields
END:VEVENT
BEGIN:VEVENT
DTSTART;TZID=America/Chicago:20250909T160000
DTEND;TZID=America/Chicago:20250909T200000
DTSTAMP:20260421T120047
CREATED:20250828T181357Z
LAST-MODIFIED:20250828T181357Z
UID:10014472-1757433600-1757448000@www.springcreekoaks.org
SUMMARY:Large Soccer Field - Klein Lacrosse
DESCRIPTION:
URL:https://www.springcreekoaks.org/reservations/large-soccer-field-klein-lacrosse/2025-09-09/
LOCATION:Large Soccer Field (Bilma)\, United States
CATEGORIES:Soccer Fields
END:VEVENT
BEGIN:VEVENT
DTSTART;TZID=America/Chicago:20250906T070000
DTEND;TZID=America/Chicago:20250906T100000
DTSTAMP:20260421T120047
CREATED:20250812T124031Z
LAST-MODIFIED:20250813T105731Z
UID:10014316-1757142000-1757152800@www.springcreekoaks.org
SUMMARY:Large Soccer Field - Jeronimo
DESCRIPTION:
URL:https://www.springcreekoaks.org/reservations/large-field-jeronimo-2/2025-09-06/
LOCATION:Large Soccer Field (Bilma)\, United States
CATEGORIES:Soccer Fields
END:VEVENT
BEGIN:VEVENT
DTSTART;TZID=America/Chicago:20250904T160000
DTEND;TZID=America/Chicago:20250904T200000
DTSTAMP:20260421T120047
CREATED:20250828T181357Z
LAST-MODIFIED:20250828T181357Z
UID:10014471-1757001600-1757016000@www.springcreekoaks.org
SUMMARY:Large Soccer Field - Klein Lacrosse
DESCRIPTION:
URL:https://www.springcreekoaks.org/reservations/large-soccer-field-klein-lacrosse/2025-09-04/
LOCATION:Large Soccer Field (Bilma)\, United States
CATEGORIES:Soccer Fields
END:VEVENT
BEGIN:VEVENT
DTSTART;TZID=America/Chicago:20250903T160000
DTEND;TZID=America/Chicago:20250903T200000
DTSTAMP:20260421T120047
CREATED:20250812T123924Z
LAST-MODIFIED:20250813T110128Z
UID:10014265-1756915200-1756929600@www.springcreekoaks.org
SUMMARY:Large Soccer Field - Jeronimo
DESCRIPTION:
URL:https://www.springcreekoaks.org/reservations/large-field-jeronimo/2025-09-03/
LOCATION:Large Soccer Field (Bilma)\, United States
CATEGORIES:Soccer Fields
END:VEVENT
BEGIN:VEVENT
DTSTART;TZID=America/Chicago:20250902T160000
DTEND;TZID=America/Chicago:20250902T200000
DTSTAMP:20260421T120047
CREATED:20250828T181357Z
LAST-MODIFIED:20250828T181357Z
UID:10014470-1756828800-1756843200@www.springcreekoaks.org
SUMMARY:Large Soccer Field - Klein Lacrosse
DESCRIPTION:
URL:https://www.springcreekoaks.org/reservations/large-soccer-field-klein-lacrosse/2025-09-02/
LOCATION:Large Soccer Field (Bilma)\, United States
CATEGORIES:Soccer Fields
END:VEVENT
BEGIN:VEVENT
DTSTART;TZID=America/Chicago:20250830T070000
DTEND;TZID=America/Chicago:20250830T100000
DTSTAMP:20260421T120047
CREATED:20250812T124031Z
LAST-MODIFIED:20250813T105731Z
UID:10014315-1756537200-1756548000@www.springcreekoaks.org
SUMMARY:Large Soccer Field - Jeronimo
DESCRIPTION:
URL:https://www.springcreekoaks.org/reservations/large-field-jeronimo-2/2025-08-30/
LOCATION:Large Soccer Field (Bilma)\, United States
CATEGORIES:Soccer Fields
END:VEVENT
BEGIN:VEVENT
DTSTART;TZID=America/Chicago:20250828T160000
DTEND;TZID=America/Chicago:20250828T200000
DTSTAMP:20260421T120047
CREATED:20250828T181357Z
LAST-MODIFIED:20250828T181357Z
UID:10014469-1756396800-1756411200@www.springcreekoaks.org
SUMMARY:Large Soccer Field - Klein Lacrosse
DESCRIPTION:
URL:https://www.springcreekoaks.org/reservations/large-soccer-field-klein-lacrosse/2025-08-28/
LOCATION:Large Soccer Field (Bilma)\, United States
CATEGORIES:Soccer Fields
END:VEVENT
BEGIN:VEVENT
DTSTART;TZID=America/Chicago:20250827T160000
DTEND;TZID=America/Chicago:20250827T200000
DTSTAMP:20260421T120047
CREATED:20250812T123924Z
LAST-MODIFIED:20250813T110128Z
UID:10014264-1756310400-1756324800@www.springcreekoaks.org
SUMMARY:Large Soccer Field - Jeronimo
DESCRIPTION:
URL:https://www.springcreekoaks.org/reservations/large-field-jeronimo/2025-08-27/
LOCATION:Large Soccer Field (Bilma)\, United States
CATEGORIES:Soccer Fields
END:VEVENT
BEGIN:VEVENT
DTSTART;TZID=America/Chicago:20250826T160000
DTEND;TZID=America/Chicago:20250826T200000
DTSTAMP:20260421T120047
CREATED:20250828T181357Z
LAST-MODIFIED:20250828T181357Z
UID:10014468-1756224000-1756238400@www.springcreekoaks.org
SUMMARY:Large Soccer Field - Klein Lacrosse
DESCRIPTION:
URL:https://www.springcreekoaks.org/reservations/large-soccer-field-klein-lacrosse/2025-08-26/
LOCATION:Large Soccer Field (Bilma)\, United States
CATEGORIES:Soccer Fields
END:VEVENT
BEGIN:VEVENT
DTSTART;TZID=America/Chicago:20250823T070000
DTEND;TZID=America/Chicago:20250823T100000
DTSTAMP:20260421T120047
CREATED:20250812T124031Z
LAST-MODIFIED:20250813T105731Z
UID:10014314-1755932400-1755943200@www.springcreekoaks.org
SUMMARY:Large Soccer Field - Jeronimo
DESCRIPTION:
URL:https://www.springcreekoaks.org/reservations/large-field-jeronimo-2/2025-08-23/
LOCATION:Large Soccer Field (Bilma)\, United States
CATEGORIES:Soccer Fields
END:VEVENT
BEGIN:VEVENT
DTSTART;TZID=America/Chicago:20250820T160000
DTEND;TZID=America/Chicago:20250820T200000
DTSTAMP:20260421T120047
CREATED:20250812T123924Z
LAST-MODIFIED:20250813T110128Z
UID:10014263-1755705600-1755720000@www.springcreekoaks.org
SUMMARY:Large Soccer Field - Jeronimo
DESCRIPTION:
URL:https://www.springcreekoaks.org/reservations/large-field-jeronimo/2025-08-20/
LOCATION:Large Soccer Field (Bilma)\, United States
CATEGORIES:Soccer Fields
END:VEVENT
BEGIN:VEVENT
DTSTART;TZID=America/Chicago:20250816T070000
DTEND;TZID=America/Chicago:20250816T100000
DTSTAMP:20260421T120047
CREATED:20250812T124031Z
LAST-MODIFIED:20250813T105731Z
UID:10014313-1755327600-1755338400@www.springcreekoaks.org
SUMMARY:Large Soccer Field - Jeronimo
DESCRIPTION:
URL:https://www.springcreekoaks.org/reservations/large-field-jeronimo-2/2025-08-16/
LOCATION:Large Soccer Field (Bilma)\, United States
CATEGORIES:Soccer Fields
END:VEVENT
BEGIN:VEVENT
DTSTART;TZID=America/Chicago:20250813T160000
DTEND;TZID=America/Chicago:20250813T200000
DTSTAMP:20260421T120047
CREATED:20250812T123924Z
LAST-MODIFIED:20250813T110128Z
UID:10014262-1755100800-1755115200@www.springcreekoaks.org
SUMMARY:Large Soccer Field - Jeronimo
DESCRIPTION:
URL:https://www.springcreekoaks.org/reservations/large-field-jeronimo/2025-08-13/
LOCATION:Large Soccer Field (Bilma)\, United States
CATEGORIES:Soccer Fields
END:VEVENT
END:VCALENDAR