BEGIN:VCALENDAR
VERSION:2.0
PRODID:-//Spring Creek Oaks - ECPv6.15.20//NONSGML v1.0//EN
CALSCALE:GREGORIAN
METHOD:PUBLISH
X-ORIGINAL-URL:https://www.springcreekoaks.org
X-WR-CALDESC:Events for Spring Creek Oaks
REFRESH-INTERVAL;VALUE=DURATION:PT1H
X-Robots-Tag:noindex
X-PUBLISHED-TTL:PT1H
BEGIN:VTIMEZONE
TZID:America/Chicago
BEGIN:DAYLIGHT
TZOFFSETFROM:-0600
TZOFFSETTO:-0500
TZNAME:CDT
DTSTART:20200308T080000
END:DAYLIGHT
BEGIN:STANDARD
TZOFFSETFROM:-0500
TZOFFSETTO:-0600
TZNAME:CST
DTSTART:20201101T070000
END:STANDARD
BEGIN:DAYLIGHT
TZOFFSETFROM:-0600
TZOFFSETTO:-0500
TZNAME:CDT
DTSTART:20210314T080000
END:DAYLIGHT
BEGIN:STANDARD
TZOFFSETFROM:-0500
TZOFFSETTO:-0600
TZNAME:CST
DTSTART:20211107T070000
END:STANDARD
BEGIN:DAYLIGHT
TZOFFSETFROM:-0600
TZOFFSETTO:-0500
TZNAME:CDT
DTSTART:20220313T080000
END:DAYLIGHT
BEGIN:STANDARD
TZOFFSETFROM:-0500
TZOFFSETTO:-0600
TZNAME:CST
DTSTART:20221106T070000
END:STANDARD
BEGIN:DAYLIGHT
TZOFFSETFROM:-0600
TZOFFSETTO:-0500
TZNAME:CDT
DTSTART:20230312T080000
END:DAYLIGHT
BEGIN:STANDARD
TZOFFSETFROM:-0500
TZOFFSETTO:-0600
TZNAME:CST
DTSTART:20231105T070000
END:STANDARD
BEGIN:DAYLIGHT
TZOFFSETFROM:-0600
TZOFFSETTO:-0500
TZNAME:CDT
DTSTART:20240310T080000
END:DAYLIGHT
BEGIN:STANDARD
TZOFFSETFROM:-0500
TZOFFSETTO:-0600
TZNAME:CST
DTSTART:20241103T070000
END:STANDARD
END:VTIMEZONE
BEGIN:VEVENT
DTSTART;TZID=America/Chicago:20230128T090000
DTEND;TZID=America/Chicago:20230128T180000
DTSTAMP:20260420T060537
CREATED:20230117T184204Z
LAST-MODIFIED:20230117T184204Z
UID:10005565-1674896400-1674928800@www.springcreekoaks.org
SUMMARY:DC Pools CH2
DESCRIPTION:
URL:https://www.springcreekoaks.org/reservations/dc-pools-ch2-2/
LOCATION:CH 2 Pool\, 6002 Bur Oak Dr.\, Spring\, TX\, 77379\, United States
CATEGORIES:Clubhouses
GEO:30.037539;-95.5070911
X-APPLE-STRUCTURED-LOCATION;VALUE=URI;X-ADDRESS=CH 2 Pool 6002 Bur Oak Dr. Spring TX 77379 United States;X-APPLE-RADIUS=500;X-TITLE=6002 Bur Oak Dr.:geo:-95.5070911,30.037539
END:VEVENT
BEGIN:VEVENT
DTSTART;TZID=America/Chicago:20210621T170000
DTEND;TZID=America/Chicago:20210621T210000
DTSTAMP:20260420T060537
CREATED:20210310T165316Z
LAST-MODIFIED:20210310T165316Z
UID:10002075-1624294800-1624309200@www.springcreekoaks.org
SUMMARY:Swim Team Awards CH2 Pool
DESCRIPTION:
URL:https://www.springcreekoaks.org/reservations/swim-team-awards-ch2-pool/
LOCATION:CH 2 Pool\, 6002 Bur Oak Dr.\, Spring\, TX\, 77379\, United States
CATEGORIES:Pools
GEO:30.037539;-95.5070911
X-APPLE-STRUCTURED-LOCATION;VALUE=URI;X-ADDRESS=CH 2 Pool 6002 Bur Oak Dr. Spring TX 77379 United States;X-APPLE-RADIUS=500;X-TITLE=6002 Bur Oak Dr.:geo:-95.5070911,30.037539
END:VEVENT
BEGIN:VEVENT
DTSTART;TZID=America/Chicago:20210612T060000
DTEND;TZID=America/Chicago:20210612T130000
DTSTAMP:20260420T060537
CREATED:20210303T183939Z
LAST-MODIFIED:20210303T183939Z
UID:10001934-1623477600-1623502800@www.springcreekoaks.org
SUMMARY:Dolphin Swim Meet
DESCRIPTION:
URL:https://www.springcreekoaks.org/reservations/dolphin-swim-meet-4/
LOCATION:CH 2 Pool\, 6002 Bur Oak Dr.\, Spring\, TX\, 77379\, United States
GEO:30.037539;-95.5070911
X-APPLE-STRUCTURED-LOCATION;VALUE=URI;X-ADDRESS=CH 2 Pool 6002 Bur Oak Dr. Spring TX 77379 United States;X-APPLE-RADIUS=500;X-TITLE=6002 Bur Oak Dr.:geo:-95.5070911,30.037539
END:VEVENT
BEGIN:VEVENT
DTSTART;TZID=America/Chicago:20210529T060000
DTEND;TZID=America/Chicago:20210529T130000
DTSTAMP:20260420T060537
CREATED:20210303T183844Z
LAST-MODIFIED:20210303T232444Z
UID:10001928-1622268000-1622293200@www.springcreekoaks.org
SUMMARY:Dolphin Swim Meet
DESCRIPTION:
URL:https://www.springcreekoaks.org/reservations/dolphin-swim-meet-3/
LOCATION:CH 2 Pool\, 6002 Bur Oak Dr.\, Spring\, TX\, 77379\, United States
CATEGORIES:Pools
GEO:30.037539;-95.5070911
X-APPLE-STRUCTURED-LOCATION;VALUE=URI;X-ADDRESS=CH 2 Pool 6002 Bur Oak Dr. Spring TX 77379 United States;X-APPLE-RADIUS=500;X-TITLE=6002 Bur Oak Dr.:geo:-95.5070911,30.037539
END:VEVENT
BEGIN:VEVENT
DTSTART;TZID=America/Chicago:20210522T060000
DTEND;TZID=America/Chicago:20210522T130000
DTSTAMP:20260420T060537
CREATED:20210303T183728Z
LAST-MODIFIED:20210303T183728Z
UID:10003099-1621663200-1621688400@www.springcreekoaks.org
SUMMARY:Dolphin Swim Meet
DESCRIPTION:
URL:https://www.springcreekoaks.org/reservations/dolphin-swim-meet-2/
LOCATION:CH 2 Pool\, 6002 Bur Oak Dr.\, Spring\, TX\, 77379\, United States
GEO:30.037539;-95.5070911
X-APPLE-STRUCTURED-LOCATION;VALUE=URI;X-ADDRESS=CH 2 Pool 6002 Bur Oak Dr. Spring TX 77379 United States;X-APPLE-RADIUS=500;X-TITLE=6002 Bur Oak Dr.:geo:-95.5070911,30.037539
END:VEVENT
BEGIN:VEVENT
DTSTART;TZID=America/Chicago:20210507T170000
DTEND;TZID=America/Chicago:20210507T210000
DTSTAMP:20260420T060537
CREATED:20210303T183257Z
LAST-MODIFIED:20210303T183257Z
UID:10003093-1620406800-1620421200@www.springcreekoaks.org
SUMMARY:Dolphin Swim Meet
DESCRIPTION:
URL:https://www.springcreekoaks.org/reservations/dolphin-swim-meet/
LOCATION:CH 2 Pool\, 6002 Bur Oak Dr.\, Spring\, TX\, 77379\, United States
GEO:30.037539;-95.5070911
X-APPLE-STRUCTURED-LOCATION;VALUE=URI;X-ADDRESS=CH 2 Pool 6002 Bur Oak Dr. Spring TX 77379 United States;X-APPLE-RADIUS=500;X-TITLE=6002 Bur Oak Dr.:geo:-95.5070911,30.037539
END:VEVENT
BEGIN:VEVENT
DTSTART;TZID=America/Chicago:20210425T080000
DTEND;TZID=America/Chicago:20210425T170000
DTSTAMP:20260420T060537
CREATED:20210303T232151Z
LAST-MODIFIED:20210303T232151Z
UID:10001980-1619337600-1619370000@www.springcreekoaks.org
SUMMARY:Lifeguard Training
DESCRIPTION:
URL:https://www.springcreekoaks.org/reservations/lifeguard-training-7/
LOCATION:CH 2 Pool\, 6002 Bur Oak Dr.\, Spring\, TX\, 77379\, United States
GEO:30.037539;-95.5070911
X-APPLE-STRUCTURED-LOCATION;VALUE=URI;X-ADDRESS=CH 2 Pool 6002 Bur Oak Dr. Spring TX 77379 United States;X-APPLE-RADIUS=500;X-TITLE=6002 Bur Oak Dr.:geo:-95.5070911,30.037539
END:VEVENT
BEGIN:VEVENT
DTSTART;TZID=America/Chicago:20210417T140000
DTEND;TZID=America/Chicago:20210417T170000
DTSTAMP:20260420T060537
CREATED:20210304T002518Z
LAST-MODIFIED:20210304T002518Z
UID:10002000-1618668000-1618678800@www.springcreekoaks.org
SUMMARY:Leiker CH2 Pool
DESCRIPTION:
URL:https://www.springcreekoaks.org/reservations/leiker-ch2-pool/
LOCATION:CH 2 Pool\, 6002 Bur Oak Dr.\, Spring\, TX\, 77379\, United States
GEO:30.037539;-95.5070911
X-APPLE-STRUCTURED-LOCATION;VALUE=URI;X-ADDRESS=CH 2 Pool 6002 Bur Oak Dr. Spring TX 77379 United States;X-APPLE-RADIUS=500;X-TITLE=6002 Bur Oak Dr.:geo:-95.5070911,30.037539
END:VEVENT
BEGIN:VEVENT
DTSTART;TZID=America/Chicago:20210411T090000
DTEND;TZID=America/Chicago:20210411T170000
DTSTAMP:20260420T060537
CREATED:20210303T231918Z
LAST-MODIFIED:20210303T231918Z
UID:10001978-1618131600-1618160400@www.springcreekoaks.org
SUMMARY:Lifeguard Training
DESCRIPTION:
URL:https://www.springcreekoaks.org/reservations/lifeguard-training-6/
LOCATION:CH 2 Pool\, 6002 Bur Oak Dr.\, Spring\, TX\, 77379\, United States
GEO:30.037539;-95.5070911
X-APPLE-STRUCTURED-LOCATION;VALUE=URI;X-ADDRESS=CH 2 Pool 6002 Bur Oak Dr. Spring TX 77379 United States;X-APPLE-RADIUS=500;X-TITLE=6002 Bur Oak Dr.:geo:-95.5070911,30.037539
END:VEVENT
BEGIN:VEVENT
DTSTART;TZID=America/Chicago:20210328T090000
DTEND;TZID=America/Chicago:20210328T170000
DTSTAMP:20260420T060537
CREATED:20210303T231839Z
LAST-MODIFIED:20210303T231839Z
UID:10001976-1616922000-1616950800@www.springcreekoaks.org
SUMMARY:Lifeguard Training
DESCRIPTION:
URL:https://www.springcreekoaks.org/reservations/lifeguard-training-5/
LOCATION:CH 2 Pool\, 6002 Bur Oak Dr.\, Spring\, TX\, 77379\, United States
GEO:30.037539;-95.5070911
X-APPLE-STRUCTURED-LOCATION;VALUE=URI;X-ADDRESS=CH 2 Pool 6002 Bur Oak Dr. Spring TX 77379 United States;X-APPLE-RADIUS=500;X-TITLE=6002 Bur Oak Dr.:geo:-95.5070911,30.037539
END:VEVENT
BEGIN:VEVENT
DTSTART;TZID=America/Chicago:20210327T090000
DTEND;TZID=America/Chicago:20210327T170000
DTSTAMP:20260420T060537
CREATED:20210303T231807Z
LAST-MODIFIED:20210303T231807Z
UID:10001974-1616835600-1616864400@www.springcreekoaks.org
SUMMARY:Lifeguard Training
DESCRIPTION:
URL:https://www.springcreekoaks.org/reservations/lifeguard-training-4/
LOCATION:CH 2 Pool\, 6002 Bur Oak Dr.\, Spring\, TX\, 77379\, United States
GEO:30.037539;-95.5070911
X-APPLE-STRUCTURED-LOCATION;VALUE=URI;X-ADDRESS=CH 2 Pool 6002 Bur Oak Dr. Spring TX 77379 United States;X-APPLE-RADIUS=500;X-TITLE=6002 Bur Oak Dr.:geo:-95.5070911,30.037539
END:VEVENT
BEGIN:VEVENT
DTSTART;TZID=America/Chicago:20210321T090000
DTEND;TZID=America/Chicago:20210321T170000
DTSTAMP:20260420T060537
CREATED:20210303T231732Z
LAST-MODIFIED:20210303T231732Z
UID:10001952-1616317200-1616346000@www.springcreekoaks.org
SUMMARY:Lifeguard Training
DESCRIPTION:
URL:https://www.springcreekoaks.org/reservations/lifeguard-training-3/
LOCATION:CH 2 Pool\, 6002 Bur Oak Dr.\, Spring\, TX\, 77379\, United States
GEO:30.037539;-95.5070911
X-APPLE-STRUCTURED-LOCATION;VALUE=URI;X-ADDRESS=CH 2 Pool 6002 Bur Oak Dr. Spring TX 77379 United States;X-APPLE-RADIUS=500;X-TITLE=6002 Bur Oak Dr.:geo:-95.5070911,30.037539
END:VEVENT
BEGIN:VEVENT
DTSTART;TZID=America/Chicago:20210320T090000
DTEND;TZID=America/Chicago:20210320T170000
DTSTAMP:20260420T060537
CREATED:20210303T231658Z
LAST-MODIFIED:20210303T231658Z
UID:10001951-1616230800-1616259600@www.springcreekoaks.org
SUMMARY:Lifeguard Training
DESCRIPTION:
URL:https://www.springcreekoaks.org/reservations/lifeguard-training-2/
LOCATION:CH 2 Pool\, 6002 Bur Oak Dr.\, Spring\, TX\, 77379\, United States
GEO:30.037539;-95.5070911
X-APPLE-STRUCTURED-LOCATION;VALUE=URI;X-ADDRESS=CH 2 Pool 6002 Bur Oak Dr. Spring TX 77379 United States;X-APPLE-RADIUS=500;X-TITLE=6002 Bur Oak Dr.:geo:-95.5070911,30.037539
END:VEVENT
BEGIN:VEVENT
DTSTART;TZID=America/Chicago:20210314T090000
DTEND;TZID=America/Chicago:20210314T170000
DTSTAMP:20260420T060537
CREATED:20210303T231550Z
LAST-MODIFIED:20210303T231550Z
UID:10003122-1615712400-1615741200@www.springcreekoaks.org
SUMMARY:Lifeguard Training
DESCRIPTION:
URL:https://www.springcreekoaks.org/reservations/lifeguard-training/
LOCATION:CH 2 Pool\, 6002 Bur Oak Dr.\, Spring\, TX\, 77379\, United States
GEO:30.037539;-95.5070911
X-APPLE-STRUCTURED-LOCATION;VALUE=URI;X-ADDRESS=CH 2 Pool 6002 Bur Oak Dr. Spring TX 77379 United States;X-APPLE-RADIUS=500;X-TITLE=6002 Bur Oak Dr.:geo:-95.5070911,30.037539
END:VEVENT
END:VCALENDAR