BEGIN:VCALENDAR
VERSION:2.0
PRODID:-//Spring Creek Oaks - ECPv6.15.20//NONSGML v1.0//EN
CALSCALE:GREGORIAN
METHOD:PUBLISH
X-ORIGINAL-URL:https://www.springcreekoaks.org
X-WR-CALDESC:Events for Spring Creek Oaks
REFRESH-INTERVAL;VALUE=DURATION:PT1H
X-Robots-Tag:noindex
X-PUBLISHED-TTL:PT1H
BEGIN:VTIMEZONE
TZID:America/Chicago
BEGIN:DAYLIGHT
TZOFFSETFROM:-0600
TZOFFSETTO:-0500
TZNAME:CDT
DTSTART:20240310T080000
END:DAYLIGHT
BEGIN:STANDARD
TZOFFSETFROM:-0500
TZOFFSETTO:-0600
TZNAME:CST
DTSTART:20241103T070000
END:STANDARD
BEGIN:DAYLIGHT
TZOFFSETFROM:-0600
TZOFFSETTO:-0500
TZNAME:CDT
DTSTART:20250309T080000
END:DAYLIGHT
BEGIN:STANDARD
TZOFFSETFROM:-0500
TZOFFSETTO:-0600
TZNAME:CST
DTSTART:20251102T070000
END:STANDARD
BEGIN:DAYLIGHT
TZOFFSETFROM:-0600
TZOFFSETTO:-0500
TZNAME:CDT
DTSTART:20260308T080000
END:DAYLIGHT
BEGIN:STANDARD
TZOFFSETFROM:-0500
TZOFFSETTO:-0600
TZNAME:CST
DTSTART:20261101T070000
END:STANDARD
END:VTIMEZONE
BEGIN:VEVENT
DTSTART;TZID=America/Chicago:20251104T160000
DTEND;TZID=America/Chicago:20251104T200000
DTSTAMP:20260421T120507
CREATED:20250701T132704Z
LAST-MODIFIED:20250701T132951Z
UID:10013728-1762272000-1762286400@www.springcreekoaks.org
SUMMARY:Field 3 - Texas Lightning - 9U
DESCRIPTION:
URL:https://www.springcreekoaks.org/reservations/field-3-texas-lightning-9u/2025-11-04/
LOCATION:Baseball Field 3\, United States
CATEGORIES:Baseball Fields
END:VEVENT
BEGIN:VEVENT
DTSTART;TZID=America/Chicago:20251030T160000
DTEND;TZID=America/Chicago:20251030T200000
DTSTAMP:20260421T120507
CREATED:20250701T132704Z
LAST-MODIFIED:20250701T132951Z
UID:10013727-1761840000-1761854400@www.springcreekoaks.org
SUMMARY:Field 3 - Texas Lightning - 9U
DESCRIPTION:
URL:https://www.springcreekoaks.org/reservations/field-3-texas-lightning-9u/2025-10-30/
LOCATION:Baseball Field 3\, United States
CATEGORIES:Baseball Fields
END:VEVENT
BEGIN:VEVENT
DTSTART;TZID=America/Chicago:20251029T160000
DTEND;TZID=America/Chicago:20251029T200000
DTSTAMP:20260421T120507
CREATED:20250805T122940Z
LAST-MODIFIED:20250805T122940Z
UID:10014254-1761753600-1761768000@www.springcreekoaks.org
SUMMARY:Field 3 - Astros - 9U
DESCRIPTION:
URL:https://www.springcreekoaks.org/reservations/field-3-astros-9u/2025-10-29/
LOCATION:Baseball Field 3\, United States
CATEGORIES:Baseball Fields
END:VEVENT
BEGIN:VEVENT
DTSTART;TZID=America/Chicago:20251028T160000
DTEND;TZID=America/Chicago:20251028T200000
DTSTAMP:20260421T120507
CREATED:20250701T132704Z
LAST-MODIFIED:20250701T132951Z
UID:10013726-1761667200-1761681600@www.springcreekoaks.org
SUMMARY:Field 3 - Texas Lightning - 9U
DESCRIPTION:
URL:https://www.springcreekoaks.org/reservations/field-3-texas-lightning-9u/2025-10-28/
LOCATION:Baseball Field 3\, United States
CATEGORIES:Baseball Fields
END:VEVENT
BEGIN:VEVENT
DTSTART;TZID=America/Chicago:20251023T160000
DTEND;TZID=America/Chicago:20251023T200000
DTSTAMP:20260421T120507
CREATED:20250701T132704Z
LAST-MODIFIED:20250701T132951Z
UID:10013725-1761235200-1761249600@www.springcreekoaks.org
SUMMARY:Field 3 - Texas Lightning - 9U
DESCRIPTION:
URL:https://www.springcreekoaks.org/reservations/field-3-texas-lightning-9u/2025-10-23/
LOCATION:Baseball Field 3\, United States
CATEGORIES:Baseball Fields
END:VEVENT
BEGIN:VEVENT
DTSTART;TZID=America/Chicago:20251022T160000
DTEND;TZID=America/Chicago:20251022T200000
DTSTAMP:20260421T120507
CREATED:20250805T122940Z
LAST-MODIFIED:20250805T122940Z
UID:10014253-1761148800-1761163200@www.springcreekoaks.org
SUMMARY:Field 3 - Astros - 9U
DESCRIPTION:
URL:https://www.springcreekoaks.org/reservations/field-3-astros-9u/2025-10-22/
LOCATION:Baseball Field 3\, United States
CATEGORIES:Baseball Fields
END:VEVENT
BEGIN:VEVENT
DTSTART;TZID=America/Chicago:20251021T160000
DTEND;TZID=America/Chicago:20251021T200000
DTSTAMP:20260421T120507
CREATED:20250701T132704Z
LAST-MODIFIED:20250701T132951Z
UID:10013724-1761062400-1761076800@www.springcreekoaks.org
SUMMARY:Field 3 - Texas Lightning - 9U
DESCRIPTION:
URL:https://www.springcreekoaks.org/reservations/field-3-texas-lightning-9u/2025-10-21/
LOCATION:Baseball Field 3\, United States
CATEGORIES:Baseball Fields
END:VEVENT
BEGIN:VEVENT
DTSTART;TZID=America/Chicago:20251016T160000
DTEND;TZID=America/Chicago:20251016T200000
DTSTAMP:20260421T120507
CREATED:20250701T132704Z
LAST-MODIFIED:20250701T132951Z
UID:10013723-1760630400-1760644800@www.springcreekoaks.org
SUMMARY:Field 3 - Texas Lightning - 9U
DESCRIPTION:
URL:https://www.springcreekoaks.org/reservations/field-3-texas-lightning-9u/2025-10-16/
LOCATION:Baseball Field 3\, United States
CATEGORIES:Baseball Fields
END:VEVENT
BEGIN:VEVENT
DTSTART;TZID=America/Chicago:20251015T160000
DTEND;TZID=America/Chicago:20251015T200000
DTSTAMP:20260421T120507
CREATED:20250805T122940Z
LAST-MODIFIED:20250805T122940Z
UID:10014252-1760544000-1760558400@www.springcreekoaks.org
SUMMARY:Field 3 - Astros - 9U
DESCRIPTION:
URL:https://www.springcreekoaks.org/reservations/field-3-astros-9u/2025-10-15/
LOCATION:Baseball Field 3\, United States
CATEGORIES:Baseball Fields
END:VEVENT
BEGIN:VEVENT
DTSTART;TZID=America/Chicago:20251014T160000
DTEND;TZID=America/Chicago:20251014T200000
DTSTAMP:20260421T120507
CREATED:20250701T132704Z
LAST-MODIFIED:20250701T132951Z
UID:10013722-1760457600-1760472000@www.springcreekoaks.org
SUMMARY:Field 3 - Texas Lightning - 9U
DESCRIPTION:
URL:https://www.springcreekoaks.org/reservations/field-3-texas-lightning-9u/2025-10-14/
LOCATION:Baseball Field 3\, United States
CATEGORIES:Baseball Fields
END:VEVENT
BEGIN:VEVENT
DTSTART;TZID=America/Chicago:20251009T160000
DTEND;TZID=America/Chicago:20251009T200000
DTSTAMP:20260421T120507
CREATED:20250701T132704Z
LAST-MODIFIED:20250701T132951Z
UID:10013721-1760025600-1760040000@www.springcreekoaks.org
SUMMARY:Field 3 - Texas Lightning - 9U
DESCRIPTION:
URL:https://www.springcreekoaks.org/reservations/field-3-texas-lightning-9u/2025-10-09/
LOCATION:Baseball Field 3\, United States
CATEGORIES:Baseball Fields
END:VEVENT
BEGIN:VEVENT
DTSTART;TZID=America/Chicago:20251008T160000
DTEND;TZID=America/Chicago:20251008T200000
DTSTAMP:20260421T120507
CREATED:20250805T122940Z
LAST-MODIFIED:20250805T122940Z
UID:10014251-1759939200-1759953600@www.springcreekoaks.org
SUMMARY:Field 3 - Astros - 9U
DESCRIPTION:
URL:https://www.springcreekoaks.org/reservations/field-3-astros-9u/2025-10-08/
LOCATION:Baseball Field 3\, United States
CATEGORIES:Baseball Fields
END:VEVENT
BEGIN:VEVENT
DTSTART;TZID=America/Chicago:20251007T160000
DTEND;TZID=America/Chicago:20251007T200000
DTSTAMP:20260421T120507
CREATED:20250701T132704Z
LAST-MODIFIED:20250701T132951Z
UID:10013720-1759852800-1759867200@www.springcreekoaks.org
SUMMARY:Field 3 - Texas Lightning - 9U
DESCRIPTION:
URL:https://www.springcreekoaks.org/reservations/field-3-texas-lightning-9u/2025-10-07/
LOCATION:Baseball Field 3\, United States
CATEGORIES:Baseball Fields
END:VEVENT
BEGIN:VEVENT
DTSTART;TZID=America/Chicago:20251002T160000
DTEND;TZID=America/Chicago:20251002T200000
DTSTAMP:20260421T120507
CREATED:20250701T132704Z
LAST-MODIFIED:20250701T132951Z
UID:10013719-1759420800-1759435200@www.springcreekoaks.org
SUMMARY:Field 3 - Texas Lightning - 9U
DESCRIPTION:
URL:https://www.springcreekoaks.org/reservations/field-3-texas-lightning-9u/2025-10-02/
LOCATION:Baseball Field 3\, United States
CATEGORIES:Baseball Fields
END:VEVENT
BEGIN:VEVENT
DTSTART;TZID=America/Chicago:20251001T160000
DTEND;TZID=America/Chicago:20251001T200000
DTSTAMP:20260421T120507
CREATED:20250805T122940Z
LAST-MODIFIED:20250805T122940Z
UID:10014250-1759334400-1759348800@www.springcreekoaks.org
SUMMARY:Field 3 - Astros - 9U
DESCRIPTION:
URL:https://www.springcreekoaks.org/reservations/field-3-astros-9u/2025-10-01/
LOCATION:Baseball Field 3\, United States
CATEGORIES:Baseball Fields
END:VEVENT
BEGIN:VEVENT
DTSTART;TZID=America/Chicago:20250930T160000
DTEND;TZID=America/Chicago:20250930T200000
DTSTAMP:20260421T120507
CREATED:20250701T132704Z
LAST-MODIFIED:20250701T132951Z
UID:10013718-1759248000-1759262400@www.springcreekoaks.org
SUMMARY:Field 3 - Texas Lightning - 9U
DESCRIPTION:
URL:https://www.springcreekoaks.org/reservations/field-3-texas-lightning-9u/2025-09-30/
LOCATION:Baseball Field 3\, United States
CATEGORIES:Baseball Fields
END:VEVENT
BEGIN:VEVENT
DTSTART;TZID=America/Chicago:20250925T160000
DTEND;TZID=America/Chicago:20250925T200000
DTSTAMP:20260421T120507
CREATED:20250701T132704Z
LAST-MODIFIED:20250701T132951Z
UID:10013717-1758816000-1758830400@www.springcreekoaks.org
SUMMARY:Field 3 - Texas Lightning - 9U
DESCRIPTION:
URL:https://www.springcreekoaks.org/reservations/field-3-texas-lightning-9u/2025-09-25/
LOCATION:Baseball Field 3\, United States
CATEGORIES:Baseball Fields
END:VEVENT
BEGIN:VEVENT
DTSTART;TZID=America/Chicago:20250924T160000
DTEND;TZID=America/Chicago:20250924T200000
DTSTAMP:20260421T120507
CREATED:20250805T122940Z
LAST-MODIFIED:20250805T122940Z
UID:10014249-1758729600-1758744000@www.springcreekoaks.org
SUMMARY:Field 3 - Astros - 9U
DESCRIPTION:
URL:https://www.springcreekoaks.org/reservations/field-3-astros-9u/2025-09-24/
LOCATION:Baseball Field 3\, United States
CATEGORIES:Baseball Fields
END:VEVENT
BEGIN:VEVENT
DTSTART;TZID=America/Chicago:20250923T160000
DTEND;TZID=America/Chicago:20250923T200000
DTSTAMP:20260421T120507
CREATED:20250701T132704Z
LAST-MODIFIED:20250701T132951Z
UID:10013716-1758643200-1758657600@www.springcreekoaks.org
SUMMARY:Field 3 - Texas Lightning - 9U
DESCRIPTION:
URL:https://www.springcreekoaks.org/reservations/field-3-texas-lightning-9u/2025-09-23/
LOCATION:Baseball Field 3\, United States
CATEGORIES:Baseball Fields
END:VEVENT
BEGIN:VEVENT
DTSTART;TZID=America/Chicago:20250918T160000
DTEND;TZID=America/Chicago:20250918T200000
DTSTAMP:20260421T120507
CREATED:20250701T132704Z
LAST-MODIFIED:20250701T132951Z
UID:10013715-1758211200-1758225600@www.springcreekoaks.org
SUMMARY:Field 3 - Texas Lightning - 9U
DESCRIPTION:
URL:https://www.springcreekoaks.org/reservations/field-3-texas-lightning-9u/2025-09-18/
LOCATION:Baseball Field 3\, United States
CATEGORIES:Baseball Fields
END:VEVENT
BEGIN:VEVENT
DTSTART;TZID=America/Chicago:20250917T160000
DTEND;TZID=America/Chicago:20250917T200000
DTSTAMP:20260421T120507
CREATED:20250805T122940Z
LAST-MODIFIED:20250805T122940Z
UID:10014248-1758124800-1758139200@www.springcreekoaks.org
SUMMARY:Field 3 - Astros - 9U
DESCRIPTION:
URL:https://www.springcreekoaks.org/reservations/field-3-astros-9u/2025-09-17/
LOCATION:Baseball Field 3\, United States
CATEGORIES:Baseball Fields
END:VEVENT
BEGIN:VEVENT
DTSTART;TZID=America/Chicago:20250916T160000
DTEND;TZID=America/Chicago:20250916T200000
DTSTAMP:20260421T120508
CREATED:20250701T132704Z
LAST-MODIFIED:20250701T132951Z
UID:10013714-1758038400-1758052800@www.springcreekoaks.org
SUMMARY:Field 3 - Texas Lightning - 9U
DESCRIPTION:
URL:https://www.springcreekoaks.org/reservations/field-3-texas-lightning-9u/2025-09-16/
LOCATION:Baseball Field 3\, United States
CATEGORIES:Baseball Fields
END:VEVENT
BEGIN:VEVENT
DTSTART;TZID=America/Chicago:20250911T160000
DTEND;TZID=America/Chicago:20250911T200000
DTSTAMP:20260421T120508
CREATED:20250701T132704Z
LAST-MODIFIED:20250701T132951Z
UID:10013713-1757606400-1757620800@www.springcreekoaks.org
SUMMARY:Field 3 - Texas Lightning - 9U
DESCRIPTION:
URL:https://www.springcreekoaks.org/reservations/field-3-texas-lightning-9u/2025-09-11/
LOCATION:Baseball Field 3\, United States
CATEGORIES:Baseball Fields
END:VEVENT
BEGIN:VEVENT
DTSTART;TZID=America/Chicago:20250910T160000
DTEND;TZID=America/Chicago:20250910T200000
DTSTAMP:20260421T120508
CREATED:20250805T122940Z
LAST-MODIFIED:20250805T122940Z
UID:10014247-1757520000-1757534400@www.springcreekoaks.org
SUMMARY:Field 3 - Astros - 9U
DESCRIPTION:
URL:https://www.springcreekoaks.org/reservations/field-3-astros-9u/2025-09-10/
LOCATION:Baseball Field 3\, United States
CATEGORIES:Baseball Fields
END:VEVENT
BEGIN:VEVENT
DTSTART;TZID=America/Chicago:20250909T160000
DTEND;TZID=America/Chicago:20250909T200000
DTSTAMP:20260421T120508
CREATED:20250701T132704Z
LAST-MODIFIED:20250701T132951Z
UID:10013712-1757433600-1757448000@www.springcreekoaks.org
SUMMARY:Field 3 - Texas Lightning - 9U
DESCRIPTION:
URL:https://www.springcreekoaks.org/reservations/field-3-texas-lightning-9u/2025-09-09/
LOCATION:Baseball Field 3\, United States
CATEGORIES:Baseball Fields
END:VEVENT
BEGIN:VEVENT
DTSTART;TZID=America/Chicago:20250904T160000
DTEND;TZID=America/Chicago:20250904T200000
DTSTAMP:20260421T120508
CREATED:20250701T132704Z
LAST-MODIFIED:20250701T132951Z
UID:10013711-1757001600-1757016000@www.springcreekoaks.org
SUMMARY:Field 3 - Texas Lightning - 9U
DESCRIPTION:
URL:https://www.springcreekoaks.org/reservations/field-3-texas-lightning-9u/2025-09-04/
LOCATION:Baseball Field 3\, United States
CATEGORIES:Baseball Fields
END:VEVENT
BEGIN:VEVENT
DTSTART;TZID=America/Chicago:20250903T160000
DTEND;TZID=America/Chicago:20250903T200000
DTSTAMP:20260421T120508
CREATED:20250805T122940Z
LAST-MODIFIED:20250805T122940Z
UID:10014246-1756915200-1756929600@www.springcreekoaks.org
SUMMARY:Field 3 - Astros - 9U
DESCRIPTION:
URL:https://www.springcreekoaks.org/reservations/field-3-astros-9u/2025-09-03/
LOCATION:Baseball Field 3\, United States
CATEGORIES:Baseball Fields
END:VEVENT
BEGIN:VEVENT
DTSTART;TZID=America/Chicago:20250902T160000
DTEND;TZID=America/Chicago:20250902T200000
DTSTAMP:20260421T120508
CREATED:20250701T132704Z
LAST-MODIFIED:20250701T132951Z
UID:10013710-1756828800-1756843200@www.springcreekoaks.org
SUMMARY:Field 3 - Texas Lightning - 9U
DESCRIPTION:
URL:https://www.springcreekoaks.org/reservations/field-3-texas-lightning-9u/2025-09-02/
LOCATION:Baseball Field 3\, United States
CATEGORIES:Baseball Fields
END:VEVENT
BEGIN:VEVENT
DTSTART;TZID=America/Chicago:20250828T160000
DTEND;TZID=America/Chicago:20250828T200000
DTSTAMP:20260421T120508
CREATED:20250701T132704Z
LAST-MODIFIED:20250701T132951Z
UID:10013709-1756396800-1756411200@www.springcreekoaks.org
SUMMARY:Field 3 - Texas Lightning - 9U
DESCRIPTION:
URL:https://www.springcreekoaks.org/reservations/field-3-texas-lightning-9u/2025-08-28/
LOCATION:Baseball Field 3\, United States
CATEGORIES:Baseball Fields
END:VEVENT
BEGIN:VEVENT
DTSTART;TZID=America/Chicago:20250827T160000
DTEND;TZID=America/Chicago:20250827T200000
DTSTAMP:20260421T120508
CREATED:20250805T122940Z
LAST-MODIFIED:20250805T122940Z
UID:10014245-1756310400-1756324800@www.springcreekoaks.org
SUMMARY:Field 3 - Astros - 9U
DESCRIPTION:
URL:https://www.springcreekoaks.org/reservations/field-3-astros-9u/2025-08-27/
LOCATION:Baseball Field 3\, United States
CATEGORIES:Baseball Fields
END:VEVENT
END:VCALENDAR