BEGIN:VCALENDAR
VERSION:2.0
PRODID:-//Spring Creek Oaks - ECPv6.15.20//NONSGML v1.0//EN
CALSCALE:GREGORIAN
METHOD:PUBLISH
X-WR-CALNAME:Spring Creek Oaks
X-ORIGINAL-URL:https://www.springcreekoaks.org
X-WR-CALDESC:Events for Spring Creek Oaks
REFRESH-INTERVAL;VALUE=DURATION:PT1H
X-Robots-Tag:noindex
X-PUBLISHED-TTL:PT1H
BEGIN:VTIMEZONE
TZID:America/Chicago
BEGIN:DAYLIGHT
TZOFFSETFROM:-0600
TZOFFSETTO:-0500
TZNAME:CDT
DTSTART:20230312T080000
END:DAYLIGHT
BEGIN:STANDARD
TZOFFSETFROM:-0500
TZOFFSETTO:-0600
TZNAME:CST
DTSTART:20231105T070000
END:STANDARD
BEGIN:DAYLIGHT
TZOFFSETFROM:-0600
TZOFFSETTO:-0500
TZNAME:CDT
DTSTART:20240310T080000
END:DAYLIGHT
BEGIN:STANDARD
TZOFFSETFROM:-0500
TZOFFSETTO:-0600
TZNAME:CST
DTSTART:20241103T070000
END:STANDARD
BEGIN:DAYLIGHT
TZOFFSETFROM:-0600
TZOFFSETTO:-0500
TZNAME:CDT
DTSTART:20250309T080000
END:DAYLIGHT
BEGIN:STANDARD
TZOFFSETFROM:-0500
TZOFFSETTO:-0600
TZNAME:CST
DTSTART:20251102T070000
END:STANDARD
END:VTIMEZONE
BEGIN:VEVENT
DTSTART;VALUE=DATE:20240303
DTEND;VALUE=DATE:20240304
DTSTAMP:20260420T193700
CREATED:20230620T000409Z
LAST-MODIFIED:20230620T000424Z
UID:10005714-1709424000-1709510399@www.springcreekoaks.org
SUMMARY:NCL Wildflowers 2028
DESCRIPTION:
URL:https://www.springcreekoaks.org/reservations/ncl-wildflowers-2028/
LOCATION:Clubhouse 2\, 6002 Bur Oak Dr\, Spring\, 77379\, United States
CATEGORIES:Clubhouses
GEO:30.037539;-95.5070911
X-APPLE-STRUCTURED-LOCATION;VALUE=URI;X-ADDRESS=Clubhouse 2 6002 Bur Oak Dr Spring 77379 United States;X-APPLE-RADIUS=500;X-TITLE=6002 Bur Oak Dr:geo:-95.5070911,30.037539
END:VEVENT
BEGIN:VEVENT
DTSTART;VALUE=DATE:20240303
DTEND;VALUE=DATE:20240304
DTSTAMP:20260420T193700
CREATED:20240110T023002Z
LAST-MODIFIED:20240110T023002Z
UID:10006373-1709424000-1709510399@www.springcreekoaks.org
SUMMARY:DS Rec CH2
DESCRIPTION:
URL:https://www.springcreekoaks.org/reservations/ds-rec-ch2-4/
LOCATION:Clubhouse 2\, 6002 Bur Oak Dr\, Spring\, 77379\, United States
CATEGORIES:Clubhouses
GEO:30.037539;-95.5070911
X-APPLE-STRUCTURED-LOCATION;VALUE=URI;X-ADDRESS=Clubhouse 2 6002 Bur Oak Dr Spring 77379 United States;X-APPLE-RADIUS=500;X-TITLE=6002 Bur Oak Dr:geo:-95.5070911,30.037539
END:VEVENT
BEGIN:VEVENT
DTSTART;TZID=America/Chicago:20240303T110000
DTEND;TZID=America/Chicago:20240303T150000
DTSTAMP:20260420T193700
CREATED:20240219T120310Z
LAST-MODIFIED:20240424T115624Z
UID:10007985-1709463600-1709478000@www.springcreekoaks.org
SUMMARY:Field 1 - Foster - 12U
DESCRIPTION:
URL:https://www.springcreekoaks.org/reservations/field-1-foster-12u/2024-03-03/
LOCATION:Baseball Field 1\, United States
CATEGORIES:Baseball Fields
END:VEVENT
BEGIN:VEVENT
DTSTART;TZID=America/Chicago:20240303T160000
DTEND;TZID=America/Chicago:20240303T200000
DTSTAMP:20260420T193700
CREATED:20240201T124730Z
LAST-MODIFIED:20240424T115718Z
UID:10007656-1709481600-1709496000@www.springcreekoaks.org
SUMMARY:Field 1 - Jaguars - 14U
DESCRIPTION:
URL:https://www.springcreekoaks.org/reservations/field-1-jaguars-14u/2024-03-03/
LOCATION:Baseball Field 1\, United States
CATEGORIES:Baseball Fields
END:VEVENT
BEGIN:VEVENT
DTSTART;TZID=America/Chicago:20240304T083000
DTEND;TZID=America/Chicago:20240304T110000
DTSTAMP:20260420T193700
CREATED:20240115T174755Z
LAST-MODIFIED:20240115T180718Z
UID:10006589-1709541000-1709550000@www.springcreekoaks.org
SUMMARY:Kuehnle courts 3-4\, Coach Danny
DESCRIPTION:
URL:https://www.springcreekoaks.org/reservations/kuehnle-courts-3-4-coach-danny/2024-03-04/
CATEGORIES:Tennis
END:VEVENT
BEGIN:VEVENT
DTSTART;TZID=America/Chicago:20240304T153000
DTEND;TZID=America/Chicago:20240304T173000
DTSTAMP:20260420T193700
CREATED:20240129T181937Z
LAST-MODIFIED:20240129T181937Z
UID:10007491-1709566200-1709573400@www.springcreekoaks.org
SUMMARY:CH 2 courts 1-3\, NCS practice
DESCRIPTION:
URL:https://www.springcreekoaks.org/reservations/ch-2-courts-1-3-ncs-practice-4/2024-03-04/
CATEGORIES:Tennis
END:VEVENT
BEGIN:VEVENT
DTSTART;TZID=America/Chicago:20240304T160000
DTEND;TZID=America/Chicago:20240304T200000
DTSTAMP:20260420T193700
CREATED:20240117T135025Z
LAST-MODIFIED:20240117T135536Z
UID:10007156-1709568000-1709582400@www.springcreekoaks.org
SUMMARY:Field 2 - Orioles - 11U
DESCRIPTION:
URL:https://www.springcreekoaks.org/reservations/field-2-orioles-11u-2/2024-03-04/
LOCATION:Baseball Field 2\, United States
CATEGORIES:Baseball Fields
END:VEVENT
BEGIN:VEVENT
DTSTART;TZID=America/Chicago:20240304T160000
DTEND;TZID=America/Chicago:20240304T200000
DTSTAMP:20260420T193700
CREATED:20240201T142117Z
LAST-MODIFIED:20240424T115832Z
UID:10007782-1709568000-1709582400@www.springcreekoaks.org
SUMMARY:Field 3 - Rail Riders - 6U
DESCRIPTION:
URL:https://www.springcreekoaks.org/reservations/field-3-rail-riders-6u/2024-03-04/
LOCATION:Baseball Field 3\, United States
CATEGORIES:Baseball Fields
END:VEVENT
BEGIN:VEVENT
DTSTART;TZID=America/Chicago:20240304T160000
DTEND;TZID=America/Chicago:20240304T200000
DTSTAMP:20260420T193700
CREATED:20240216T161846Z
LAST-MODIFIED:20240424T115530Z
UID:10007923-1709568000-1709582400@www.springcreekoaks.org
SUMMARY:Field 1 - Ducks - 12U
DESCRIPTION:
URL:https://www.springcreekoaks.org/reservations/field-1-ducks-12u/2024-03-04/
LOCATION:Baseball Field 1\, United States
CATEGORIES:Baseball Fields
END:VEVENT
BEGIN:VEVENT
DTSTART;TZID=America/Chicago:20240304T170000
DTEND;TZID=America/Chicago:20240304T190000
DTSTAMP:20260420T193700
CREATED:20240115T174912Z
LAST-MODIFIED:20240115T180603Z
UID:10006660-1709571600-1709578800@www.springcreekoaks.org
SUMMARY:Kuehnle courts 3-4\, Coach Danny
DESCRIPTION:
URL:https://www.springcreekoaks.org/reservations/kuehnle-courts-3-4-coach-danny-2/2024-03-04/
CATEGORIES:Tennis
END:VEVENT
BEGIN:VEVENT
DTSTART;TZID=America/Chicago:20240304T190000
DTEND;TZID=America/Chicago:20240304T220000
DTSTAMP:20260420T193700
CREATED:20230909T134836Z
LAST-MODIFIED:20230909T134836Z
UID:10006297-1709578800-1709589600@www.springcreekoaks.org
SUMMARY:CH 2 courts 1-6\, NHTA A2
DESCRIPTION:
URL:https://www.springcreekoaks.org/reservations/ch-2-courts-1-6-nhta-a2-3/2024-03-04/
CATEGORIES:Tennis
END:VEVENT
BEGIN:VEVENT
DTSTART;TZID=America/Chicago:20240305T083000
DTEND;TZID=America/Chicago:20240305T120000
DTSTAMP:20260420T193700
CREATED:20231126T144446Z
LAST-MODIFIED:20231126T144859Z
UID:10003327-1709627400-1709640000@www.springcreekoaks.org
SUMMARY:CH 1 courts 2-3\, Palmer
DESCRIPTION:
URL:https://www.springcreekoaks.org/reservations/ch-1-courts-2-3-palmer/2024-03-05/
CATEGORIES:Tennis
END:VEVENT
BEGIN:VEVENT
DTSTART;TZID=America/Chicago:20240305T090000
DTEND;TZID=America/Chicago:20240305T110000
DTSTAMP:20260420T193700
CREATED:20240115T175133Z
LAST-MODIFIED:20240416T023409Z
UID:10006732-1709629200-1709636400@www.springcreekoaks.org
SUMMARY:Kuehnle courts 3-4\, Coach Danny
DESCRIPTION:
URL:https://www.springcreekoaks.org/reservations/kuehnle-courts-3-4-coach-danny-3/2024-03-05/
CATEGORIES:Tennis
END:VEVENT
BEGIN:VEVENT
DTSTART;TZID=America/Chicago:20240305T153000
DTEND;TZID=America/Chicago:20240305T173000
DTSTAMP:20260420T193700
CREATED:20240129T181937Z
LAST-MODIFIED:20240129T181937Z
UID:10007492-1709652600-1709659800@www.springcreekoaks.org
SUMMARY:CH 2 courts 1-3\, NCS practice
DESCRIPTION:
URL:https://www.springcreekoaks.org/reservations/ch-2-courts-1-3-ncs-practice-4/2024-03-05/
CATEGORIES:Tennis
END:VEVENT
BEGIN:VEVENT
DTSTART;TZID=America/Chicago:20240305T160000
DTEND;TZID=America/Chicago:20240305T200000
DTSTAMP:20260420T193700
CREATED:20240117T135415Z
LAST-MODIFIED:20240117T135415Z
UID:10007358-1709654400-1709668800@www.springcreekoaks.org
SUMMARY:Field 1 - Young Guns - 12U
DESCRIPTION:
URL:https://www.springcreekoaks.org/reservations/field-1-young-guns-12u/2024-03-05/
LOCATION:Baseball Field 1\, United States
CATEGORIES:Baseball Fields
END:VEVENT
BEGIN:VEVENT
DTSTART;TZID=America/Chicago:20240305T160000
DTEND;TZID=America/Chicago:20240305T200000
DTSTAMP:20260420T193700
CREATED:20240117T135653Z
LAST-MODIFIED:20240117T135653Z
UID:10007382-1709654400-1709668800@www.springcreekoaks.org
SUMMARY:Field 2 - Hooks - 7U
DESCRIPTION:
URL:https://www.springcreekoaks.org/reservations/field-2-hooks-7u/2024-03-05/
LOCATION:Baseball Field 2\, United States
CATEGORIES:Baseball Fields
END:VEVENT
BEGIN:VEVENT
DTSTART;TZID=America/Chicago:20240305T160000
DTEND;TZID=America/Chicago:20240305T200000
DTSTAMP:20260420T193700
CREATED:20240117T135753Z
LAST-MODIFIED:20240117T140132Z
UID:10007404-1709654400-1709668800@www.springcreekoaks.org
SUMMARY:Field 3 - Hot Rod - 7U
DESCRIPTION:
URL:https://www.springcreekoaks.org/reservations/field-3-hot-rod-7u/2024-03-05/
LOCATION:Baseball Field 3\, United States
CATEGORIES:Baseball Fields
END:VEVENT
BEGIN:VEVENT
DTSTART;TZID=America/Chicago:20240305T160000
DTEND;TZID=America/Chicago:20240305T200000
DTSTAMP:20260420T193700
CREATED:20240201T124313Z
LAST-MODIFIED:20240424T115922Z
UID:10007526-1709654400-1709668800@www.springcreekoaks.org
SUMMARY:Field 4 - River Bandits - 6U
DESCRIPTION:
URL:https://www.springcreekoaks.org/reservations/field-4-river-bandits-6u/2024-03-05/
LOCATION:Baseball Field 4\, United States
CATEGORIES:Baseball Fields
END:VEVENT
BEGIN:VEVENT
DTSTART;TZID=America/Chicago:20240305T170000
DTEND;TZID=America/Chicago:20240305T193000
DTSTAMP:20260420T193700
CREATED:20240115T175240Z
LAST-MODIFIED:20240115T180452Z
UID:10006804-1709658000-1709667000@www.springcreekoaks.org
SUMMARY:Kuehnle courts 3-4\, Coach Danny
DESCRIPTION:
URL:https://www.springcreekoaks.org/reservations/kuehnle-courts-3-4-coach-danny-4/2024-03-05/
CATEGORIES:Tennis
END:VEVENT
BEGIN:VEVENT
DTSTART;TZID=America/Chicago:20240305T180000
DTEND;TZID=America/Chicago:20240305T210000
DTSTAMP:20260420T193700
CREATED:20240130T071535Z
LAST-MODIFIED:20240131T153044Z
UID:10007503-1709661600-1709672400@www.springcreekoaks.org
SUMMARY:CH 2 PB courts 1-2\, A. Cortez
DESCRIPTION:
URL:https://www.springcreekoaks.org/reservations/ch-2-pb-courts-1-2-a-cortez/2024-03-05/
CATEGORIES:Tennis
END:VEVENT
BEGIN:VEVENT
DTSTART;TZID=America/Chicago:20240306T090000
DTEND;TZID=America/Chicago:20240306T113000
DTSTAMP:20260420T193700
CREATED:20231205T012455Z
LAST-MODIFIED:20240107T024742Z
UID:10004065-1709715600-1709724600@www.springcreekoaks.org
SUMMARY:CH 1 courts 2-3\, Hudson
DESCRIPTION:
URL:https://www.springcreekoaks.org/reservations/ch-1-courts-2-3-hudson-2/2024-03-06/
CATEGORIES:Tennis
END:VEVENT
BEGIN:VEVENT
DTSTART;TZID=America/Chicago:20240306T100000
DTEND;TZID=America/Chicago:20240306T110000
DTSTAMP:20260420T193700
CREATED:20240115T175343Z
LAST-MODIFIED:20240416T023303Z
UID:10006876-1709719200-1709722800@www.springcreekoaks.org
SUMMARY:Kuehnle courts 3-4\, Coach Danny
DESCRIPTION:
URL:https://www.springcreekoaks.org/reservations/kuehnle-courts-3-4-coach-danny-5/2024-03-06/
CATEGORIES:Tennis
END:VEVENT
BEGIN:VEVENT
DTSTART;TZID=America/Chicago:20240306T153000
DTEND;TZID=America/Chicago:20240306T173000
DTSTAMP:20260420T193700
CREATED:20240129T004849Z
LAST-MODIFIED:20240129T004849Z
UID:10007483-1709739000-1709746200@www.springcreekoaks.org
SUMMARY:CH 2 courts 1-3\, NCS practice
DESCRIPTION:
URL:https://www.springcreekoaks.org/reservations/ch-2-courts-1-3-ncs-practice-3/2024-03-06/
CATEGORIES:Tennis
END:VEVENT
BEGIN:VEVENT
DTSTART;TZID=America/Chicago:20240306T160000
DTEND;TZID=America/Chicago:20240306T200000
DTSTAMP:20260420T193700
CREATED:20240117T135025Z
LAST-MODIFIED:20240117T135536Z
UID:10007157-1709740800-1709755200@www.springcreekoaks.org
SUMMARY:Field 2 - Orioles - 11U
DESCRIPTION:
URL:https://www.springcreekoaks.org/reservations/field-2-orioles-11u-2/2024-03-06/
LOCATION:Baseball Field 2\, United States
CATEGORIES:Baseball Fields
END:VEVENT
BEGIN:VEVENT
DTSTART;TZID=America/Chicago:20240306T160000
DTEND;TZID=America/Chicago:20240306T200000
DTSTAMP:20260420T193700
CREATED:20240201T124730Z
LAST-MODIFIED:20240424T115718Z
UID:10007657-1709740800-1709755200@www.springcreekoaks.org
SUMMARY:Field 1 - Jaguars - 14U
DESCRIPTION:
URL:https://www.springcreekoaks.org/reservations/field-1-jaguars-14u/2024-03-06/
LOCATION:Baseball Field 1\, United States
CATEGORIES:Baseball Fields
END:VEVENT
BEGIN:VEVENT
DTSTART;TZID=America/Chicago:20240306T170000
DTEND;TZID=America/Chicago:20240306T190000
DTSTAMP:20260420T193700
CREATED:20240115T175440Z
LAST-MODIFIED:20240115T180134Z
UID:10006948-1709744400-1709751600@www.springcreekoaks.org
SUMMARY:Kuehnle courts 3-4\, Coach Danny
DESCRIPTION:
URL:https://www.springcreekoaks.org/reservations/kuehnle-courts-3-4-coach-danny-6/2024-03-06/
CATEGORIES:Tennis
END:VEVENT
BEGIN:VEVENT
DTSTART;TZID=America/Chicago:20240307T083000
DTEND;TZID=America/Chicago:20240307T120000
DTSTAMP:20260420T193700
CREATED:20231126T144446Z
LAST-MODIFIED:20231126T144859Z
UID:10003328-1709800200-1709812800@www.springcreekoaks.org
SUMMARY:CH 1 courts 2-3\, Palmer
DESCRIPTION:
URL:https://www.springcreekoaks.org/reservations/ch-1-courts-2-3-palmer/2024-03-07/
CATEGORIES:Tennis
END:VEVENT
BEGIN:VEVENT
DTSTART;TZID=America/Chicago:20240307T090000
DTEND;TZID=America/Chicago:20240307T110000
DTSTAMP:20260420T193700
CREATED:20240115T175542Z
LAST-MODIFIED:20240416T023143Z
UID:10007020-1709802000-1709809200@www.springcreekoaks.org
SUMMARY:Kuehnle courts 3-4\, Coach Danny
DESCRIPTION:
URL:https://www.springcreekoaks.org/reservations/kuehnle-courts-3-4-coach-danny-7/2024-03-07/
CATEGORIES:Tennis
END:VEVENT
BEGIN:VEVENT
DTSTART;TZID=America/Chicago:20240307T153000
DTEND;TZID=America/Chicago:20240307T173000
DTSTAMP:20260420T193700
CREATED:20240129T180239Z
LAST-MODIFIED:20240129T182941Z
UID:10007486-1709825400-1709832600@www.springcreekoaks.org
SUMMARY:CH 2 courts 1-6\, NCS match
DESCRIPTION:
URL:https://www.springcreekoaks.org/reservations/ch-2-courts-1-6-ncs-match-day/
CATEGORIES:Tennis
END:VEVENT
BEGIN:VEVENT
DTSTART;TZID=America/Chicago:20240307T153000
DTEND;TZID=America/Chicago:20240307T173000
DTSTAMP:20260420T193700
CREATED:20240129T181937Z
LAST-MODIFIED:20240129T181937Z
UID:10007493-1709825400-1709832600@www.springcreekoaks.org
SUMMARY:CH 2 courts 1-3\, NCS practice
DESCRIPTION:
URL:https://www.springcreekoaks.org/reservations/ch-2-courts-1-3-ncs-practice-4/2024-03-07/
CATEGORIES:Tennis
END:VEVENT
END:VCALENDAR