BEGIN:VCALENDAR
VERSION:2.0
PRODID:-//Spring Creek Oaks - ECPv6.15.20//NONSGML v1.0//EN
CALSCALE:GREGORIAN
METHOD:PUBLISH
X-ORIGINAL-URL:https://www.springcreekoaks.org
X-WR-CALDESC:Events for Spring Creek Oaks
REFRESH-INTERVAL;VALUE=DURATION:PT1H
X-Robots-Tag:noindex
X-PUBLISHED-TTL:PT1H
BEGIN:VTIMEZONE
TZID:America/Chicago
BEGIN:DAYLIGHT
TZOFFSETFROM:-0600
TZOFFSETTO:-0500
TZNAME:CDT
DTSTART:20230312T080000
END:DAYLIGHT
BEGIN:STANDARD
TZOFFSETFROM:-0500
TZOFFSETTO:-0600
TZNAME:CST
DTSTART:20231105T070000
END:STANDARD
BEGIN:DAYLIGHT
TZOFFSETFROM:-0600
TZOFFSETTO:-0500
TZNAME:CDT
DTSTART:20240310T080000
END:DAYLIGHT
BEGIN:STANDARD
TZOFFSETFROM:-0500
TZOFFSETTO:-0600
TZNAME:CST
DTSTART:20241103T070000
END:STANDARD
BEGIN:DAYLIGHT
TZOFFSETFROM:-0600
TZOFFSETTO:-0500
TZNAME:CDT
DTSTART:20250309T080000
END:DAYLIGHT
BEGIN:STANDARD
TZOFFSETFROM:-0500
TZOFFSETTO:-0600
TZNAME:CST
DTSTART:20251102T070000
END:STANDARD
END:VTIMEZONE
BEGIN:VEVENT
DTSTART;TZID=America/Chicago:20240204T160000
DTEND;TZID=America/Chicago:20240204T200000
DTSTAMP:20260422T173851
CREATED:20240201T124730Z
LAST-MODIFIED:20240424T115718Z
UID:10007648-1707062400-1707076800@www.springcreekoaks.org
SUMMARY:Field 1 - Jaguars - 14U
DESCRIPTION:
URL:https://www.springcreekoaks.org/reservations/field-1-jaguars-14u/2024-02-04/
LOCATION:Baseball Field 1\, United States
CATEGORIES:Baseball Fields
END:VEVENT
BEGIN:VEVENT
DTSTART;TZID=America/Chicago:20240205T083000
DTEND;TZID=America/Chicago:20240205T110000
DTSTAMP:20260422T173851
CREATED:20240115T174755Z
LAST-MODIFIED:20240115T180718Z
UID:10006585-1707121800-1707130800@www.springcreekoaks.org
SUMMARY:Kuehnle courts 3-4\, Coach Danny
DESCRIPTION:
URL:https://www.springcreekoaks.org/reservations/kuehnle-courts-3-4-coach-danny/2024-02-05/
CATEGORIES:Tennis
END:VEVENT
BEGIN:VEVENT
DTSTART;TZID=America/Chicago:20240205T160000
DTEND;TZID=America/Chicago:20240205T200000
DTSTAMP:20260422T173851
CREATED:20240117T135025Z
LAST-MODIFIED:20240117T135536Z
UID:10007148-1707148800-1707163200@www.springcreekoaks.org
SUMMARY:Field 2 - Orioles - 11U
DESCRIPTION:
URL:https://www.springcreekoaks.org/reservations/field-2-orioles-11u-2/2024-02-05/
LOCATION:Baseball Field 2\, United States
CATEGORIES:Baseball Fields
END:VEVENT
BEGIN:VEVENT
DTSTART;TZID=America/Chicago:20240205T160000
DTEND;TZID=America/Chicago:20240205T200000
DTSTAMP:20260422T173851
CREATED:20240201T142117Z
LAST-MODIFIED:20240424T115832Z
UID:10007778-1707148800-1707163200@www.springcreekoaks.org
SUMMARY:Field 3 - Rail Riders - 6U
DESCRIPTION:
URL:https://www.springcreekoaks.org/reservations/field-3-rail-riders-6u/2024-02-05/
LOCATION:Baseball Field 3\, United States
CATEGORIES:Baseball Fields
END:VEVENT
BEGIN:VEVENT
DTSTART;TZID=America/Chicago:20240205T170000
DTEND;TZID=America/Chicago:20240205T190000
DTSTAMP:20260422T173851
CREATED:20240115T174912Z
LAST-MODIFIED:20240115T180603Z
UID:10006656-1707152400-1707159600@www.springcreekoaks.org
SUMMARY:Kuehnle courts 3-4\, Coach Danny
DESCRIPTION:
URL:https://www.springcreekoaks.org/reservations/kuehnle-courts-3-4-coach-danny-2/2024-02-05/
CATEGORIES:Tennis
END:VEVENT
BEGIN:VEVENT
DTSTART;TZID=America/Chicago:20240206T083000
DTEND;TZID=America/Chicago:20240206T120000
DTSTAMP:20260422T173851
CREATED:20231126T144446Z
LAST-MODIFIED:20231126T144859Z
UID:10003315-1707208200-1707220800@www.springcreekoaks.org
SUMMARY:CH 1 courts 2-3\, Palmer
DESCRIPTION:
URL:https://www.springcreekoaks.org/reservations/ch-1-courts-2-3-palmer/2024-02-06/
CATEGORIES:Tennis
END:VEVENT
BEGIN:VEVENT
DTSTART;TZID=America/Chicago:20240206T090000
DTEND;TZID=America/Chicago:20240206T110000
DTSTAMP:20260422T173851
CREATED:20240115T175133Z
LAST-MODIFIED:20240416T023409Z
UID:10006728-1707210000-1707217200@www.springcreekoaks.org
SUMMARY:Kuehnle courts 3-4\, Coach Danny
DESCRIPTION:
URL:https://www.springcreekoaks.org/reservations/kuehnle-courts-3-4-coach-danny-3/2024-02-06/
CATEGORIES:Tennis
END:VEVENT
BEGIN:VEVENT
DTSTART;TZID=America/Chicago:20240206T160000
DTEND;TZID=America/Chicago:20240206T200000
DTSTAMP:20260422T173851
CREATED:20240117T135415Z
LAST-MODIFIED:20240117T135415Z
UID:10007350-1707235200-1707249600@www.springcreekoaks.org
SUMMARY:Field 1 - Young Guns - 12U
DESCRIPTION:
URL:https://www.springcreekoaks.org/reservations/field-1-young-guns-12u/2024-02-06/
LOCATION:Baseball Field 1\, United States
CATEGORIES:Baseball Fields
END:VEVENT
BEGIN:VEVENT
DTSTART;TZID=America/Chicago:20240206T160000
DTEND;TZID=America/Chicago:20240206T200000
DTSTAMP:20260422T173851
CREATED:20240117T135653Z
LAST-MODIFIED:20240117T135653Z
UID:10007378-1707235200-1707249600@www.springcreekoaks.org
SUMMARY:Field 2 - Hooks - 7U
DESCRIPTION:
URL:https://www.springcreekoaks.org/reservations/field-2-hooks-7u/2024-02-06/
LOCATION:Baseball Field 2\, United States
CATEGORIES:Baseball Fields
END:VEVENT
BEGIN:VEVENT
DTSTART;TZID=America/Chicago:20240206T160000
DTEND;TZID=America/Chicago:20240206T200000
DTSTAMP:20260422T173851
CREATED:20240117T135753Z
LAST-MODIFIED:20240117T140132Z
UID:10007396-1707235200-1707249600@www.springcreekoaks.org
SUMMARY:Field 3 - Hot Rod - 7U
DESCRIPTION:
URL:https://www.springcreekoaks.org/reservations/field-3-hot-rod-7u/2024-02-06/
LOCATION:Baseball Field 3\, United States
CATEGORIES:Baseball Fields
END:VEVENT
BEGIN:VEVENT
DTSTART;TZID=America/Chicago:20240206T160000
DTEND;TZID=America/Chicago:20240206T200000
DTSTAMP:20260422T173851
CREATED:20240201T124313Z
LAST-MODIFIED:20240424T115922Z
UID:10007518-1707235200-1707249600@www.springcreekoaks.org
SUMMARY:Field 4 - River Bandits - 6U
DESCRIPTION:
URL:https://www.springcreekoaks.org/reservations/field-4-river-bandits-6u/2024-02-06/
LOCATION:Baseball Field 4\, United States
CATEGORIES:Baseball Fields
END:VEVENT
BEGIN:VEVENT
DTSTART;TZID=America/Chicago:20240206T170000
DTEND;TZID=America/Chicago:20240206T193000
DTSTAMP:20260422T173851
CREATED:20240115T175240Z
LAST-MODIFIED:20240115T180452Z
UID:10006800-1707238800-1707247800@www.springcreekoaks.org
SUMMARY:Kuehnle courts 3-4\, Coach Danny
DESCRIPTION:
URL:https://www.springcreekoaks.org/reservations/kuehnle-courts-3-4-coach-danny-4/2024-02-06/
CATEGORIES:Tennis
END:VEVENT
BEGIN:VEVENT
DTSTART;TZID=America/Chicago:20240206T180000
DTEND;TZID=America/Chicago:20240206T210000
DTSTAMP:20260422T173851
CREATED:20240130T071535Z
LAST-MODIFIED:20240131T153044Z
UID:10007499-1707242400-1707253200@www.springcreekoaks.org
SUMMARY:CH 2 PB courts 1-2\, A. Cortez
DESCRIPTION:
URL:https://www.springcreekoaks.org/reservations/ch-2-pb-courts-1-2-a-cortez/2024-02-06/
CATEGORIES:Tennis
END:VEVENT
BEGIN:VEVENT
DTSTART;TZID=America/Chicago:20240207T090000
DTEND;TZID=America/Chicago:20240207T113000
DTSTAMP:20260422T173851
CREATED:20231205T012455Z
LAST-MODIFIED:20240107T024742Z
UID:10004061-1707296400-1707305400@www.springcreekoaks.org
SUMMARY:CH 1 courts 2-3\, Hudson
DESCRIPTION:
URL:https://www.springcreekoaks.org/reservations/ch-1-courts-2-3-hudson-2/2024-02-07/
CATEGORIES:Tennis
END:VEVENT
BEGIN:VEVENT
DTSTART;TZID=America/Chicago:20240207T100000
DTEND;TZID=America/Chicago:20240207T110000
DTSTAMP:20260422T173851
CREATED:20240115T175343Z
LAST-MODIFIED:20240416T023303Z
UID:10006872-1707300000-1707303600@www.springcreekoaks.org
SUMMARY:Kuehnle courts 3-4\, Coach Danny
DESCRIPTION:
URL:https://www.springcreekoaks.org/reservations/kuehnle-courts-3-4-coach-danny-5/2024-02-07/
CATEGORIES:Tennis
END:VEVENT
BEGIN:VEVENT
DTSTART;TZID=America/Chicago:20240207T160000
DTEND;TZID=America/Chicago:20240207T200000
DTSTAMP:20260422T173851
CREATED:20240117T135025Z
LAST-MODIFIED:20240117T135536Z
UID:10007149-1707321600-1707336000@www.springcreekoaks.org
SUMMARY:Field 2 - Orioles - 11U
DESCRIPTION:
URL:https://www.springcreekoaks.org/reservations/field-2-orioles-11u-2/2024-02-07/
LOCATION:Baseball Field 2\, United States
CATEGORIES:Baseball Fields
END:VEVENT
BEGIN:VEVENT
DTSTART;TZID=America/Chicago:20240207T160000
DTEND;TZID=America/Chicago:20240207T200000
DTSTAMP:20260422T173851
CREATED:20240201T124730Z
LAST-MODIFIED:20240424T115718Z
UID:10007649-1707321600-1707336000@www.springcreekoaks.org
SUMMARY:Field 1 - Jaguars - 14U
DESCRIPTION:
URL:https://www.springcreekoaks.org/reservations/field-1-jaguars-14u/2024-02-07/
LOCATION:Baseball Field 1\, United States
CATEGORIES:Baseball Fields
END:VEVENT
BEGIN:VEVENT
DTSTART;TZID=America/Chicago:20240207T170000
DTEND;TZID=America/Chicago:20240207T190000
DTSTAMP:20260422T173851
CREATED:20240115T175440Z
LAST-MODIFIED:20240115T180134Z
UID:10006944-1707325200-1707332400@www.springcreekoaks.org
SUMMARY:Kuehnle courts 3-4\, Coach Danny
DESCRIPTION:
URL:https://www.springcreekoaks.org/reservations/kuehnle-courts-3-4-coach-danny-6/2024-02-07/
CATEGORIES:Tennis
END:VEVENT
BEGIN:VEVENT
DTSTART;TZID=America/Chicago:20240207T190000
DTEND;TZID=America/Chicago:20240207T210000
DTSTAMP:20260422T173851
CREATED:20240108T131251Z
LAST-MODIFIED:20240130T071736Z
UID:10004120-1707332400-1707339600@www.springcreekoaks.org
SUMMARY:CH 2 PB courts 1-4\, J. Garnett
DESCRIPTION:
URL:https://www.springcreekoaks.org/reservations/ch-1-courts-2-3-j-garnett/
CATEGORIES:Tennis
END:VEVENT
BEGIN:VEVENT
DTSTART;TZID=America/Chicago:20240208T083000
DTEND;TZID=America/Chicago:20240208T120000
DTSTAMP:20260422T173851
CREATED:20231126T144446Z
LAST-MODIFIED:20231126T144859Z
UID:10003316-1707381000-1707393600@www.springcreekoaks.org
SUMMARY:CH 1 courts 2-3\, Palmer
DESCRIPTION:
URL:https://www.springcreekoaks.org/reservations/ch-1-courts-2-3-palmer/2024-02-08/
CATEGORIES:Tennis
END:VEVENT
BEGIN:VEVENT
DTSTART;TZID=America/Chicago:20240208T083000
DTEND;TZID=America/Chicago:20240208T120000
DTSTAMP:20260422T173851
CREATED:20240118T190533Z
LAST-MODIFIED:20240118T190533Z
UID:10007463-1707381000-1707393600@www.springcreekoaks.org
SUMMARY:Kuehnle courts 1-4\, NW league A1
DESCRIPTION:
URL:https://www.springcreekoaks.org/reservations/kuehnle-courts-1-4-nw-league-a1/2024-02-08/
CATEGORIES:Tennis
END:VEVENT
BEGIN:VEVENT
DTSTART;TZID=America/Chicago:20240208T090000
DTEND;TZID=America/Chicago:20240208T110000
DTSTAMP:20260422T173851
CREATED:20240118T193419Z
LAST-MODIFIED:20240118T193420Z
UID:10007016-1707382800-1707390000@www.springcreekoaks.org
SUMMARY:CH 2 courts 1-3\, Coach Danny
DESCRIPTION:
URL:https://www.springcreekoaks.org/reservations/kuehnle-courts-3-4-coach-danny-7-3/
CATEGORIES:Tennis
END:VEVENT
BEGIN:VEVENT
DTSTART;TZID=America/Chicago:20240208T160000
DTEND;TZID=America/Chicago:20240208T200000
DTSTAMP:20260422T173851
CREATED:20240117T135415Z
LAST-MODIFIED:20240117T135415Z
UID:10007351-1707408000-1707422400@www.springcreekoaks.org
SUMMARY:Field 1 - Young Guns - 12U
DESCRIPTION:
URL:https://www.springcreekoaks.org/reservations/field-1-young-guns-12u/2024-02-08/
LOCATION:Baseball Field 1\, United States
CATEGORIES:Baseball Fields
END:VEVENT
BEGIN:VEVENT
DTSTART;TZID=America/Chicago:20240208T160000
DTEND;TZID=America/Chicago:20240208T200000
DTSTAMP:20260422T173851
CREATED:20240117T135753Z
LAST-MODIFIED:20240117T140132Z
UID:10007397-1707408000-1707422400@www.springcreekoaks.org
SUMMARY:Field 3 - Hot Rod - 7U
DESCRIPTION:
URL:https://www.springcreekoaks.org/reservations/field-3-hot-rod-7u/2024-02-08/
LOCATION:Baseball Field 3\, United States
CATEGORIES:Baseball Fields
END:VEVENT
BEGIN:VEVENT
DTSTART;TZID=America/Chicago:20240208T160000
DTEND;TZID=America/Chicago:20240208T200000
DTSTAMP:20260422T173851
CREATED:20240201T124313Z
LAST-MODIFIED:20240424T115922Z
UID:10007519-1707408000-1707422400@www.springcreekoaks.org
SUMMARY:Field 4 - River Bandits - 6U
DESCRIPTION:
URL:https://www.springcreekoaks.org/reservations/field-4-river-bandits-6u/2024-02-08/
LOCATION:Baseball Field 4\, United States
CATEGORIES:Baseball Fields
END:VEVENT
BEGIN:VEVENT
DTSTART;TZID=America/Chicago:20240208T160000
DTEND;TZID=America/Chicago:20240208T200000
DTSTAMP:20260422T173851
CREATED:20240201T200320Z
LAST-MODIFIED:20240424T120009Z
UID:10007844-1707408000-1707422400@www.springcreekoaks.org
SUMMARY:Field 2 - Blue Rocks - 7U
DESCRIPTION:
URL:https://www.springcreekoaks.org/reservations/field-2-blue-rocks-7u/2024-02-08/
LOCATION:Baseball Field 2\, United States
CATEGORIES:Baseball Fields
END:VEVENT
BEGIN:VEVENT
DTSTART;TZID=America/Chicago:20240208T190000
DTEND;TZID=America/Chicago:20240208T220000
DTSTAMP:20260422T173851
CREATED:20240113T021559Z
LAST-MODIFIED:20240131T152936Z
UID:10006526-1707418800-1707429600@www.springcreekoaks.org
SUMMARY:CH 2 PB courts 3-4\, P. Guzman
DESCRIPTION:
URL:https://www.springcreekoaks.org/reservations/ch-1-courts-2-3-p-guzman/2024-02-08/
CATEGORIES:Tennis
END:VEVENT
BEGIN:VEVENT
DTSTART;TZID=America/Chicago:20240209T083000
DTEND;TZID=America/Chicago:20240209T120000
DTSTAMP:20260422T173851
CREATED:20240117T020642Z
LAST-MODIFIED:20240117T020642Z
UID:10007135-1707467400-1707480000@www.springcreekoaks.org
SUMMARY:CH 2 courts 1-4\, JR Open 2 Nacewski
DESCRIPTION:
URL:https://www.springcreekoaks.org/reservations/ch-2-courts-1-4-jr-open-2-nacewski/2024-02-09/
CATEGORIES:Tennis
END:VEVENT
BEGIN:VEVENT
DTSTART;TZID=America/Chicago:20240209T160000
DTEND;TZID=America/Chicago:20240209T200000
DTSTAMP:20260422T173851
CREATED:20240117T135855Z
LAST-MODIFIED:20240117T135855Z
UID:10007425-1707494400-1707508800@www.springcreekoaks.org
SUMMARY:Field 1 - Skeeters - 10U
DESCRIPTION:
URL:https://www.springcreekoaks.org/reservations/field-1-skeeters-10u/2024-02-09/
LOCATION:Baseball Field 1\, United States
CATEGORIES:Baseball Fields
END:VEVENT
BEGIN:VEVENT
DTSTART;TZID=America/Chicago:20240209T180000
DTEND;TZID=America/Chicago:20240209T190000
DTSTAMP:20260422T173851
CREATED:20240115T175843Z
LAST-MODIFIED:20240118T192404Z
UID:10007108-1707501600-1707505200@www.springcreekoaks.org
SUMMARY:Kuehnle courts 3-4\, Coach Danny
DESCRIPTION:
URL:https://www.springcreekoaks.org/reservations/kuehnle-courts-3-4-coach-danny-9/2024-02-09/
CATEGORIES:Tennis
END:VEVENT
END:VCALENDAR