BEGIN:VCALENDAR
VERSION:2.0
PRODID:-//Spring Creek Oaks - ECPv6.15.20//NONSGML v1.0//EN
CALSCALE:GREGORIAN
METHOD:PUBLISH
X-ORIGINAL-URL:https://www.springcreekoaks.org
X-WR-CALDESC:Events for Spring Creek Oaks
REFRESH-INTERVAL;VALUE=DURATION:PT1H
X-Robots-Tag:noindex
X-PUBLISHED-TTL:PT1H
BEGIN:VTIMEZONE
TZID:America/Chicago
BEGIN:DAYLIGHT
TZOFFSETFROM:-0600
TZOFFSETTO:-0500
TZNAME:CDT
DTSTART:20220313T080000
END:DAYLIGHT
BEGIN:STANDARD
TZOFFSETFROM:-0500
TZOFFSETTO:-0600
TZNAME:CST
DTSTART:20221106T070000
END:STANDARD
BEGIN:DAYLIGHT
TZOFFSETFROM:-0600
TZOFFSETTO:-0500
TZNAME:CDT
DTSTART:20230312T080000
END:DAYLIGHT
BEGIN:STANDARD
TZOFFSETFROM:-0500
TZOFFSETTO:-0600
TZNAME:CST
DTSTART:20231105T070000
END:STANDARD
BEGIN:DAYLIGHT
TZOFFSETFROM:-0600
TZOFFSETTO:-0500
TZNAME:CDT
DTSTART:20240310T080000
END:DAYLIGHT
BEGIN:STANDARD
TZOFFSETFROM:-0500
TZOFFSETTO:-0600
TZNAME:CST
DTSTART:20241103T070000
END:STANDARD
END:VTIMEZONE
BEGIN:VEVENT
DTSTART;VALUE=DATE:20231105
DTEND;VALUE=DATE:20231106
DTSTAMP:20260423T113446
CREATED:20231104T141435Z
LAST-MODIFIED:20231104T141435Z
UID:10006344-1699142400-1699228799@www.springcreekoaks.org
SUMMARY:Haley CH2
DESCRIPTION:
URL:https://www.springcreekoaks.org/reservations/haley-ch2/
LOCATION:Clubhouse 2\, 6002 Bur Oak Dr\, Spring\, 77379\, United States
CATEGORIES:Clubhouses
GEO:30.037539;-95.5070911
X-APPLE-STRUCTURED-LOCATION;VALUE=URI;X-ADDRESS=Clubhouse 2 6002 Bur Oak Dr Spring 77379 United States;X-APPLE-RADIUS=500;X-TITLE=6002 Bur Oak Dr:geo:-95.5070911,30.037539
END:VEVENT
BEGIN:VEVENT
DTSTART;TZID=America/Chicago:20231105T090000
DTEND;TZID=America/Chicago:20231105T140000
DTSTAMP:20260423T113446
CREATED:20230328T012811Z
LAST-MODIFIED:20230328T012811Z
UID:10002228-1699174800-1699192800@www.springcreekoaks.org
SUMMARY:SCO Tennis Camp CH2
DESCRIPTION:
URL:https://www.springcreekoaks.org/reservations/sco-tennis-camp-ch2-3/2023-11-05/
LOCATION:Clubhouse 2\, 6002 Bur Oak Dr\, Spring\, 77379\, United States
CATEGORIES:Clubhouses
GEO:30.037539;-95.5070911
X-APPLE-STRUCTURED-LOCATION;VALUE=URI;X-ADDRESS=Clubhouse 2 6002 Bur Oak Dr Spring 77379 United States;X-APPLE-RADIUS=500;X-TITLE=6002 Bur Oak Dr:geo:-95.5070911,30.037539
END:VEVENT
BEGIN:VEVENT
DTSTART;TZID=America/Chicago:20231106T083000
DTEND;TZID=America/Chicago:20231106T100000
DTSTAMP:20260423T113446
CREATED:20230814T130951Z
LAST-MODIFIED:20230814T130951Z
UID:10003577-1699259400-1699264800@www.springcreekoaks.org
SUMMARY:Kuehnle courts 3-4\, Ladies open drill\, tennis pro Danny
DESCRIPTION:
URL:https://www.springcreekoaks.org/reservations/kuehnle-courts-3-4-ladies-open-drill-tennis-pro-danny/2023-11-06/
CATEGORIES:Tennis
END:VEVENT
BEGIN:VEVENT
DTSTART;TZID=America/Chicago:20231106T083000
DTEND;TZID=America/Chicago:20231106T120000
DTSTAMP:20260423T113446
CREATED:20230823T105349Z
LAST-MODIFIED:20230823T105349Z
UID:10006106-1699259400-1699272000@www.springcreekoaks.org
SUMMARY:CH 2 courts 1-4\, HLTA Champ 2 North
DESCRIPTION:
URL:https://www.springcreekoaks.org/reservations/ch-2-courts-1-4-hlta-champ-2-north-4/2023-11-06/
CATEGORIES:Tennis
END:VEVENT
BEGIN:VEVENT
DTSTART;TZID=America/Chicago:20231106T090000
DTEND;TZID=America/Chicago:20231106T140000
DTSTAMP:20260423T113446
CREATED:20230328T012811Z
LAST-MODIFIED:20230328T012811Z
UID:10002229-1699261200-1699279200@www.springcreekoaks.org
SUMMARY:SCO Tennis Camp CH2
DESCRIPTION:
URL:https://www.springcreekoaks.org/reservations/sco-tennis-camp-ch2-3/2023-11-06/
LOCATION:Clubhouse 2\, 6002 Bur Oak Dr\, Spring\, 77379\, United States
CATEGORIES:Clubhouses
GEO:30.037539;-95.5070911
X-APPLE-STRUCTURED-LOCATION;VALUE=URI;X-ADDRESS=Clubhouse 2 6002 Bur Oak Dr Spring 77379 United States;X-APPLE-RADIUS=500;X-TITLE=6002 Bur Oak Dr:geo:-95.5070911,30.037539
END:VEVENT
BEGIN:VEVENT
DTSTART;TZID=America/Chicago:20231106T100000
DTEND;TZID=America/Chicago:20231106T110000
DTSTAMP:20260423T113446
CREATED:20230814T131112Z
LAST-MODIFIED:20230814T131112Z
UID:10005830-1699264800-1699268400@www.springcreekoaks.org
SUMMARY:Kuehnle courts 3-4\, Intermediate Home School class
DESCRIPTION:
URL:https://www.springcreekoaks.org/reservations/kuehnle-courts-3-4-intermediate-home-school-class/2023-11-06/
CATEGORIES:Tennis
END:VEVENT
BEGIN:VEVENT
DTSTART;TZID=America/Chicago:20231106T160000
DTEND;TZID=America/Chicago:20231106T200000
DTSTAMP:20260423T113446
CREATED:20230703T125231Z
LAST-MODIFIED:20230703T125231Z
UID:10005744-1699286400-1699300800@www.springcreekoaks.org
SUMMARY:Field 1 - Texas Havoc - 10U
DESCRIPTION:
URL:https://www.springcreekoaks.org/reservations/field-1-texas-havoc-10u/2023-11-06/
LOCATION:Baseball Field 1\, United States
CATEGORIES:Baseball Fields
END:VEVENT
BEGIN:VEVENT
DTSTART;TZID=America/Chicago:20231106T160000
DTEND;TZID=America/Chicago:20231106T200000
DTSTAMP:20260423T113446
CREATED:20230710T115703Z
LAST-MODIFIED:20230710T115703Z
UID:10005794-1699286400-1699300800@www.springcreekoaks.org
SUMMARY:Field 2 - Orioles - 11U
DESCRIPTION:
URL:https://www.springcreekoaks.org/reservations/field-2-orioles-11u/2023-11-06/
LOCATION:Baseball Field 2\, United States
CATEGORIES:Baseball Fields
END:VEVENT
BEGIN:VEVENT
DTSTART;TZID=America/Chicago:20231106T160000
DTEND;TZID=America/Chicago:20231106T200000
DTSTAMP:20260423T113446
CREATED:20230824T141412Z
LAST-MODIFIED:20230824T141412Z
UID:10006202-1699286400-1699300800@www.springcreekoaks.org
SUMMARY:Field 3 - Jaguars - 14U
DESCRIPTION:
URL:https://www.springcreekoaks.org/reservations/field-3-jaguars-14u-2/2023-11-06/
LOCATION:Baseball Field 3\, United States
CATEGORIES:Baseball Fields
END:VEVENT
BEGIN:VEVENT
DTSTART;TZID=America/Chicago:20231106T170000
DTEND;TZID=America/Chicago:20231106T180000
DTSTAMP:20260423T113446
CREATED:20230814T131224Z
LAST-MODIFIED:20230814T131224Z
UID:10005849-1699290000-1699293600@www.springcreekoaks.org
SUMMARY:Kuehnle courts 3-4\, Orange ball class
DESCRIPTION:
URL:https://www.springcreekoaks.org/reservations/kuehnle-courts-3-4-orange-ball-class/2023-11-06/
CATEGORIES:Tennis
END:VEVENT
BEGIN:VEVENT
DTSTART;TZID=America/Chicago:20231106T180000
DTEND;TZID=America/Chicago:20231106T190000
DTSTAMP:20260423T113446
CREATED:20230814T131344Z
LAST-MODIFIED:20230814T131344Z
UID:10005868-1699293600-1699297200@www.springcreekoaks.org
SUMMARY:Kuehnle courts 3-4\, Yellow ball class
DESCRIPTION:
URL:https://www.springcreekoaks.org/reservations/kuehnle-courts-3-4-yellow-ball-class/2023-11-06/
CATEGORIES:Tennis
END:VEVENT
BEGIN:VEVENT
DTSTART;TZID=America/Chicago:20231106T180000
DTEND;TZID=America/Chicago:20231106T220000
DTSTAMP:20260423T113446
CREATED:20231023T134030Z
LAST-MODIFIED:20231023T134208Z
UID:10003683-1699293600-1699308000@www.springcreekoaks.org
SUMMARY:CH 1 courts 2-3\, Monday night pickleball\, Blackburn
DESCRIPTION:
URL:https://www.springcreekoaks.org/reservations/ch-1-courts-2-3-monday-night-pickleball-blackburn/2023-11-06/
CATEGORIES:Tennis
END:VEVENT
BEGIN:VEVENT
DTSTART;TZID=America/Chicago:20231106T190000
DTEND;TZID=America/Chicago:20231106T200000
DTSTAMP:20260423T113446
CREATED:20230814T131523Z
LAST-MODIFIED:20230814T131523Z
UID:10005887-1699297200-1699300800@www.springcreekoaks.org
SUMMARY:Kuehnle courts 3-4\, Adult drop-in drill\, all levels
DESCRIPTION:
URL:https://www.springcreekoaks.org/reservations/kuehnle-courts-3-4-adult-drop-in-drill-all-levels/2023-11-06/
CATEGORIES:Tennis
END:VEVENT
BEGIN:VEVENT
DTSTART;TZID=America/Chicago:20231106T190000
DTEND;TZID=America/Chicago:20231106T220000
DTSTAMP:20260423T113446
CREATED:20230909T134836Z
LAST-MODIFIED:20230909T134836Z
UID:10006295-1699297200-1699308000@www.springcreekoaks.org
SUMMARY:CH 2 courts 1-6\, NHTA A2
DESCRIPTION:
URL:https://www.springcreekoaks.org/reservations/ch-2-courts-1-6-nhta-a2-3/2023-11-06/
CATEGORIES:Tennis
END:VEVENT
BEGIN:VEVENT
DTSTART;TZID=America/Chicago:20231107T083000
DTEND;TZID=America/Chicago:20231107T120000
DTSTAMP:20260423T113446
CREATED:20231105T093248Z
LAST-MODIFIED:20231105T093248Z
UID:10004006-1699345800-1699358400@www.springcreekoaks.org
SUMMARY:Kuehnle court 2\, NWTL A1 rain makeup
DESCRIPTION:
URL:https://www.springcreekoaks.org/reservations/kuehnle-court-2-nwtl-a1-rain-makeup/2023-11-07/
CATEGORIES:Tennis
END:VEVENT
BEGIN:VEVENT
DTSTART;TZID=America/Chicago:20231107T090000
DTEND;TZID=America/Chicago:20231107T100000
DTSTAMP:20260423T113446
CREATED:20230814T131725Z
LAST-MODIFIED:20230814T131725Z
UID:10005906-1699347600-1699351200@www.springcreekoaks.org
SUMMARY:Kuehnle courts 3-4\, beginner Homeschool class
DESCRIPTION:
URL:https://www.springcreekoaks.org/reservations/kuehnle-courts-3-4-beginner-homeschool-class/2023-11-07/
CATEGORIES:Tennis
END:VEVENT
BEGIN:VEVENT
DTSTART;TZID=America/Chicago:20231107T090000
DTEND;TZID=America/Chicago:20231107T120000
DTSTAMP:20260423T113446
CREATED:20230819T184258Z
LAST-MODIFIED:20230907T224414Z
UID:10006116-1699347600-1699358400@www.springcreekoaks.org
SUMMARY:CH 1 courts 2-3\, Palmer
DESCRIPTION:
URL:https://www.springcreekoaks.org/reservations/ch-1-courts-2-3-pickleball-meet-and-greet-6/2023-11-07/
CATEGORIES:Tennis
END:VEVENT
BEGIN:VEVENT
DTSTART;TZID=America/Chicago:20231107T090000
DTEND;TZID=America/Chicago:20231107T120000
DTSTAMP:20260423T113446
CREATED:20230907T224932Z
LAST-MODIFIED:20230907T224932Z
UID:10006267-1699347600-1699358400@www.springcreekoaks.org
SUMMARY:CH 1 court 1\, Pickleball meet and greet
DESCRIPTION:
URL:https://www.springcreekoaks.org/reservations/ch-1-court-1-pickleball-meet-and-greet-2/2023-11-07/
CATEGORIES:Tennis
END:VEVENT
BEGIN:VEVENT
DTSTART;TZID=America/Chicago:20231107T090000
DTEND;TZID=America/Chicago:20231107T140000
DTSTAMP:20260423T113446
CREATED:20230328T012811Z
LAST-MODIFIED:20230328T012811Z
UID:10002230-1699347600-1699365600@www.springcreekoaks.org
SUMMARY:SCO Tennis Camp CH2
DESCRIPTION:
URL:https://www.springcreekoaks.org/reservations/sco-tennis-camp-ch2-3/2023-11-07/
LOCATION:Clubhouse 2\, 6002 Bur Oak Dr\, Spring\, 77379\, United States
CATEGORIES:Clubhouses
GEO:30.037539;-95.5070911
X-APPLE-STRUCTURED-LOCATION;VALUE=URI;X-ADDRESS=Clubhouse 2 6002 Bur Oak Dr Spring 77379 United States;X-APPLE-RADIUS=500;X-TITLE=6002 Bur Oak Dr:geo:-95.5070911,30.037539
END:VEVENT
BEGIN:VEVENT
DTSTART;TZID=America/Chicago:20231107T100000
DTEND;TZID=America/Chicago:20231107T110000
DTSTAMP:20260423T113446
CREATED:20230814T131902Z
LAST-MODIFIED:20230814T131902Z
UID:10005925-1699351200-1699354800@www.springcreekoaks.org
SUMMARY:Kuehnle courts 3-4\, intermediate homeschool class
DESCRIPTION:
URL:https://www.springcreekoaks.org/reservations/kuehnle-courts-3-4-intermediate-homeschool-class/2023-11-07/
CATEGORIES:Tennis
END:VEVENT
BEGIN:VEVENT
DTSTART;TZID=America/Chicago:20231107T160000
DTEND;TZID=America/Chicago:20231107T170000
DTSTAMP:20260423T113446
CREATED:20230814T132041Z
LAST-MODIFIED:20230814T132041Z
UID:10005944-1699372800-1699376400@www.springcreekoaks.org
SUMMARY:Kuehnle courts 3-4\, Red ball class
DESCRIPTION:
URL:https://www.springcreekoaks.org/reservations/kuehnle-courts-3-4-red-ball-class/2023-11-07/
CATEGORIES:Tennis
END:VEVENT
BEGIN:VEVENT
DTSTART;TZID=America/Chicago:20231107T160000
DTEND;TZID=America/Chicago:20231107T200000
DTSTAMP:20260423T113446
CREATED:20230703T125024Z
LAST-MODIFIED:20230703T125024Z
UID:10003536-1699372800-1699387200@www.springcreekoaks.org
SUMMARY:Field 2 - Texas Havoc - 12U
DESCRIPTION:
URL:https://www.springcreekoaks.org/reservations/field-2-texas-havoc-12u/2023-11-07/
LOCATION:Baseball Field 2\, United States
CATEGORIES:Baseball Fields
END:VEVENT
BEGIN:VEVENT
DTSTART;TZID=America/Chicago:20231107T160000
DTEND;TZID=America/Chicago:20231107T200000
DTSTAMP:20260423T113446
CREATED:20230703T125404Z
LAST-MODIFIED:20230703T125404Z
UID:10005762-1699372800-1699387200@www.springcreekoaks.org
SUMMARY:Field 1 - Hooks - 7U
DESCRIPTION:
URL:https://www.springcreekoaks.org/reservations/field-1-hooks-7u-2/2023-11-07/
LOCATION:Baseball Field 1\, United States
CATEGORIES:Baseball Fields
END:VEVENT
BEGIN:VEVENT
DTSTART;TZID=America/Chicago:20231107T160000
DTEND;TZID=America/Chicago:20231107T200000
DTSTAMP:20260423T113446
CREATED:20230711T214850Z
LAST-MODIFIED:20230711T214850Z
UID:10001243-1699372800-1699387200@www.springcreekoaks.org
SUMMARY:Field 4 - Eagles - 9U
DESCRIPTION:
URL:https://www.springcreekoaks.org/reservations/field-4-eagles-9u/2023-11-07/
LOCATION:Baseball Field 4\, United States
CATEGORIES:Baseball Fields
END:VEVENT
BEGIN:VEVENT
DTSTART;TZID=America/Chicago:20231107T160000
DTEND;TZID=America/Chicago:20231107T200000
DTSTAMP:20260423T113446
CREATED:20230726T111506Z
LAST-MODIFIED:20230726T111506Z
UID:10001277-1699372800-1699387200@www.springcreekoaks.org
SUMMARY:Field 3 - Young Guns - 12U
DESCRIPTION:
URL:https://www.springcreekoaks.org/reservations/field-3-young-guns-12u/2023-11-07/
LOCATION:Baseball Field 3\, United States
CATEGORIES:Baseball Fields
END:VEVENT
BEGIN:VEVENT
DTSTART;TZID=America/Chicago:20231107T170000
DTEND;TZID=America/Chicago:20231107T180000
DTSTAMP:20260423T113446
CREATED:20230814T132206Z
LAST-MODIFIED:20230814T132206Z
UID:10005963-1699376400-1699380000@www.springcreekoaks.org
SUMMARY:Kuehnle courts 3-4\, Green ball class
DESCRIPTION:
URL:https://www.springcreekoaks.org/reservations/kuehnle-courts-3-4-green-ball-class/2023-11-07/
CATEGORIES:Tennis
END:VEVENT
BEGIN:VEVENT
DTSTART;TZID=America/Chicago:20231107T180000
DTEND;TZID=America/Chicago:20231107T193000
DTSTAMP:20260423T113446
CREATED:20230814T132345Z
LAST-MODIFIED:20230814T132345Z
UID:10005982-1699380000-1699385400@www.springcreekoaks.org
SUMMARY:Kuehnle courts 3-4\, Yellow ball class
DESCRIPTION:
URL:https://www.springcreekoaks.org/reservations/kuehnle-courts-3-4-yellow-ball-class-2/2023-11-07/
CATEGORIES:Tennis
END:VEVENT
BEGIN:VEVENT
DTSTART;TZID=America/Chicago:20231107T180000
DTEND;TZID=America/Chicago:20231107T220000
DTSTAMP:20260423T113446
CREATED:20230830T121940Z
LAST-MODIFIED:20230915T171226Z
UID:10006216-1699380000-1699394400@www.springcreekoaks.org
SUMMARY:CH 1\, courts 2-3\, Junek
DESCRIPTION:
URL:https://www.springcreekoaks.org/reservations/ch-1-courts-2-3-junek/2023-11-07/
CATEGORIES:Tennis
END:VEVENT
BEGIN:VEVENT
DTSTART;TZID=America/Chicago:20231108T083000
DTEND;TZID=America/Chicago:20231108T120000
DTSTAMP:20260423T113446
CREATED:20231105T093248Z
LAST-MODIFIED:20231105T093248Z
UID:10004007-1699432200-1699444800@www.springcreekoaks.org
SUMMARY:Kuehnle court 2\, NWTL A1 rain makeup
DESCRIPTION:
URL:https://www.springcreekoaks.org/reservations/kuehnle-court-2-nwtl-a1-rain-makeup/2023-11-08/
CATEGORIES:Tennis
END:VEVENT
BEGIN:VEVENT
DTSTART;TZID=America/Chicago:20231108T090000
DTEND;TZID=America/Chicago:20231108T100000
DTSTAMP:20260423T113446
CREATED:20230814T132524Z
LAST-MODIFIED:20230814T132524Z
UID:10006001-1699434000-1699437600@www.springcreekoaks.org
SUMMARY:Kuehnle courts 3-4\, intermediate homeschool class
DESCRIPTION:
URL:https://www.springcreekoaks.org/reservations/kuehnle-courts-3-4-intermediate-homeschool-class-2/2023-11-08/
CATEGORIES:Tennis
END:VEVENT
END:VCALENDAR