BEGIN:VCALENDAR
VERSION:2.0
PRODID:-//Spring Creek Oaks - ECPv6.15.20//NONSGML v1.0//EN
CALSCALE:GREGORIAN
METHOD:PUBLISH
X-WR-CALNAME:Spring Creek Oaks
X-ORIGINAL-URL:https://www.springcreekoaks.org
X-WR-CALDESC:Events for Spring Creek Oaks
REFRESH-INTERVAL;VALUE=DURATION:PT1H
X-Robots-Tag:noindex
X-PUBLISHED-TTL:PT1H
BEGIN:VTIMEZONE
TZID:America/Chicago
BEGIN:DAYLIGHT
TZOFFSETFROM:-0600
TZOFFSETTO:-0500
TZNAME:CDT
DTSTART:20220313T080000
END:DAYLIGHT
BEGIN:STANDARD
TZOFFSETFROM:-0500
TZOFFSETTO:-0600
TZNAME:CST
DTSTART:20221106T070000
END:STANDARD
BEGIN:DAYLIGHT
TZOFFSETFROM:-0600
TZOFFSETTO:-0500
TZNAME:CDT
DTSTART:20230312T080000
END:DAYLIGHT
BEGIN:STANDARD
TZOFFSETFROM:-0500
TZOFFSETTO:-0600
TZNAME:CST
DTSTART:20231105T070000
END:STANDARD
BEGIN:DAYLIGHT
TZOFFSETFROM:-0600
TZOFFSETTO:-0500
TZNAME:CDT
DTSTART:20240310T080000
END:DAYLIGHT
BEGIN:STANDARD
TZOFFSETFROM:-0500
TZOFFSETTO:-0600
TZNAME:CST
DTSTART:20241103T070000
END:STANDARD
END:VTIMEZONE
BEGIN:VEVENT
DTSTART;VALUE=DATE:20230924
DTEND;VALUE=DATE:20230925
DTSTAMP:20260425T074302
CREATED:20230314T140728Z
LAST-MODIFIED:20230314T140728Z
UID:10005690-1695513600-1695599999@www.springcreekoaks.org
SUMMARY:Donohue CH2
DESCRIPTION:
URL:https://www.springcreekoaks.org/reservations/donohue-ch2-2/
LOCATION:Clubhouse 2\, 6002 Bur Oak Dr\, Spring\, 77379\, United States
CATEGORIES:Clubhouses
GEO:30.037539;-95.5070911
X-APPLE-STRUCTURED-LOCATION;VALUE=URI;X-ADDRESS=Clubhouse 2 6002 Bur Oak Dr Spring 77379 United States;X-APPLE-RADIUS=500;X-TITLE=6002 Bur Oak Dr:geo:-95.5070911,30.037539
END:VEVENT
BEGIN:VEVENT
DTSTART;TZID=America/Chicago:20230924T090000
DTEND;TZID=America/Chicago:20230924T140000
DTSTAMP:20260425T074302
CREATED:20230328T012811Z
LAST-MODIFIED:20230328T012811Z
UID:10002186-1695546000-1695564000@www.springcreekoaks.org
SUMMARY:SCO Tennis Camp CH2
DESCRIPTION:
URL:https://www.springcreekoaks.org/reservations/sco-tennis-camp-ch2-3/2023-09-24/
LOCATION:Clubhouse 2\, 6002 Bur Oak Dr\, Spring\, 77379\, United States
CATEGORIES:Clubhouses
GEO:30.037539;-95.5070911
X-APPLE-STRUCTURED-LOCATION;VALUE=URI;X-ADDRESS=Clubhouse 2 6002 Bur Oak Dr Spring 77379 United States;X-APPLE-RADIUS=500;X-TITLE=6002 Bur Oak Dr:geo:-95.5070911,30.037539
END:VEVENT
BEGIN:VEVENT
DTSTART;TZID=America/Chicago:20230925T083000
DTEND;TZID=America/Chicago:20230925T100000
DTSTAMP:20260425T074302
CREATED:20230814T130951Z
LAST-MODIFIED:20230814T130951Z
UID:10003571-1695630600-1695636000@www.springcreekoaks.org
SUMMARY:Kuehnle courts 3-4\, Ladies open drill\, tennis pro Danny
DESCRIPTION:
URL:https://www.springcreekoaks.org/reservations/kuehnle-courts-3-4-ladies-open-drill-tennis-pro-danny/2023-09-25/
LOCATION:TX
CATEGORIES:Tennis
END:VEVENT
BEGIN:VEVENT
DTSTART;TZID=America/Chicago:20230925T090000
DTEND;TZID=America/Chicago:20230925T120000
DTSTAMP:20260425T074302
CREATED:20230916T183938Z
LAST-MODIFIED:20230916T183938Z
UID:10006231-1695632400-1695643200@www.springcreekoaks.org
SUMMARY:CH 2 court 3\, Lopez
DESCRIPTION:
URL:https://www.springcreekoaks.org/reservations/ch-2-court-3-lopez-37/
LOCATION:TX
CATEGORIES:Tennis
END:VEVENT
BEGIN:VEVENT
DTSTART;TZID=America/Chicago:20230925T090000
DTEND;TZID=America/Chicago:20230925T120000
DTSTAMP:20260425T074302
CREATED:20230920T184658Z
LAST-MODIFIED:20230920T184658Z
UID:10006308-1695632400-1695643200@www.springcreekoaks.org
SUMMARY:CH 2 court 6\, Hudson
DESCRIPTION:
URL:https://www.springcreekoaks.org/reservations/ch-2-court-6-hudson-19/
LOCATION:TX
CATEGORIES:Tennis
END:VEVENT
BEGIN:VEVENT
DTSTART;TZID=America/Chicago:20230925T090000
DTEND;TZID=America/Chicago:20230925T140000
DTSTAMP:20260425T074302
CREATED:20230328T012811Z
LAST-MODIFIED:20230328T012811Z
UID:10002187-1695632400-1695650400@www.springcreekoaks.org
SUMMARY:SCO Tennis Camp CH2
DESCRIPTION:
URL:https://www.springcreekoaks.org/reservations/sco-tennis-camp-ch2-3/2023-09-25/
LOCATION:Clubhouse 2\, 6002 Bur Oak Dr\, Spring\, 77379\, United States
CATEGORIES:Clubhouses
GEO:30.037539;-95.5070911
X-APPLE-STRUCTURED-LOCATION;VALUE=URI;X-ADDRESS=Clubhouse 2 6002 Bur Oak Dr Spring 77379 United States;X-APPLE-RADIUS=500;X-TITLE=6002 Bur Oak Dr:geo:-95.5070911,30.037539
END:VEVENT
BEGIN:VEVENT
DTSTART;TZID=America/Chicago:20230925T100000
DTEND;TZID=America/Chicago:20230925T110000
DTSTAMP:20260425T074302
CREATED:20230814T131112Z
LAST-MODIFIED:20230814T131112Z
UID:10005824-1695636000-1695639600@www.springcreekoaks.org
SUMMARY:Kuehnle courts 3-4\, Intermediate Home School class
DESCRIPTION:
URL:https://www.springcreekoaks.org/reservations/kuehnle-courts-3-4-intermediate-home-school-class/2023-09-25/
LOCATION:TX
CATEGORIES:Tennis
END:VEVENT
BEGIN:VEVENT
DTSTART;TZID=America/Chicago:20230925T160000
DTEND;TZID=America/Chicago:20230925T200000
DTSTAMP:20260425T074302
CREATED:20230703T125231Z
LAST-MODIFIED:20230703T125231Z
UID:10005732-1695657600-1695672000@www.springcreekoaks.org
SUMMARY:Field 1 - Texas Havoc - 10U
DESCRIPTION:
URL:https://www.springcreekoaks.org/reservations/field-1-texas-havoc-10u/2023-09-25/
LOCATION:Baseball Field 1\, United States
CATEGORIES:Baseball Fields
END:VEVENT
BEGIN:VEVENT
DTSTART;TZID=America/Chicago:20230925T160000
DTEND;TZID=America/Chicago:20230925T200000
DTSTAMP:20260425T074302
CREATED:20230710T115703Z
LAST-MODIFIED:20230710T115703Z
UID:10005782-1695657600-1695672000@www.springcreekoaks.org
SUMMARY:Field 2 - Orioles - 11U
DESCRIPTION:
URL:https://www.springcreekoaks.org/reservations/field-2-orioles-11u/2023-09-25/
LOCATION:Baseball Field 2\, United States
CATEGORIES:Baseball Fields
END:VEVENT
BEGIN:VEVENT
DTSTART;TZID=America/Chicago:20230925T160000
DTEND;TZID=America/Chicago:20230925T200000
DTSTAMP:20260425T074302
CREATED:20230824T141412Z
LAST-MODIFIED:20230824T141412Z
UID:10006190-1695657600-1695672000@www.springcreekoaks.org
SUMMARY:Field 3 - Jaguars - 14U
DESCRIPTION:
URL:https://www.springcreekoaks.org/reservations/field-3-jaguars-14u-2/2023-09-25/
LOCATION:Baseball Field 3\, United States
CATEGORIES:Baseball Fields
END:VEVENT
BEGIN:VEVENT
DTSTART;TZID=America/Chicago:20230925T160000
DTEND;TZID=America/Chicago:20230925T200000
DTSTAMP:20260425T074302
CREATED:20230828T175357Z
LAST-MODIFIED:20230828T175820Z
UID:10003632-1695657600-1695672000@www.springcreekoaks.org
SUMMARY:Field 4 - Blue Rocks - 7U
DESCRIPTION:
URL:https://www.springcreekoaks.org/reservations/field-4-ibrahim-7u/2023-09-25/
LOCATION:Baseball Field 4\, United States
CATEGORIES:Baseball Fields
END:VEVENT
BEGIN:VEVENT
DTSTART;TZID=America/Chicago:20230925T170000
DTEND;TZID=America/Chicago:20230925T180000
DTSTAMP:20260425T074302
CREATED:20230814T131224Z
LAST-MODIFIED:20230814T131224Z
UID:10005843-1695661200-1695664800@www.springcreekoaks.org
SUMMARY:Kuehnle courts 3-4\, Orange ball class
DESCRIPTION:
URL:https://www.springcreekoaks.org/reservations/kuehnle-courts-3-4-orange-ball-class/2023-09-25/
LOCATION:TX
CATEGORIES:Tennis
END:VEVENT
BEGIN:VEVENT
DTSTART;TZID=America/Chicago:20230925T170000
DTEND;TZID=America/Chicago:20230925T200000
DTSTAMP:20260425T074302
CREATED:20230830T115016Z
LAST-MODIFIED:20230830T115016Z
UID:10001286-1695661200-1695672000@www.springcreekoaks.org
SUMMARY:Girls Lacrosse
DESCRIPTION:
URL:https://www.springcreekoaks.org/reservations/girls-lacrosse/2023-09-25/
LOCATION:Large Soccer Field (Bilma)\, United States
CATEGORIES:Soccer Fields
END:VEVENT
BEGIN:VEVENT
DTSTART;TZID=America/Chicago:20230925T180000
DTEND;TZID=America/Chicago:20230925T190000
DTSTAMP:20260425T074302
CREATED:20230814T131344Z
LAST-MODIFIED:20230814T131344Z
UID:10005862-1695664800-1695668400@www.springcreekoaks.org
SUMMARY:Kuehnle courts 3-4\, Yellow ball class
DESCRIPTION:
URL:https://www.springcreekoaks.org/reservations/kuehnle-courts-3-4-yellow-ball-class/2023-09-25/
LOCATION:TX
CATEGORIES:Tennis
END:VEVENT
BEGIN:VEVENT
DTSTART;TZID=America/Chicago:20230925T180000
DTEND;TZID=America/Chicago:20230925T200000
DTSTAMP:20260425T074302
CREATED:20230724T185620Z
LAST-MODIFIED:20231013T145755Z
UID:10003473-1695664800-1695672000@www.springcreekoaks.org
SUMMARY:Jenny Tyger (3rd graders soccer)
DESCRIPTION:
URL:https://www.springcreekoaks.org/reservations/jenny-tyger-3rd-graders-soccer/2023-09-25/
LOCATION:Small Soccer Field (CH 2)
CATEGORIES:Soccer Fields
END:VEVENT
BEGIN:VEVENT
DTSTART;TZID=America/Chicago:20230925T190000
DTEND;TZID=America/Chicago:20230925T200000
DTSTAMP:20260425T074302
CREATED:20230814T131523Z
LAST-MODIFIED:20230814T131523Z
UID:10005881-1695668400-1695672000@www.springcreekoaks.org
SUMMARY:Kuehnle courts 3-4\, Adult drop-in drill\, all levels
DESCRIPTION:
URL:https://www.springcreekoaks.org/reservations/kuehnle-courts-3-4-adult-drop-in-drill-all-levels/2023-09-25/
LOCATION:TX
CATEGORIES:Tennis
END:VEVENT
BEGIN:VEVENT
DTSTART;TZID=America/Chicago:20230925T190000
DTEND;TZID=America/Chicago:20230925T220000
DTSTAMP:20260425T074302
CREATED:20230909T134836Z
LAST-MODIFIED:20230909T134836Z
UID:10006292-1695668400-1695679200@www.springcreekoaks.org
SUMMARY:CH 2 courts 1-6\, NHTA A2
DESCRIPTION:
URL:https://www.springcreekoaks.org/reservations/ch-2-courts-1-6-nhta-a2-3/2023-09-25/
LOCATION:TX
CATEGORIES:Tennis
END:VEVENT
BEGIN:VEVENT
DTSTART;TZID=America/Chicago:20230926T080000
DTEND;TZID=America/Chicago:20230926T120000
DTSTAMP:20260425T074302
CREATED:20230914T160016Z
LAST-MODIFIED:20230914T160016Z
UID:10006307-1695715200-1695729600@www.springcreekoaks.org
SUMMARY:Kuehnle courts 1-2\, NW A1 rain makeup
DESCRIPTION:
URL:https://www.springcreekoaks.org/reservations/kuehnle-courts-1-2-nw-a1-rain-makeup/
LOCATION:TX
CATEGORIES:Tennis
END:VEVENT
BEGIN:VEVENT
DTSTART;TZID=America/Chicago:20230926T090000
DTEND;TZID=America/Chicago:20230926T100000
DTSTAMP:20260425T074302
CREATED:20230814T131725Z
LAST-MODIFIED:20230814T131725Z
UID:10005900-1695718800-1695722400@www.springcreekoaks.org
SUMMARY:Kuehnle courts 3-4\, beginner Homeschool class
DESCRIPTION:
URL:https://www.springcreekoaks.org/reservations/kuehnle-courts-3-4-beginner-homeschool-class/2023-09-26/
LOCATION:TX
CATEGORIES:Tennis
END:VEVENT
BEGIN:VEVENT
DTSTART;TZID=America/Chicago:20230926T090000
DTEND;TZID=America/Chicago:20230926T120000
DTSTAMP:20260425T074302
CREATED:20230819T184258Z
LAST-MODIFIED:20230907T224414Z
UID:10006110-1695718800-1695729600@www.springcreekoaks.org
SUMMARY:CH 1 courts 2-3\, Palmer
DESCRIPTION:
URL:https://www.springcreekoaks.org/reservations/ch-1-courts-2-3-pickleball-meet-and-greet-6/2023-09-26/
LOCATION:TX
CATEGORIES:Tennis
END:VEVENT
BEGIN:VEVENT
DTSTART;TZID=America/Chicago:20230926T090000
DTEND;TZID=America/Chicago:20230926T120000
DTSTAMP:20260425T074302
CREATED:20230907T224932Z
LAST-MODIFIED:20230907T224932Z
UID:10006261-1695718800-1695729600@www.springcreekoaks.org
SUMMARY:CH 1 court 1\, Pickleball meet and greet
DESCRIPTION:
URL:https://www.springcreekoaks.org/reservations/ch-1-court-1-pickleball-meet-and-greet-2/2023-09-26/
LOCATION:TX
CATEGORIES:Tennis
END:VEVENT
BEGIN:VEVENT
DTSTART;TZID=America/Chicago:20230926T090000
DTEND;TZID=America/Chicago:20230926T140000
DTSTAMP:20260425T074302
CREATED:20230328T012811Z
LAST-MODIFIED:20230328T012811Z
UID:10002188-1695718800-1695736800@www.springcreekoaks.org
SUMMARY:SCO Tennis Camp CH2
DESCRIPTION:
URL:https://www.springcreekoaks.org/reservations/sco-tennis-camp-ch2-3/2023-09-26/
LOCATION:Clubhouse 2\, 6002 Bur Oak Dr\, Spring\, 77379\, United States
CATEGORIES:Clubhouses
GEO:30.037539;-95.5070911
X-APPLE-STRUCTURED-LOCATION;VALUE=URI;X-ADDRESS=Clubhouse 2 6002 Bur Oak Dr Spring 77379 United States;X-APPLE-RADIUS=500;X-TITLE=6002 Bur Oak Dr:geo:-95.5070911,30.037539
END:VEVENT
BEGIN:VEVENT
DTSTART;TZID=America/Chicago:20230926T100000
DTEND;TZID=America/Chicago:20230926T110000
DTSTAMP:20260425T074302
CREATED:20230814T131902Z
LAST-MODIFIED:20230814T131902Z
UID:10005919-1695722400-1695726000@www.springcreekoaks.org
SUMMARY:Kuehnle courts 3-4\, intermediate homeschool class
DESCRIPTION:
URL:https://www.springcreekoaks.org/reservations/kuehnle-courts-3-4-intermediate-homeschool-class/2023-09-26/
LOCATION:TX
CATEGORIES:Tennis
END:VEVENT
BEGIN:VEVENT
DTSTART;TZID=America/Chicago:20230926T160000
DTEND;TZID=America/Chicago:20230926T170000
DTSTAMP:20260425T074302
CREATED:20230814T132041Z
LAST-MODIFIED:20230814T132041Z
UID:10005938-1695744000-1695747600@www.springcreekoaks.org
SUMMARY:Kuehnle courts 3-4\, Red ball class
DESCRIPTION:
URL:https://www.springcreekoaks.org/reservations/kuehnle-courts-3-4-red-ball-class/2023-09-26/
LOCATION:TX
CATEGORIES:Tennis
END:VEVENT
BEGIN:VEVENT
DTSTART;TZID=America/Chicago:20230926T160000
DTEND;TZID=America/Chicago:20230926T200000
DTSTAMP:20260425T074302
CREATED:20230703T125024Z
LAST-MODIFIED:20230703T125024Z
UID:10003524-1695744000-1695758400@www.springcreekoaks.org
SUMMARY:Field 2 - Texas Havoc - 12U
DESCRIPTION:
URL:https://www.springcreekoaks.org/reservations/field-2-texas-havoc-12u/2023-09-26/
LOCATION:Baseball Field 2\, United States
CATEGORIES:Baseball Fields
END:VEVENT
BEGIN:VEVENT
DTSTART;TZID=America/Chicago:20230926T160000
DTEND;TZID=America/Chicago:20230926T200000
DTSTAMP:20260425T074302
CREATED:20230703T125404Z
LAST-MODIFIED:20230703T125404Z
UID:10005756-1695744000-1695758400@www.springcreekoaks.org
SUMMARY:Field 1 - Hooks - 7U
DESCRIPTION:
URL:https://www.springcreekoaks.org/reservations/field-1-hooks-7u-2/2023-09-26/
LOCATION:Baseball Field 1\, United States
CATEGORIES:Baseball Fields
END:VEVENT
BEGIN:VEVENT
DTSTART;TZID=America/Chicago:20230926T160000
DTEND;TZID=America/Chicago:20230926T200000
DTSTAMP:20260425T074302
CREATED:20230711T214850Z
LAST-MODIFIED:20230711T214850Z
UID:10001231-1695744000-1695758400@www.springcreekoaks.org
SUMMARY:Field 4 - Eagles - 9U
DESCRIPTION:
URL:https://www.springcreekoaks.org/reservations/field-4-eagles-9u/2023-09-26/
LOCATION:Baseball Field 4\, United States
CATEGORIES:Baseball Fields
END:VEVENT
BEGIN:VEVENT
DTSTART;TZID=America/Chicago:20230926T160000
DTEND;TZID=America/Chicago:20230926T200000
DTSTAMP:20260425T074302
CREATED:20230726T111506Z
LAST-MODIFIED:20230726T111506Z
UID:10001265-1695744000-1695758400@www.springcreekoaks.org
SUMMARY:Field 3 - Young Guns - 12U
DESCRIPTION:
URL:https://www.springcreekoaks.org/reservations/field-3-young-guns-12u/2023-09-26/
LOCATION:Baseball Field 3\, United States
CATEGORIES:Baseball Fields
END:VEVENT
BEGIN:VEVENT
DTSTART;TZID=America/Chicago:20230926T170000
DTEND;TZID=America/Chicago:20230926T180000
DTSTAMP:20260425T074302
CREATED:20230814T132206Z
LAST-MODIFIED:20230814T132206Z
UID:10005957-1695747600-1695751200@www.springcreekoaks.org
SUMMARY:Kuehnle courts 3-4\, Green ball class
DESCRIPTION:
URL:https://www.springcreekoaks.org/reservations/kuehnle-courts-3-4-green-ball-class/2023-09-26/
LOCATION:TX
CATEGORIES:Tennis
END:VEVENT
BEGIN:VEVENT
DTSTART;TZID=America/Chicago:20230926T180000
DTEND;TZID=America/Chicago:20230926T193000
DTSTAMP:20260425T074302
CREATED:20230814T132345Z
LAST-MODIFIED:20230814T132345Z
UID:10005976-1695751200-1695756600@www.springcreekoaks.org
SUMMARY:Kuehnle courts 3-4\, Yellow ball class
DESCRIPTION:
URL:https://www.springcreekoaks.org/reservations/kuehnle-courts-3-4-yellow-ball-class-2/2023-09-26/
LOCATION:TX
CATEGORIES:Tennis
END:VEVENT
END:VCALENDAR