BEGIN:VCALENDAR
VERSION:2.0
PRODID:-//Spring Creek Oaks - ECPv6.15.20//NONSGML v1.0//EN
CALSCALE:GREGORIAN
METHOD:PUBLISH
X-ORIGINAL-URL:https://www.springcreekoaks.org
X-WR-CALDESC:Events for Spring Creek Oaks
REFRESH-INTERVAL;VALUE=DURATION:PT1H
X-Robots-Tag:noindex
X-PUBLISHED-TTL:PT1H
BEGIN:VTIMEZONE
TZID:America/Chicago
BEGIN:DAYLIGHT
TZOFFSETFROM:-0600
TZOFFSETTO:-0500
TZNAME:CDT
DTSTART:20220313T080000
END:DAYLIGHT
BEGIN:STANDARD
TZOFFSETFROM:-0500
TZOFFSETTO:-0600
TZNAME:CST
DTSTART:20221106T070000
END:STANDARD
BEGIN:DAYLIGHT
TZOFFSETFROM:-0600
TZOFFSETTO:-0500
TZNAME:CDT
DTSTART:20230312T080000
END:DAYLIGHT
BEGIN:STANDARD
TZOFFSETFROM:-0500
TZOFFSETTO:-0600
TZNAME:CST
DTSTART:20231105T070000
END:STANDARD
BEGIN:DAYLIGHT
TZOFFSETFROM:-0600
TZOFFSETTO:-0500
TZNAME:CDT
DTSTART:20240310T080000
END:DAYLIGHT
BEGIN:STANDARD
TZOFFSETFROM:-0500
TZOFFSETTO:-0600
TZNAME:CST
DTSTART:20241103T070000
END:STANDARD
END:VTIMEZONE
BEGIN:VEVENT
DTSTART;TZID=America/Chicago:20230917T080000
DTEND;TZID=America/Chicago:20230917T170000
DTSTAMP:20260425T110242
CREATED:20230914T200128Z
LAST-MODIFIED:20230914T200128Z
UID:10003117-1694937600-1694970000@www.springcreekoaks.org
SUMMARY:Blood drive CH2
DESCRIPTION:
URL:https://www.springcreekoaks.org/reservations/blood-drive-ch2/
LOCATION:Clubhouse 2\, 6002 Bur Oak Dr\, Spring\, 77379\, United States
CATEGORIES:Clubhouses
GEO:30.037539;-95.5070911
X-APPLE-STRUCTURED-LOCATION;VALUE=URI;X-ADDRESS=Clubhouse 2 6002 Bur Oak Dr Spring 77379 United States;X-APPLE-RADIUS=500;X-TITLE=6002 Bur Oak Dr:geo:-95.5070911,30.037539
END:VEVENT
BEGIN:VEVENT
DTSTART;TZID=America/Chicago:20230917T090000
DTEND;TZID=America/Chicago:20230917T140000
DTSTAMP:20260425T110242
CREATED:20230328T012811Z
LAST-MODIFIED:20230328T012811Z
UID:10002179-1694941200-1694959200@www.springcreekoaks.org
SUMMARY:SCO Tennis Camp CH2
DESCRIPTION:
URL:https://www.springcreekoaks.org/reservations/sco-tennis-camp-ch2-3/2023-09-17/
LOCATION:Clubhouse 2\, 6002 Bur Oak Dr\, Spring\, 77379\, United States
CATEGORIES:Clubhouses
GEO:30.037539;-95.5070911
X-APPLE-STRUCTURED-LOCATION;VALUE=URI;X-ADDRESS=Clubhouse 2 6002 Bur Oak Dr Spring 77379 United States;X-APPLE-RADIUS=500;X-TITLE=6002 Bur Oak Dr:geo:-95.5070911,30.037539
END:VEVENT
BEGIN:VEVENT
DTSTART;TZID=America/Chicago:20230918T083000
DTEND;TZID=America/Chicago:20230918T100000
DTSTAMP:20260425T110242
CREATED:20230814T130951Z
LAST-MODIFIED:20230814T130951Z
UID:10003570-1695025800-1695031200@www.springcreekoaks.org
SUMMARY:Kuehnle courts 3-4\, Ladies open drill\, tennis pro Danny
DESCRIPTION:
URL:https://www.springcreekoaks.org/reservations/kuehnle-courts-3-4-ladies-open-drill-tennis-pro-danny/2023-09-18/
LOCATION:TX
CATEGORIES:Tennis
END:VEVENT
BEGIN:VEVENT
DTSTART;TZID=America/Chicago:20230918T090000
DTEND;TZID=America/Chicago:20230918T140000
DTSTAMP:20260425T110242
CREATED:20230328T012811Z
LAST-MODIFIED:20230328T012811Z
UID:10002180-1695027600-1695045600@www.springcreekoaks.org
SUMMARY:SCO Tennis Camp CH2
DESCRIPTION:
URL:https://www.springcreekoaks.org/reservations/sco-tennis-camp-ch2-3/2023-09-18/
LOCATION:Clubhouse 2\, 6002 Bur Oak Dr\, Spring\, 77379\, United States
CATEGORIES:Clubhouses
GEO:30.037539;-95.5070911
X-APPLE-STRUCTURED-LOCATION;VALUE=URI;X-ADDRESS=Clubhouse 2 6002 Bur Oak Dr Spring 77379 United States;X-APPLE-RADIUS=500;X-TITLE=6002 Bur Oak Dr:geo:-95.5070911,30.037539
END:VEVENT
BEGIN:VEVENT
DTSTART;TZID=America/Chicago:20230918T090000
DTEND;TZID=America/Chicago:20230918T150000
DTSTAMP:20260425T110242
CREATED:20230916T183853Z
LAST-MODIFIED:20230916T183853Z
UID:10006232-1695027600-1695049200@www.springcreekoaks.org
SUMMARY:CH 2 courts 1-3\, Lopez
DESCRIPTION:
URL:https://www.springcreekoaks.org/reservations/ch-2-courts-1-3-lopez-10/
LOCATION:TX
CATEGORIES:Tennis
END:VEVENT
BEGIN:VEVENT
DTSTART;TZID=America/Chicago:20230918T100000
DTEND;TZID=America/Chicago:20230918T110000
DTSTAMP:20260425T110242
CREATED:20230814T131112Z
LAST-MODIFIED:20230814T131112Z
UID:10005823-1695031200-1695034800@www.springcreekoaks.org
SUMMARY:Kuehnle courts 3-4\, Intermediate Home School class
DESCRIPTION:
URL:https://www.springcreekoaks.org/reservations/kuehnle-courts-3-4-intermediate-home-school-class/2023-09-18/
LOCATION:TX
CATEGORIES:Tennis
END:VEVENT
BEGIN:VEVENT
DTSTART;TZID=America/Chicago:20230918T160000
DTEND;TZID=America/Chicago:20230918T200000
DTSTAMP:20260425T110242
CREATED:20230703T125231Z
LAST-MODIFIED:20230703T125231Z
UID:10005730-1695052800-1695067200@www.springcreekoaks.org
SUMMARY:Field 1 - Texas Havoc - 10U
DESCRIPTION:
URL:https://www.springcreekoaks.org/reservations/field-1-texas-havoc-10u/2023-09-18/
LOCATION:Baseball Field 1\, United States
CATEGORIES:Baseball Fields
END:VEVENT
BEGIN:VEVENT
DTSTART;TZID=America/Chicago:20230918T160000
DTEND;TZID=America/Chicago:20230918T200000
DTSTAMP:20260425T110242
CREATED:20230710T115703Z
LAST-MODIFIED:20230710T115703Z
UID:10005780-1695052800-1695067200@www.springcreekoaks.org
SUMMARY:Field 2 - Orioles - 11U
DESCRIPTION:
URL:https://www.springcreekoaks.org/reservations/field-2-orioles-11u/2023-09-18/
LOCATION:Baseball Field 2\, United States
CATEGORIES:Baseball Fields
END:VEVENT
BEGIN:VEVENT
DTSTART;TZID=America/Chicago:20230918T160000
DTEND;TZID=America/Chicago:20230918T200000
DTSTAMP:20260425T110242
CREATED:20230824T141412Z
LAST-MODIFIED:20230824T141412Z
UID:10006188-1695052800-1695067200@www.springcreekoaks.org
SUMMARY:Field 3 - Jaguars - 14U
DESCRIPTION:
URL:https://www.springcreekoaks.org/reservations/field-3-jaguars-14u-2/2023-09-18/
LOCATION:Baseball Field 3\, United States
CATEGORIES:Baseball Fields
END:VEVENT
BEGIN:VEVENT
DTSTART;TZID=America/Chicago:20230918T160000
DTEND;TZID=America/Chicago:20230918T200000
DTSTAMP:20260425T110242
CREATED:20230828T175357Z
LAST-MODIFIED:20230828T175820Z
UID:10003631-1695052800-1695067200@www.springcreekoaks.org
SUMMARY:Field 4 - Blue Rocks - 7U
DESCRIPTION:
URL:https://www.springcreekoaks.org/reservations/field-4-ibrahim-7u/2023-09-18/
LOCATION:Baseball Field 4\, United States
CATEGORIES:Baseball Fields
END:VEVENT
BEGIN:VEVENT
DTSTART;TZID=America/Chicago:20230918T170000
DTEND;TZID=America/Chicago:20230918T180000
DTSTAMP:20260425T110242
CREATED:20230814T131224Z
LAST-MODIFIED:20230814T131224Z
UID:10005842-1695056400-1695060000@www.springcreekoaks.org
SUMMARY:Kuehnle courts 3-4\, Orange ball class
DESCRIPTION:
URL:https://www.springcreekoaks.org/reservations/kuehnle-courts-3-4-orange-ball-class/2023-09-18/
LOCATION:TX
CATEGORIES:Tennis
END:VEVENT
BEGIN:VEVENT
DTSTART;TZID=America/Chicago:20230918T170000
DTEND;TZID=America/Chicago:20230918T200000
DTSTAMP:20260425T110242
CREATED:20230830T115016Z
LAST-MODIFIED:20230830T115016Z
UID:10001284-1695056400-1695067200@www.springcreekoaks.org
SUMMARY:Girls Lacrosse
DESCRIPTION:
URL:https://www.springcreekoaks.org/reservations/girls-lacrosse/2023-09-18/
LOCATION:Large Soccer Field (Bilma)\, United States
CATEGORIES:Soccer Fields
END:VEVENT
BEGIN:VEVENT
DTSTART;TZID=America/Chicago:20230918T180000
DTEND;TZID=America/Chicago:20230918T190000
DTSTAMP:20260425T110242
CREATED:20230814T131344Z
LAST-MODIFIED:20230814T131344Z
UID:10005861-1695060000-1695063600@www.springcreekoaks.org
SUMMARY:Kuehnle courts 3-4\, Yellow ball class
DESCRIPTION:
URL:https://www.springcreekoaks.org/reservations/kuehnle-courts-3-4-yellow-ball-class/2023-09-18/
LOCATION:TX
CATEGORIES:Tennis
END:VEVENT
BEGIN:VEVENT
DTSTART;TZID=America/Chicago:20230918T180000
DTEND;TZID=America/Chicago:20230918T200000
DTSTAMP:20260425T110242
CREATED:20230724T185620Z
LAST-MODIFIED:20231013T145755Z
UID:10003471-1695060000-1695067200@www.springcreekoaks.org
SUMMARY:Jenny Tyger (3rd graders soccer)
DESCRIPTION:
URL:https://www.springcreekoaks.org/reservations/jenny-tyger-3rd-graders-soccer/2023-09-18/
LOCATION:Small Soccer Field (CH 2)
CATEGORIES:Soccer Fields
END:VEVENT
BEGIN:VEVENT
DTSTART;TZID=America/Chicago:20230918T190000
DTEND;TZID=America/Chicago:20230918T200000
DTSTAMP:20260425T110242
CREATED:20230814T131523Z
LAST-MODIFIED:20230814T131523Z
UID:10005880-1695063600-1695067200@www.springcreekoaks.org
SUMMARY:Kuehnle courts 3-4\, Adult drop-in drill\, all levels
DESCRIPTION:
URL:https://www.springcreekoaks.org/reservations/kuehnle-courts-3-4-adult-drop-in-drill-all-levels/2023-09-18/
LOCATION:TX
CATEGORIES:Tennis
END:VEVENT
BEGIN:VEVENT
DTSTART;TZID=America/Chicago:20230919T090000
DTEND;TZID=America/Chicago:20230919T100000
DTSTAMP:20260425T110242
CREATED:20230814T131725Z
LAST-MODIFIED:20230814T131725Z
UID:10005899-1695114000-1695117600@www.springcreekoaks.org
SUMMARY:Kuehnle courts 3-4\, beginner Homeschool class
DESCRIPTION:
URL:https://www.springcreekoaks.org/reservations/kuehnle-courts-3-4-beginner-homeschool-class/2023-09-19/
LOCATION:TX
CATEGORIES:Tennis
END:VEVENT
BEGIN:VEVENT
DTSTART;TZID=America/Chicago:20230919T090000
DTEND;TZID=America/Chicago:20230919T120000
DTSTAMP:20260425T110242
CREATED:20230819T184258Z
LAST-MODIFIED:20230907T224414Z
UID:10006109-1695114000-1695124800@www.springcreekoaks.org
SUMMARY:CH 1 courts 2-3\, Palmer
DESCRIPTION:
URL:https://www.springcreekoaks.org/reservations/ch-1-courts-2-3-pickleball-meet-and-greet-6/2023-09-19/
LOCATION:TX
CATEGORIES:Tennis
END:VEVENT
BEGIN:VEVENT
DTSTART;TZID=America/Chicago:20230919T090000
DTEND;TZID=America/Chicago:20230919T120000
DTSTAMP:20260425T110242
CREATED:20230907T224932Z
LAST-MODIFIED:20230907T224932Z
UID:10006260-1695114000-1695124800@www.springcreekoaks.org
SUMMARY:CH 1 court 1\, Pickleball meet and greet
DESCRIPTION:
URL:https://www.springcreekoaks.org/reservations/ch-1-court-1-pickleball-meet-and-greet-2/2023-09-19/
LOCATION:TX
CATEGORIES:Tennis
END:VEVENT
BEGIN:VEVENT
DTSTART;TZID=America/Chicago:20230919T090000
DTEND;TZID=America/Chicago:20230919T140000
DTSTAMP:20260425T110242
CREATED:20230328T012811Z
LAST-MODIFIED:20230328T012811Z
UID:10002181-1695114000-1695132000@www.springcreekoaks.org
SUMMARY:SCO Tennis Camp CH2
DESCRIPTION:
URL:https://www.springcreekoaks.org/reservations/sco-tennis-camp-ch2-3/2023-09-19/
LOCATION:Clubhouse 2\, 6002 Bur Oak Dr\, Spring\, 77379\, United States
CATEGORIES:Clubhouses
GEO:30.037539;-95.5070911
X-APPLE-STRUCTURED-LOCATION;VALUE=URI;X-ADDRESS=Clubhouse 2 6002 Bur Oak Dr Spring 77379 United States;X-APPLE-RADIUS=500;X-TITLE=6002 Bur Oak Dr:geo:-95.5070911,30.037539
END:VEVENT
BEGIN:VEVENT
DTSTART;TZID=America/Chicago:20230919T100000
DTEND;TZID=America/Chicago:20230919T110000
DTSTAMP:20260425T110242
CREATED:20230814T131902Z
LAST-MODIFIED:20230814T131902Z
UID:10005918-1695117600-1695121200@www.springcreekoaks.org
SUMMARY:Kuehnle courts 3-4\, intermediate homeschool class
DESCRIPTION:
URL:https://www.springcreekoaks.org/reservations/kuehnle-courts-3-4-intermediate-homeschool-class/2023-09-19/
LOCATION:TX
CATEGORIES:Tennis
END:VEVENT
BEGIN:VEVENT
DTSTART;TZID=America/Chicago:20230919T160000
DTEND;TZID=America/Chicago:20230919T170000
DTSTAMP:20260425T110242
CREATED:20230814T132041Z
LAST-MODIFIED:20230814T132041Z
UID:10005937-1695139200-1695142800@www.springcreekoaks.org
SUMMARY:Kuehnle courts 3-4\, Red ball class
DESCRIPTION:
URL:https://www.springcreekoaks.org/reservations/kuehnle-courts-3-4-red-ball-class/2023-09-19/
LOCATION:TX
CATEGORIES:Tennis
END:VEVENT
BEGIN:VEVENT
DTSTART;TZID=America/Chicago:20230919T160000
DTEND;TZID=America/Chicago:20230919T200000
DTSTAMP:20260425T110242
CREATED:20230703T125024Z
LAST-MODIFIED:20230703T125024Z
UID:10003522-1695139200-1695153600@www.springcreekoaks.org
SUMMARY:Field 2 - Texas Havoc - 12U
DESCRIPTION:
URL:https://www.springcreekoaks.org/reservations/field-2-texas-havoc-12u/2023-09-19/
LOCATION:Baseball Field 2\, United States
CATEGORIES:Baseball Fields
END:VEVENT
BEGIN:VEVENT
DTSTART;TZID=America/Chicago:20230919T160000
DTEND;TZID=America/Chicago:20230919T200000
DTSTAMP:20260425T110242
CREATED:20230703T125404Z
LAST-MODIFIED:20230703T125404Z
UID:10005755-1695139200-1695153600@www.springcreekoaks.org
SUMMARY:Field 1 - Hooks - 7U
DESCRIPTION:
URL:https://www.springcreekoaks.org/reservations/field-1-hooks-7u-2/2023-09-19/
LOCATION:Baseball Field 1\, United States
CATEGORIES:Baseball Fields
END:VEVENT
BEGIN:VEVENT
DTSTART;TZID=America/Chicago:20230919T160000
DTEND;TZID=America/Chicago:20230919T200000
DTSTAMP:20260425T110242
CREATED:20230711T214850Z
LAST-MODIFIED:20230711T214850Z
UID:10001229-1695139200-1695153600@www.springcreekoaks.org
SUMMARY:Field 4 - Eagles - 9U
DESCRIPTION:
URL:https://www.springcreekoaks.org/reservations/field-4-eagles-9u/2023-09-19/
LOCATION:Baseball Field 4\, United States
CATEGORIES:Baseball Fields
END:VEVENT
BEGIN:VEVENT
DTSTART;TZID=America/Chicago:20230919T160000
DTEND;TZID=America/Chicago:20230919T200000
DTSTAMP:20260425T110242
CREATED:20230726T111506Z
LAST-MODIFIED:20230726T111506Z
UID:10001263-1695139200-1695153600@www.springcreekoaks.org
SUMMARY:Field 3 - Young Guns - 12U
DESCRIPTION:
URL:https://www.springcreekoaks.org/reservations/field-3-young-guns-12u/2023-09-19/
LOCATION:Baseball Field 3\, United States
CATEGORIES:Baseball Fields
END:VEVENT
BEGIN:VEVENT
DTSTART;TZID=America/Chicago:20230919T170000
DTEND;TZID=America/Chicago:20230919T180000
DTSTAMP:20260425T110242
CREATED:20230814T132206Z
LAST-MODIFIED:20230814T132206Z
UID:10005956-1695142800-1695146400@www.springcreekoaks.org
SUMMARY:Kuehnle courts 3-4\, Green ball class
DESCRIPTION:
URL:https://www.springcreekoaks.org/reservations/kuehnle-courts-3-4-green-ball-class/2023-09-19/
LOCATION:TX
CATEGORIES:Tennis
END:VEVENT
BEGIN:VEVENT
DTSTART;TZID=America/Chicago:20230919T180000
DTEND;TZID=America/Chicago:20230919T193000
DTSTAMP:20260425T110242
CREATED:20230814T132345Z
LAST-MODIFIED:20230814T132345Z
UID:10005975-1695146400-1695151800@www.springcreekoaks.org
SUMMARY:Kuehnle courts 3-4\, Yellow ball class
DESCRIPTION:
URL:https://www.springcreekoaks.org/reservations/kuehnle-courts-3-4-yellow-ball-class-2/2023-09-19/
LOCATION:TX
CATEGORIES:Tennis
END:VEVENT
BEGIN:VEVENT
DTSTART;TZID=America/Chicago:20230919T180000
DTEND;TZID=America/Chicago:20230919T220000
DTSTAMP:20260425T110242
CREATED:20230830T121940Z
LAST-MODIFIED:20230915T171226Z
UID:10006209-1695146400-1695160800@www.springcreekoaks.org
SUMMARY:CH 1\, courts 2-3\, Junek
DESCRIPTION:
URL:https://www.springcreekoaks.org/reservations/ch-1-courts-2-3-junek/2023-09-19/
LOCATION:TX
CATEGORIES:Tennis
END:VEVENT
BEGIN:VEVENT
DTSTART;TZID=America/Chicago:20230920T073000
DTEND;TZID=America/Chicago:20230920T103000
DTSTAMP:20260425T110242
CREATED:20230919T134104Z
LAST-MODIFIED:20230919T134104Z
UID:10006305-1695195000-1695205800@www.springcreekoaks.org
SUMMARY:Kuehnle court 2\, Lopez
DESCRIPTION:
URL:https://www.springcreekoaks.org/reservations/kuehnle-court-2-lopez-19/
LOCATION:TX
CATEGORIES:Tennis
END:VEVENT
BEGIN:VEVENT
DTSTART;TZID=America/Chicago:20230920T083000
DTEND;TZID=America/Chicago:20230920T120000
DTSTAMP:20260425T110242
CREATED:20230823T110443Z
LAST-MODIFIED:20230823T110443Z
UID:10006172-1695198600-1695211200@www.springcreekoaks.org
SUMMARY:CH 2 courts 1-4\, NW A2
DESCRIPTION:
URL:https://www.springcreekoaks.org/reservations/ch-2-courts-1-4-nw-a2-2/2023-09-20/
LOCATION:TX
CATEGORIES:Tennis
END:VEVENT
END:VCALENDAR