BEGIN:VCALENDAR
VERSION:2.0
PRODID:-//Spring Creek Oaks - ECPv6.15.20//NONSGML v1.0//EN
CALSCALE:GREGORIAN
METHOD:PUBLISH
X-ORIGINAL-URL:https://www.springcreekoaks.org
X-WR-CALDESC:Events for Spring Creek Oaks
REFRESH-INTERVAL;VALUE=DURATION:PT1H
X-Robots-Tag:noindex
X-PUBLISHED-TTL:PT1H
BEGIN:VTIMEZONE
TZID:America/Chicago
BEGIN:DAYLIGHT
TZOFFSETFROM:-0600
TZOFFSETTO:-0500
TZNAME:CDT
DTSTART:20200308T080000
END:DAYLIGHT
BEGIN:STANDARD
TZOFFSETFROM:-0500
TZOFFSETTO:-0600
TZNAME:CST
DTSTART:20201101T070000
END:STANDARD
BEGIN:DAYLIGHT
TZOFFSETFROM:-0600
TZOFFSETTO:-0500
TZNAME:CDT
DTSTART:20210314T080000
END:DAYLIGHT
BEGIN:STANDARD
TZOFFSETFROM:-0500
TZOFFSETTO:-0600
TZNAME:CST
DTSTART:20211107T070000
END:STANDARD
BEGIN:DAYLIGHT
TZOFFSETFROM:-0600
TZOFFSETTO:-0500
TZNAME:CDT
DTSTART:20220313T080000
END:DAYLIGHT
BEGIN:STANDARD
TZOFFSETFROM:-0500
TZOFFSETTO:-0600
TZNAME:CST
DTSTART:20221106T070000
END:STANDARD
END:VTIMEZONE
BEGIN:VEVENT
DTSTART;TZID=America/Chicago:20210821T080000
DTEND;TZID=America/Chicago:20210826T100000
DTSTAMP:20260423T041651
CREATED:20210821T190849Z
LAST-MODIFIED:20210821T190849Z
UID:10003757-1629532800-1629972000@www.springcreekoaks.org
SUMMARY:CH 2 court 3\, Tennis pro Danny
DESCRIPTION:
URL:https://www.springcreekoaks.org/reservations/ch-2-court-3-tennis-pro-danny/
CATEGORIES:Tennis
END:VEVENT
BEGIN:VEVENT
DTSTART;TZID=America/Chicago:20210823T083000
DTEND;TZID=America/Chicago:20210823T120000
DTSTAMP:20260423T041651
CREATED:20210512T170641Z
LAST-MODIFIED:20210512T170641Z
UID:10002381-1629707400-1629720000@www.springcreekoaks.org
SUMMARY:CH 2 court 6\, Hudson
DESCRIPTION:
URL:https://www.springcreekoaks.org/reservations/ch-2-court-6-hudson-3/2021-08-23/
CATEGORIES:Tennis
END:VEVENT
BEGIN:VEVENT
DTSTART;TZID=America/Chicago:20210824T080000
DTEND;TZID=America/Chicago:20210824T090000
DTSTAMP:20260423T041651
CREATED:20210811T141524Z
LAST-MODIFIED:20210811T141524Z
UID:10003658-1629792000-1629795600@www.springcreekoaks.org
SUMMARY:CH 2 court 6\, Mason
DESCRIPTION:
URL:https://www.springcreekoaks.org/reservations/ch-2-court-6-mason-11/2021-08-24/
CATEGORIES:Tennis
END:VEVENT
BEGIN:VEVENT
DTSTART;TZID=America/Chicago:20210824T180000
DTEND;TZID=America/Chicago:20210824T200000
DTSTAMP:20260423T041651
CREATED:20210824T133525Z
LAST-MODIFIED:20210824T133527Z
UID:10003764-1629828000-1629835200@www.springcreekoaks.org
SUMMARY:10U LIONS (Flag Football) Coach Stansifer
DESCRIPTION:
URL:https://www.springcreekoaks.org/reservations/10u-lions-flag-football-coach-stansifer/
LOCATION:Small Soccer Field (CH 2)
CATEGORIES:Soccer Fields
END:VEVENT
BEGIN:VEVENT
DTSTART;TZID=America/Chicago:20210825T080000
DTEND;TZID=America/Chicago:20210825T110000
DTSTAMP:20260423T041651
CREATED:20210818T223331Z
LAST-MODIFIED:20210818T223331Z
UID:10003752-1629878400-1629889200@www.springcreekoaks.org
SUMMARY:CH 2 courts 5-6\, Morse
DESCRIPTION:
URL:https://www.springcreekoaks.org/reservations/ch-2-courts-5-6-morse-2/2021-08-25/
CATEGORIES:Tennis
END:VEVENT
BEGIN:VEVENT
DTSTART;TZID=America/Chicago:20210825T080000
DTEND;TZID=America/Chicago:20210825T120000
DTSTAMP:20260423T041651
CREATED:20210512T162316Z
LAST-MODIFIED:20210512T162316Z
UID:10003259-1629878400-1629892800@www.springcreekoaks.org
SUMMARY:CH 1 courts 2-3 (pickleball)\, Hudson
DESCRIPTION:
URL:https://www.springcreekoaks.org/reservations/ch-1-courts-2-3-pickleball-hudson/2021-08-25/
CATEGORIES:Tennis
END:VEVENT
BEGIN:VEVENT
DTSTART;TZID=America/Chicago:20210825T180000
DTEND;TZID=America/Chicago:20210825T200000
DTSTAMP:20260423T041651
CREATED:20200805T160749Z
LAST-MODIFIED:20200805T161100Z
UID:10001345-1629914400-1629921600@www.springcreekoaks.org
SUMMARY:CIFUENTES (Big Soccer Field)
DESCRIPTION:
URL:https://www.springcreekoaks.org/reservations/cifuentes-open-play-big-soccer-field/2021-08-25/
CATEGORIES:Soccer Fields
END:VEVENT
BEGIN:VEVENT
DTSTART;TZID=America/Chicago:20210825T180000
DTEND;TZID=America/Chicago:20210825T200000
DTSTAMP:20260423T041651
CREATED:20210824T133805Z
LAST-MODIFIED:20210824T133806Z
UID:10003765-1629914400-1629921600@www.springcreekoaks.org
SUMMARY:10U LIONS (Flag Football) Coach Stansifer
DESCRIPTION:
URL:https://www.springcreekoaks.org/reservations/10u-lions-flag-football-coach-stansifer-2/2021-08-25/
LOCATION:Small Soccer Field (CH 2)
CATEGORIES:Soccer Fields
END:VEVENT
BEGIN:VEVENT
DTSTART;TZID=America/Chicago:20210825T180000
DTEND;TZID=America/Chicago:20210825T210000
DTSTAMP:20260423T041651
CREATED:20210818T002842Z
LAST-MODIFIED:20210818T002842Z
UID:10003733-1629914400-1629925200@www.springcreekoaks.org
SUMMARY:SCO Book Club CH1
DESCRIPTION:
URL:https://www.springcreekoaks.org/reservations/sco-book-club-ch1/
LOCATION:Clubhouse 1\, 17111 Misty Creek\, Spring\, TX\, 77379\, United States
CATEGORIES:Clubhouses
GEO:30.0346602;-95.5117522
X-APPLE-STRUCTURED-LOCATION;VALUE=URI;X-ADDRESS=Clubhouse 1 17111 Misty Creek Spring TX 77379 United States;X-APPLE-RADIUS=500;X-TITLE=17111 Misty Creek:geo:-95.5117522,30.0346602
END:VEVENT
BEGIN:VEVENT
DTSTART;TZID=America/Chicago:20210826T080000
DTEND;TZID=America/Chicago:20210826T110000
DTSTAMP:20260423T041651
CREATED:20210816T203332Z
LAST-MODIFIED:20210816T203332Z
UID:10003730-1629964800-1629975600@www.springcreekoaks.org
SUMMARY:Kuehnle courts 2\, Lopez
DESCRIPTION:
URL:https://www.springcreekoaks.org/reservations/kuehnle-courts-2-lopez/2021-08-26/
CATEGORIES:Tennis
END:VEVENT
BEGIN:VEVENT
DTSTART;TZID=America/Chicago:20210826T080000
DTEND;TZID=America/Chicago:20210826T120000
DTSTAMP:20260423T041651
CREATED:20210809T002903Z
LAST-MODIFIED:20210809T002903Z
UID:10003621-1629964800-1629979200@www.springcreekoaks.org
SUMMARY:CH 2 courts 5-6\, Junek
DESCRIPTION:
URL:https://www.springcreekoaks.org/reservations/ch-2-courts-5-6-junek/2021-08-26/
CATEGORIES:Tennis
END:VEVENT
BEGIN:VEVENT
DTSTART;TZID=America/Chicago:20210827T080000
DTEND;TZID=America/Chicago:20210827T090000
DTSTAMP:20260423T041651
CREATED:20210811T141409Z
LAST-MODIFIED:20210811T141409Z
UID:10003597-1630051200-1630054800@www.springcreekoaks.org
SUMMARY:CH 2 court 6\, Mason
DESCRIPTION:
URL:https://www.springcreekoaks.org/reservations/ch-2-court-6-mason-10/2021-08-27/
CATEGORIES:Tennis
END:VEVENT
BEGIN:VEVENT
DTSTART;TZID=America/Chicago:20210827T080000
DTEND;TZID=America/Chicago:20210827T110000
DTSTAMP:20260423T041651
CREATED:20210412T170129Z
LAST-MODIFIED:20210512T174655Z
UID:10003227-1630051200-1630062000@www.springcreekoaks.org
SUMMARY:CH 2 court 6\, Mason
DESCRIPTION:
URL:https://www.springcreekoaks.org/reservations/ch-2-court-6-mason-9/2021-08-27/
CATEGORIES:Tennis
END:VEVENT
BEGIN:VEVENT
DTSTART;TZID=America/Chicago:20210827T080000
DTEND;TZID=America/Chicago:20210827T110000
DTSTAMP:20260423T041651
CREATED:20210824T151224Z
LAST-MODIFIED:20210824T172746Z
UID:10003785-1630051200-1630062000@www.springcreekoaks.org
SUMMARY:Kuehnle courts 1-2\, Lopez
DESCRIPTION:
URL:https://www.springcreekoaks.org/reservations/kuehnle-courts-1-4-lopez/
CATEGORIES:Tennis
END:VEVENT
BEGIN:VEVENT
DTSTART;TZID=America/Chicago:20210827T083000
DTEND;TZID=America/Chicago:20210827T120000
DTSTAMP:20260423T041651
CREATED:20210818T183047Z
LAST-MODIFIED:20210818T183047Z
UID:10003735-1630053000-1630065600@www.springcreekoaks.org
SUMMARY:CH 2 courts 1-4\, JR Open 2
DESCRIPTION:
URL:https://www.springcreekoaks.org/reservations/ch-2-courts-1-4-jr-open-2-3/2021-08-27/
CATEGORIES:Tennis
END:VEVENT
BEGIN:VEVENT
DTSTART;TZID=America/Chicago:20210828T080000
DTEND;TZID=America/Chicago:20210828T103000
DTSTAMP:20260423T041651
CREATED:20200805T161253Z
LAST-MODIFIED:20200805T161253Z
UID:10001105-1630137600-1630146600@www.springcreekoaks.org
SUMMARY:LLERENA (Big Soccer Field)
DESCRIPTION:
URL:https://www.springcreekoaks.org/reservations/llerena-big-soccer-field/2021-08-28/
CATEGORIES:Soccer Fields
END:VEVENT
BEGIN:VEVENT
DTSTART;TZID=America/Chicago:20210828T080000
DTEND;TZID=America/Chicago:20210828T233000
DTSTAMP:20260423T041651
CREATED:20210523T223526Z
LAST-MODIFIED:20210523T223526Z
UID:10003384-1630137600-1630193400@www.springcreekoaks.org
SUMMARY:Lindsay CH1
DESCRIPTION:
URL:https://www.springcreekoaks.org/reservations/lindsay-ch1/
LOCATION:Clubhouse 1\, 17111 Misty Creek\, Spring\, TX\, 77379\, United States
CATEGORIES:Clubhouses
GEO:30.0346602;-95.5117522
X-APPLE-STRUCTURED-LOCATION;VALUE=URI;X-ADDRESS=Clubhouse 1 17111 Misty Creek Spring TX 77379 United States;X-APPLE-RADIUS=500;X-TITLE=17111 Misty Creek:geo:-95.5117522,30.0346602
END:VEVENT
END:VCALENDAR