BEGIN:VCALENDAR
VERSION:2.0
PRODID:-//Spring Creek Oaks - ECPv6.15.20//NONSGML v1.0//EN
CALSCALE:GREGORIAN
METHOD:PUBLISH
X-ORIGINAL-URL:https://www.springcreekoaks.org
X-WR-CALDESC:Events for Spring Creek Oaks
REFRESH-INTERVAL;VALUE=DURATION:PT1H
X-Robots-Tag:noindex
X-PUBLISHED-TTL:PT1H
BEGIN:VTIMEZONE
TZID:America/Chicago
BEGIN:DAYLIGHT
TZOFFSETFROM:-0600
TZOFFSETTO:-0500
TZNAME:CDT
DTSTART:20180311T080000
END:DAYLIGHT
BEGIN:STANDARD
TZOFFSETFROM:-0500
TZOFFSETTO:-0600
TZNAME:CST
DTSTART:20181104T070000
END:STANDARD
BEGIN:DAYLIGHT
TZOFFSETFROM:-0600
TZOFFSETTO:-0500
TZNAME:CDT
DTSTART:20190310T080000
END:DAYLIGHT
BEGIN:STANDARD
TZOFFSETFROM:-0500
TZOFFSETTO:-0600
TZNAME:CST
DTSTART:20191103T070000
END:STANDARD
BEGIN:DAYLIGHT
TZOFFSETFROM:-0600
TZOFFSETTO:-0500
TZNAME:CDT
DTSTART:20200308T080000
END:DAYLIGHT
BEGIN:STANDARD
TZOFFSETFROM:-0500
TZOFFSETTO:-0600
TZNAME:CST
DTSTART:20201101T070000
END:STANDARD
END:VTIMEZONE
BEGIN:VEVENT
DTSTART;TZID=America/Chicago:20191125T180000
DTEND;TZID=America/Chicago:20191125T200000
DTSTAMP:20260420T190117
CREATED:20191112T190335Z
LAST-MODIFIED:20201028T032915Z
UID:10000137-1574704800-1574712000@www.springcreekoaks.org
SUMMARY:U16 Girls COUGARS F.C.
DESCRIPTION:
URL:https://www.springcreekoaks.org/reservations/u15-girls-cougars-f-c/2019-11-25/
LOCATION:Small Soccer Field (CH 2)
CATEGORIES:Soccer Fields
END:VEVENT
BEGIN:VEVENT
DTSTART;TZID=America/Chicago:20191128T150000
DTEND;TZID=America/Chicago:20191128T170000
DTSTAMP:20260420T190117
CREATED:20191107T004258Z
LAST-MODIFIED:20191107T004258Z
UID:10000220-1574953200-1574960400@www.springcreekoaks.org
SUMMARY:Field 2-Rains
DESCRIPTION:
URL:https://www.springcreekoaks.org/reservations/field-2-rains/2019-11-28/
CATEGORIES:Baseball Fields
END:VEVENT
BEGIN:VEVENT
DTSTART;TZID=America/Chicago:20191128T150000
DTEND;TZID=America/Chicago:20191128T170000
DTSTAMP:20260420T190117
CREATED:20191107T004441Z
LAST-MODIFIED:20191107T004441Z
UID:10000233-1574953200-1574960400@www.springcreekoaks.org
SUMMARY:Field 3-Cortez
DESCRIPTION:
URL:https://www.springcreekoaks.org/reservations/field-3-cortez/2019-11-28/
CATEGORIES:Baseball Fields
END:VEVENT
BEGIN:VEVENT
DTSTART;TZID=America/Chicago:20191128T150000
DTEND;TZID=America/Chicago:20191128T170000
DTSTAMP:20260420T190117
CREATED:20191107T004624Z
LAST-MODIFIED:20191107T004624Z
UID:10000240-1574953200-1574960400@www.springcreekoaks.org
SUMMARY:Field 4-Yearwood
DESCRIPTION:
URL:https://www.springcreekoaks.org/reservations/field-4-yearwood/2019-11-28/
CATEGORIES:Baseball Fields
END:VEVENT
BEGIN:VEVENT
DTSTART;TZID=America/Chicago:20191129T150000
DTEND;TZID=America/Chicago:20191129T170000
DTSTAMP:20260420T190117
CREATED:20191107T004708Z
LAST-MODIFIED:20191107T004708Z
UID:10000262-1575039600-1575046800@www.springcreekoaks.org
SUMMARY:Field 1-Stanfield
DESCRIPTION:
URL:https://www.springcreekoaks.org/reservations/field-1-stanfield/2019-11-29/
CATEGORIES:Baseball Fields
END:VEVENT
BEGIN:VEVENT
DTSTART;TZID=America/Chicago:20191130T160000
DTEND;TZID=America/Chicago:20191130T170000
DTSTAMP:20260420T190117
CREATED:20191112T221516Z
LAST-MODIFIED:20191112T221516Z
UID:10000298-1575129600-1575133200@www.springcreekoaks.org
SUMMARY:TFL Powder Puff Steelers
DESCRIPTION:
URL:https://www.springcreekoaks.org/reservations/tfl-powder-puff-steelers/2019-11-30/
CATEGORIES:Baseball Fields
END:VEVENT
END:VCALENDAR