BEGIN:VCALENDAR
VERSION:2.0
PRODID:-//Spring Creek Oaks - ECPv6.15.20//NONSGML v1.0//EN
CALSCALE:GREGORIAN
METHOD:PUBLISH
X-WR-CALNAME:Spring Creek Oaks
X-ORIGINAL-URL:https://www.springcreekoaks.org
X-WR-CALDESC:Events for Spring Creek Oaks
REFRESH-INTERVAL;VALUE=DURATION:PT1H
X-Robots-Tag:noindex
X-PUBLISHED-TTL:PT1H
BEGIN:VTIMEZONE
TZID:America/Chicago
BEGIN:DAYLIGHT
TZOFFSETFROM:-0600
TZOFFSETTO:-0500
TZNAME:CDT
DTSTART:20220313T080000
END:DAYLIGHT
BEGIN:STANDARD
TZOFFSETFROM:-0500
TZOFFSETTO:-0600
TZNAME:CST
DTSTART:20221106T070000
END:STANDARD
BEGIN:DAYLIGHT
TZOFFSETFROM:-0600
TZOFFSETTO:-0500
TZNAME:CDT
DTSTART:20230312T080000
END:DAYLIGHT
BEGIN:STANDARD
TZOFFSETFROM:-0500
TZOFFSETTO:-0600
TZNAME:CST
DTSTART:20231105T070000
END:STANDARD
BEGIN:DAYLIGHT
TZOFFSETFROM:-0600
TZOFFSETTO:-0500
TZNAME:CDT
DTSTART:20240310T080000
END:DAYLIGHT
BEGIN:STANDARD
TZOFFSETFROM:-0500
TZOFFSETTO:-0600
TZNAME:CST
DTSTART:20241103T070000
END:STANDARD
END:VTIMEZONE
BEGIN:VEVENT
DTSTART;TZID=America/Chicago:20231101T083000
DTEND;TZID=America/Chicago:20231101T120000
DTSTAMP:20260423T080421
CREATED:20230823T110443Z
LAST-MODIFIED:20230823T110443Z
UID:10006174-1698827400-1698840000@www.springcreekoaks.org
SUMMARY:CH 2 courts 1-4\, NW A2
DESCRIPTION:
URL:https://www.springcreekoaks.org/reservations/ch-2-courts-1-4-nw-a2-2/2023-11-01/
CATEGORIES:Tennis
END:VEVENT
BEGIN:VEVENT
DTSTART;TZID=America/Chicago:20231101T090000
DTEND;TZID=America/Chicago:20231101T100000
DTSTAMP:20260423T080421
CREATED:20230814T132524Z
LAST-MODIFIED:20230814T132524Z
UID:10006000-1698829200-1698832800@www.springcreekoaks.org
SUMMARY:Kuehnle courts 3-4\, intermediate homeschool class
DESCRIPTION:
URL:https://www.springcreekoaks.org/reservations/kuehnle-courts-3-4-intermediate-homeschool-class-2/2023-11-01/
CATEGORIES:Tennis
END:VEVENT
BEGIN:VEVENT
DTSTART;TZID=America/Chicago:20231101T090000
DTEND;TZID=America/Chicago:20231101T120000
DTSTAMP:20260423T080421
CREATED:20221227T222834Z
LAST-MODIFIED:20221227T222834Z
UID:10005251-1698829200-1698840000@www.springcreekoaks.org
SUMMARY:CH 1 courts 2-3\, Hudson
DESCRIPTION:
URL:https://www.springcreekoaks.org/reservations/ch-1-courts-2-3-hudson/2023-11-01/
CATEGORIES:Tennis
END:VEVENT
BEGIN:VEVENT
DTSTART;TZID=America/Chicago:20231101T090000
DTEND;TZID=America/Chicago:20231101T140000
DTSTAMP:20260423T080421
CREATED:20230328T012811Z
LAST-MODIFIED:20230328T012811Z
UID:10002224-1698829200-1698847200@www.springcreekoaks.org
SUMMARY:SCO Tennis Camp CH2
DESCRIPTION:
URL:https://www.springcreekoaks.org/reservations/sco-tennis-camp-ch2-3/2023-11-01/
LOCATION:Clubhouse 2\, 6002 Bur Oak Dr\, Spring\, 77379\, United States
CATEGORIES:Clubhouses
GEO:30.037539;-95.5070911
X-APPLE-STRUCTURED-LOCATION;VALUE=URI;X-ADDRESS=Clubhouse 2 6002 Bur Oak Dr Spring 77379 United States;X-APPLE-RADIUS=500;X-TITLE=6002 Bur Oak Dr:geo:-95.5070911,30.037539
END:VEVENT
BEGIN:VEVENT
DTSTART;TZID=America/Chicago:20231101T160000
DTEND;TZID=America/Chicago:20231101T200000
DTSTAMP:20260423T080421
CREATED:20230703T125231Z
LAST-MODIFIED:20230703T125231Z
UID:10005743-1698854400-1698868800@www.springcreekoaks.org
SUMMARY:Field 1 - Texas Havoc - 10U
DESCRIPTION:
URL:https://www.springcreekoaks.org/reservations/field-1-texas-havoc-10u/2023-11-01/
LOCATION:Baseball Field 1\, United States
CATEGORIES:Baseball Fields
END:VEVENT
BEGIN:VEVENT
DTSTART;TZID=America/Chicago:20231101T160000
DTEND;TZID=America/Chicago:20231101T200000
DTSTAMP:20260423T080421
CREATED:20230710T115703Z
LAST-MODIFIED:20230710T115703Z
UID:10005793-1698854400-1698868800@www.springcreekoaks.org
SUMMARY:Field 2 - Orioles - 11U
DESCRIPTION:
URL:https://www.springcreekoaks.org/reservations/field-2-orioles-11u/2023-11-01/
LOCATION:Baseball Field 2\, United States
CATEGORIES:Baseball Fields
END:VEVENT
BEGIN:VEVENT
DTSTART;TZID=America/Chicago:20231101T160000
DTEND;TZID=America/Chicago:20231101T200000
DTSTAMP:20260423T080421
CREATED:20230824T141412Z
LAST-MODIFIED:20230824T141412Z
UID:10006201-1698854400-1698868800@www.springcreekoaks.org
SUMMARY:Field 3 - Jaguars - 14U
DESCRIPTION:
URL:https://www.springcreekoaks.org/reservations/field-3-jaguars-14u-2/2023-11-01/
LOCATION:Baseball Field 3\, United States
CATEGORIES:Baseball Fields
END:VEVENT
BEGIN:VEVENT
DTSTART;TZID=America/Chicago:20231101T170000
DTEND;TZID=America/Chicago:20231101T180000
DTSTAMP:20260423T080421
CREATED:20230814T132653Z
LAST-MODIFIED:20230814T132653Z
UID:10006019-1698858000-1698861600@www.springcreekoaks.org
SUMMARY:Kuehnle courts 3-4\, Orange ball class
DESCRIPTION:
URL:https://www.springcreekoaks.org/reservations/kuehnle-courts-3-4-orange-ball-class-2/2023-11-01/
CATEGORIES:Tennis
END:VEVENT
BEGIN:VEVENT
DTSTART;TZID=America/Chicago:20231101T173000
DTEND;TZID=America/Chicago:20231101T193000
DTSTAMP:20260423T080421
CREATED:20231012T150149Z
LAST-MODIFIED:20231013T150253Z
UID:10006322-1698859800-1698867000@www.springcreekoaks.org
SUMMARY:Christensen
DESCRIPTION:
URL:https://www.springcreekoaks.org/reservations/christensen/2023-11-01/
LOCATION:Small Soccer Field (CH 2)
CATEGORIES:Soccer Fields
END:VEVENT
BEGIN:VEVENT
DTSTART;TZID=America/Chicago:20231101T180000
DTEND;TZID=America/Chicago:20231101T190000
DTSTAMP:20260423T080421
CREATED:20230814T132829Z
LAST-MODIFIED:20230814T132829Z
UID:10006038-1698861600-1698865200@www.springcreekoaks.org
SUMMARY:Kuehnle courts 3-4\, Yellow ball class
DESCRIPTION:
URL:https://www.springcreekoaks.org/reservations/kuehnle-courts-3-4-yellow-ball-class-3/2023-11-01/
CATEGORIES:Tennis
END:VEVENT
BEGIN:VEVENT
DTSTART;TZID=America/Chicago:20231101T180000
DTEND;TZID=America/Chicago:20231101T200000
DTSTAMP:20260423T080421
CREATED:20200805T160749Z
LAST-MODIFIED:20200805T161100Z
UID:10001459-1698861600-1698868800@www.springcreekoaks.org
SUMMARY:CIFUENTES (Big Soccer Field)
DESCRIPTION:
URL:https://www.springcreekoaks.org/reservations/cifuentes-open-play-big-soccer-field/2023-11-01/
CATEGORIES:Soccer Fields
END:VEVENT
BEGIN:VEVENT
DTSTART;TZID=America/Chicago:20231101T183000
DTEND;TZID=America/Chicago:20231101T210000
DTSTAMP:20260423T080421
CREATED:20231101T213905Z
LAST-MODIFIED:20231101T213905Z
UID:10003973-1698863400-1698872400@www.springcreekoaks.org
SUMMARY:CH 1 courts 2-3\, Cortez
DESCRIPTION:
URL:https://www.springcreekoaks.org/reservations/ch-1-courts-2-3-cortez/
CATEGORIES:Tennis
END:VEVENT
BEGIN:VEVENT
DTSTART;TZID=America/Chicago:20231102T083000
DTEND;TZID=America/Chicago:20231102T120000
DTSTAMP:20260423T080421
CREATED:20230823T105904Z
LAST-MODIFIED:20230823T105904Z
UID:10006166-1698913800-1698926400@www.springcreekoaks.org
SUMMARY:CH 2 courts 1-4\, NW champ
DESCRIPTION:
URL:https://www.springcreekoaks.org/reservations/ch-2-courts-1-4-nw-champ-8/2023-11-02/
CATEGORIES:Tennis
END:VEVENT
BEGIN:VEVENT
DTSTART;TZID=America/Chicago:20231102T090000
DTEND;TZID=America/Chicago:20231102T110000
DTSTAMP:20260423T080421
CREATED:20230821T190739Z
LAST-MODIFIED:20230821T190739Z
UID:10006148-1698915600-1698922800@www.springcreekoaks.org
SUMMARY:Kuehnle courts 3-4\, Homeschool classes
DESCRIPTION:
URL:https://www.springcreekoaks.org/reservations/kuehnle-courts-3-4-homeschool-classes-2/2023-11-02/
CATEGORIES:Tennis
END:VEVENT
BEGIN:VEVENT
DTSTART;TZID=America/Chicago:20231102T090000
DTEND;TZID=America/Chicago:20231102T120000
DTSTAMP:20260423T080421
CREATED:20230819T184409Z
LAST-MODIFIED:20230907T224257Z
UID:10006132-1698915600-1698926400@www.springcreekoaks.org
SUMMARY:CH 1 courts 2-3\, Palmer
DESCRIPTION:
URL:https://www.springcreekoaks.org/reservations/ch-1-courts-2-3-pickleball-meet-and-greet-7/2023-11-02/
CATEGORIES:Tennis
END:VEVENT
BEGIN:VEVENT
DTSTART;TZID=America/Chicago:20231102T090000
DTEND;TZID=America/Chicago:20231102T120000
DTSTAMP:20260423T080421
CREATED:20230907T225043Z
LAST-MODIFIED:20230907T225043Z
UID:10006282-1698915600-1698926400@www.springcreekoaks.org
SUMMARY:CH 1 court 1\, Pickleball meet and greet
DESCRIPTION:
URL:https://www.springcreekoaks.org/reservations/ch-1-court-1-pickleball-meet-and-greet-3/2023-11-02/
CATEGORIES:Tennis
END:VEVENT
BEGIN:VEVENT
DTSTART;TZID=America/Chicago:20231102T090000
DTEND;TZID=America/Chicago:20231102T140000
DTSTAMP:20260423T080421
CREATED:20230328T012811Z
LAST-MODIFIED:20230328T012811Z
UID:10002225-1698915600-1698933600@www.springcreekoaks.org
SUMMARY:SCO Tennis Camp CH2
DESCRIPTION:
URL:https://www.springcreekoaks.org/reservations/sco-tennis-camp-ch2-3/2023-11-02/
LOCATION:Clubhouse 2\, 6002 Bur Oak Dr\, Spring\, 77379\, United States
CATEGORIES:Clubhouses
GEO:30.037539;-95.5070911
X-APPLE-STRUCTURED-LOCATION;VALUE=URI;X-ADDRESS=Clubhouse 2 6002 Bur Oak Dr Spring 77379 United States;X-APPLE-RADIUS=500;X-TITLE=6002 Bur Oak Dr:geo:-95.5070911,30.037539
END:VEVENT
BEGIN:VEVENT
DTSTART;TZID=America/Chicago:20231102T160000
DTEND;TZID=America/Chicago:20231102T200000
DTSTAMP:20260423T080421
CREATED:20230703T125024Z
LAST-MODIFIED:20230703T125024Z
UID:10003535-1698940800-1698955200@www.springcreekoaks.org
SUMMARY:Field 2 - Texas Havoc - 12U
DESCRIPTION:
URL:https://www.springcreekoaks.org/reservations/field-2-texas-havoc-12u/2023-11-02/
LOCATION:Baseball Field 2\, United States
CATEGORIES:Baseball Fields
END:VEVENT
BEGIN:VEVENT
DTSTART;TZID=America/Chicago:20231102T160000
DTEND;TZID=America/Chicago:20231102T200000
DTSTAMP:20260423T080421
CREATED:20230711T214850Z
LAST-MODIFIED:20230711T214850Z
UID:10001242-1698940800-1698955200@www.springcreekoaks.org
SUMMARY:Field 4 - Eagles - 9U
DESCRIPTION:
URL:https://www.springcreekoaks.org/reservations/field-4-eagles-9u/2023-11-02/
LOCATION:Baseball Field 4\, United States
CATEGORIES:Baseball Fields
END:VEVENT
BEGIN:VEVENT
DTSTART;TZID=America/Chicago:20231102T160000
DTEND;TZID=America/Chicago:20231102T200000
DTSTAMP:20260423T080421
CREATED:20230726T111506Z
LAST-MODIFIED:20230726T111506Z
UID:10001276-1698940800-1698955200@www.springcreekoaks.org
SUMMARY:Field 3 - Young Guns - 12U
DESCRIPTION:
URL:https://www.springcreekoaks.org/reservations/field-3-young-guns-12u/2023-11-02/
LOCATION:Baseball Field 3\, United States
CATEGORIES:Baseball Fields
END:VEVENT
BEGIN:VEVENT
DTSTART;TZID=America/Chicago:20231102T160000
DTEND;TZID=America/Chicago:20231102T200000
DTSTAMP:20260423T080421
CREATED:20230801T112237Z
LAST-MODIFIED:20230801T112237Z
UID:10005812-1698940800-1698955200@www.springcreekoaks.org
SUMMARY:Field 1 - Coyotes - 12U
DESCRIPTION:
URL:https://www.springcreekoaks.org/reservations/field-1-coyotes-12u-2/2023-11-02/
LOCATION:Baseball Field 1\, United States
CATEGORIES:Baseball Fields
END:VEVENT
BEGIN:VEVENT
DTSTART;TZID=America/Chicago:20231102T170000
DTEND;TZID=America/Chicago:20231102T180000
DTSTAMP:20260423T080421
CREATED:20230814T132947Z
LAST-MODIFIED:20230814T132947Z
UID:10006057-1698944400-1698948000@www.springcreekoaks.org
SUMMARY:Kuehnle courts 3-4\, Orange ball class
DESCRIPTION:
URL:https://www.springcreekoaks.org/reservations/kuehnle-courts-3-4-orange-ball-class-3/2023-11-02/
CATEGORIES:Tennis
END:VEVENT
BEGIN:VEVENT
DTSTART;TZID=America/Chicago:20231102T170000
DTEND;TZID=America/Chicago:20231102T210000
DTSTAMP:20260423T080421
CREATED:20191114T164535Z
LAST-MODIFIED:20191114T164535Z
UID:10000355-1698944400-1698958800@www.springcreekoaks.org
SUMMARY:CH2 5pm-9pm Waterboard Monthly Meeting
DESCRIPTION:
URL:https://www.springcreekoaks.org/reservations/ch2-5pm-9pm-waterboard-monthly-meeting/2023-11-02/
LOCATION:Clubhouse 2\, 6002 Bur Oak Dr\, Spring\, 77379\, United States
CATEGORIES:Clubhouses
GEO:30.037539;-95.5070911
X-APPLE-STRUCTURED-LOCATION;VALUE=URI;X-ADDRESS=Clubhouse 2 6002 Bur Oak Dr Spring 77379 United States;X-APPLE-RADIUS=500;X-TITLE=6002 Bur Oak Dr:geo:-95.5070911,30.037539
END:VEVENT
BEGIN:VEVENT
DTSTART;TZID=America/Chicago:20231102T170000
DTEND;TZID=America/Chicago:20231102T220000
DTSTAMP:20260423T080421
CREATED:20230129T135835Z
LAST-MODIFIED:20230129T135835Z
UID:10001850-1698944400-1698962400@www.springcreekoaks.org
SUMMARY:Bilma Board Meeting CH2
DESCRIPTION:
URL:https://www.springcreekoaks.org/reservations/bilma-board-meeting-ch2/2023-11-02/
CATEGORIES:Clubhouses
END:VEVENT
BEGIN:VEVENT
DTSTART;TZID=America/Chicago:20231102T173000
DTEND;TZID=America/Chicago:20231102T193000
DTSTAMP:20260423T080421
CREATED:20231012T150149Z
LAST-MODIFIED:20231013T150253Z
UID:10006323-1698946200-1698953400@www.springcreekoaks.org
SUMMARY:Christensen
DESCRIPTION:
URL:https://www.springcreekoaks.org/reservations/christensen/2023-11-02/
LOCATION:Small Soccer Field (CH 2)
CATEGORIES:Soccer Fields
END:VEVENT
BEGIN:VEVENT
DTSTART;TZID=America/Chicago:20231102T180000
DTEND;TZID=America/Chicago:20231102T193000
DTSTAMP:20260423T080421
CREATED:20230814T133101Z
LAST-MODIFIED:20230814T133101Z
UID:10006076-1698948000-1698953400@www.springcreekoaks.org
SUMMARY:Kuehnle courts 3-4\, Yellow ball class
DESCRIPTION:
URL:https://www.springcreekoaks.org/reservations/kuehnle-courts-3-4-yellow-ball-class-4/2023-11-02/
CATEGORIES:Tennis
END:VEVENT
BEGIN:VEVENT
DTSTART;TZID=America/Chicago:20231102T190000
DTEND;TZID=America/Chicago:20231102T220000
DTSTAMP:20260423T080421
CREATED:20230906T230110Z
LAST-MODIFIED:20231031T181323Z
UID:10006240-1698951600-1698962400@www.springcreekoaks.org
SUMMARY:CH 2 courts 1-6\, men’s league Vross
DESCRIPTION:
URL:https://www.springcreekoaks.org/reservations/ch-2-courts-1-6-mens-league-vross-3/2023-11-02/
CATEGORIES:Tennis
END:VEVENT
BEGIN:VEVENT
DTSTART;TZID=America/Chicago:20231102T190000
DTEND;TZID=America/Chicago:20231102T220000
DTSTAMP:20260423T080421
CREATED:20231025T233602Z
LAST-MODIFIED:20231025T233602Z
UID:10003975-1698951600-1698962400@www.springcreekoaks.org
SUMMARY:CH 2 courts 1-4\, Vross men’s league
DESCRIPTION:
URL:https://www.springcreekoaks.org/reservations/ch-2-courts-1-4-vross-mens-league/2023-11-02/
CATEGORIES:Tennis
END:VEVENT
BEGIN:VEVENT
DTSTART;TZID=America/Chicago:20231102T193000
DTEND;TZID=America/Chicago:20231102T220000
DTSTAMP:20260423T080421
CREATED:20230911T200317Z
LAST-MODIFIED:20230911T200317Z
UID:10003644-1698953400-1698962400@www.springcreekoaks.org
SUMMARY:CH 1 courts 2-3 (Pickleball)\, Guzman
DESCRIPTION:
URL:https://www.springcreekoaks.org/reservations/ch-1-courts-2-3-pickleball-guzman/2023-11-02/
CATEGORIES:Tennis
END:VEVENT
BEGIN:VEVENT
DTSTART;TZID=America/Chicago:20231103T083000
DTEND;TZID=America/Chicago:20231103T120000
DTSTAMP:20260423T080421
CREATED:20230823T110144Z
LAST-MODIFIED:20230823T110144Z
UID:10006169-1699000200-1699012800@www.springcreekoaks.org
SUMMARY:CH 2 courts 1-4\, JR B3
DESCRIPTION:
URL:https://www.springcreekoaks.org/reservations/ch-2-courts-1-4-jr-b3-2/2023-11-03/
CATEGORIES:Tennis
END:VEVENT
END:VCALENDAR