BEGIN:VCALENDAR
VERSION:2.0
PRODID:-//Spring Creek Oaks - ECPv6.15.20//NONSGML v1.0//EN
CALSCALE:GREGORIAN
METHOD:PUBLISH
X-WR-CALNAME:Spring Creek Oaks
X-ORIGINAL-URL:https://www.springcreekoaks.org
X-WR-CALDESC:Events for Spring Creek Oaks
REFRESH-INTERVAL;VALUE=DURATION:PT1H
X-Robots-Tag:noindex
X-PUBLISHED-TTL:PT1H
BEGIN:VTIMEZONE
TZID:America/Chicago
BEGIN:DAYLIGHT
TZOFFSETFROM:-0600
TZOFFSETTO:-0500
TZNAME:CDT
DTSTART:20200308T080000
END:DAYLIGHT
BEGIN:STANDARD
TZOFFSETFROM:-0500
TZOFFSETTO:-0600
TZNAME:CST
DTSTART:20201101T070000
END:STANDARD
BEGIN:DAYLIGHT
TZOFFSETFROM:-0600
TZOFFSETTO:-0500
TZNAME:CDT
DTSTART:20210314T080000
END:DAYLIGHT
BEGIN:STANDARD
TZOFFSETFROM:-0500
TZOFFSETTO:-0600
TZNAME:CST
DTSTART:20211107T070000
END:STANDARD
BEGIN:DAYLIGHT
TZOFFSETFROM:-0600
TZOFFSETTO:-0500
TZNAME:CDT
DTSTART:20220313T080000
END:DAYLIGHT
BEGIN:STANDARD
TZOFFSETFROM:-0500
TZOFFSETTO:-0600
TZNAME:CST
DTSTART:20221106T070000
END:STANDARD
END:VTIMEZONE
BEGIN:VEVENT
DTSTART;TZID=America/Chicago:20210801T080000
DTEND;TZID=America/Chicago:20210801T170000
DTSTAMP:20260421T162156
CREATED:20210730T152825Z
LAST-MODIFIED:20210730T152825Z
UID:10003616-1627804800-1627837200@www.springcreekoaks.org
SUMMARY:Harr CH2
DESCRIPTION:
URL:https://www.springcreekoaks.org/reservations/harr-ch2-2/
LOCATION:Clubhouse 2\, 6002 Bur Oak Dr\, Spring\, 77379\, United States
CATEGORIES:Clubhouses
GEO:30.037539;-95.5070911
X-APPLE-STRUCTURED-LOCATION;VALUE=URI;X-ADDRESS=Clubhouse 2 6002 Bur Oak Dr Spring 77379 United States;X-APPLE-RADIUS=500;X-TITLE=6002 Bur Oak Dr:geo:-95.5070911,30.037539
END:VEVENT
BEGIN:VEVENT
DTSTART;TZID=America/Chicago:20210802T080000
DTEND;TZID=America/Chicago:20210802T110000
DTSTAMP:20260421T162156
CREATED:20210623T010801Z
LAST-MODIFIED:20210623T010801Z
UID:10003551-1627891200-1627902000@www.springcreekoaks.org
SUMMARY:Kuehnle court 2\, Lopez
DESCRIPTION:
URL:https://www.springcreekoaks.org/reservations/kuehnle-court-2-lopez-11/2021-08-02/
CATEGORIES:Tennis
END:VEVENT
BEGIN:VEVENT
DTSTART;TZID=America/Chicago:20210802T080000
DTEND;TZID=America/Chicago:20210802T120000
DTSTAMP:20260421T162156
CREATED:20210617T183759Z
LAST-MODIFIED:20210617T183759Z
UID:10002482-1627891200-1627905600@www.springcreekoaks.org
SUMMARY:CH 2 court 1\, Tennis Pro Danny
DESCRIPTION:
URL:https://www.springcreekoaks.org/reservations/ch-2-court-1-tennis-pro-danny/2021-08-02/
CATEGORIES:Tennis
END:VEVENT
BEGIN:VEVENT
DTSTART;TZID=America/Chicago:20210802T083000
DTEND;TZID=America/Chicago:20210802T120000
DTSTAMP:20260421T162156
CREATED:20210512T170641Z
LAST-MODIFIED:20210512T170641Z
UID:10002378-1627893000-1627905600@www.springcreekoaks.org
SUMMARY:CH 2 court 6\, Hudson
DESCRIPTION:
URL:https://www.springcreekoaks.org/reservations/ch-2-court-6-hudson-3/2021-08-02/
CATEGORIES:Tennis
END:VEVENT
BEGIN:VEVENT
DTSTART;TZID=America/Chicago:20210802T160000
DTEND;TZID=America/Chicago:20210802T200000
DTSTAMP:20260421T162156
CREATED:20210617T184405Z
LAST-MODIFIED:20210617T184405Z
UID:10003485-1627920000-1627934400@www.springcreekoaks.org
SUMMARY:CH 2 court 1\, Tennis Pro Danny
DESCRIPTION:
URL:https://www.springcreekoaks.org/reservations/ch-2-court-1-tennis-pro-danny-6/2021-08-02/
CATEGORIES:Tennis
END:VEVENT
BEGIN:VEVENT
DTSTART;TZID=America/Chicago:20210803T080000
DTEND;TZID=America/Chicago:20210803T120000
DTSTAMP:20260421T162156
CREATED:20210617T183902Z
LAST-MODIFIED:20210617T183902Z
UID:10003402-1627977600-1627992000@www.springcreekoaks.org
SUMMARY:CH 2 court 1\, Tennis Pro Danny
DESCRIPTION:
URL:https://www.springcreekoaks.org/reservations/ch-2-court-1-tennis-pro-danny-2/2021-08-03/
CATEGORIES:Tennis
END:VEVENT
BEGIN:VEVENT
DTSTART;TZID=America/Chicago:20210804T080000
DTEND;TZID=America/Chicago:20210804T120000
DTSTAMP:20260421T162156
CREATED:20210512T162316Z
LAST-MODIFIED:20210512T162316Z
UID:10003256-1628064000-1628078400@www.springcreekoaks.org
SUMMARY:CH 1 courts 2-3 (pickleball)\, Hudson
DESCRIPTION:
URL:https://www.springcreekoaks.org/reservations/ch-1-courts-2-3-pickleball-hudson/2021-08-04/
CATEGORIES:Tennis
END:VEVENT
BEGIN:VEVENT
DTSTART;TZID=America/Chicago:20210804T080000
DTEND;TZID=America/Chicago:20210804T120000
DTSTAMP:20260421T162156
CREATED:20210617T184143Z
LAST-MODIFIED:20210617T184143Z
UID:10003429-1628064000-1628078400@www.springcreekoaks.org
SUMMARY:CH 2 court 1\, Tennis Pro Danny
DESCRIPTION:
URL:https://www.springcreekoaks.org/reservations/ch-2-court-1-tennis-pro-danny-4/2021-08-04/
CATEGORIES:Tennis
END:VEVENT
BEGIN:VEVENT
DTSTART;TZID=America/Chicago:20210804T160000
DTEND;TZID=America/Chicago:20210804T200000
DTSTAMP:20260421T162156
CREATED:20210617T184653Z
LAST-MODIFIED:20210617T184653Z
UID:10003496-1628092800-1628107200@www.springcreekoaks.org
SUMMARY:CH 2 court 1\, Tennis Pro Danny
DESCRIPTION:
URL:https://www.springcreekoaks.org/reservations/ch-2-court-1-tennis-pro-danny-8/2021-08-04/
CATEGORIES:Tennis
END:VEVENT
BEGIN:VEVENT
DTSTART;TZID=America/Chicago:20210804T180000
DTEND;TZID=America/Chicago:20210804T200000
DTSTAMP:20260421T162156
CREATED:20200805T160749Z
LAST-MODIFIED:20200805T161100Z
UID:10001342-1628100000-1628107200@www.springcreekoaks.org
SUMMARY:CIFUENTES (Big Soccer Field)
DESCRIPTION:
URL:https://www.springcreekoaks.org/reservations/cifuentes-open-play-big-soccer-field/2021-08-04/
CATEGORIES:Soccer Fields
END:VEVENT
BEGIN:VEVENT
DTSTART;TZID=America/Chicago:20210805T080000
DTEND;TZID=America/Chicago:20210805T110000
DTSTAMP:20260421T162156
CREATED:20210623T035733Z
LAST-MODIFIED:20210623T035911Z
UID:10003559-1628150400-1628161200@www.springcreekoaks.org
SUMMARY:Kuehnle court 2\, Lopez
DESCRIPTION:
URL:https://www.springcreekoaks.org/reservations/kuehnle-court-2-lopez-12/2021-08-05/
CATEGORIES:Tennis
END:VEVENT
BEGIN:VEVENT
DTSTART;TZID=America/Chicago:20210805T160000
DTEND;TZID=America/Chicago:20210805T200000
DTSTAMP:20260421T162156
CREATED:20210617T184757Z
LAST-MODIFIED:20210617T184757Z
UID:10003506-1628179200-1628193600@www.springcreekoaks.org
SUMMARY:CH 2 court 1\, Tennis Pro Danny
DESCRIPTION:
URL:https://www.springcreekoaks.org/reservations/ch-2-court-1-tennis-pro-danny-9/2021-08-05/
CATEGORIES:Tennis
END:VEVENT
BEGIN:VEVENT
DTSTART;TZID=America/Chicago:20210805T170000
DTEND;TZID=America/Chicago:20210805T210000
DTSTAMP:20260421T162156
CREATED:20191114T164535Z
LAST-MODIFIED:20191114T164535Z
UID:10000328-1628182800-1628197200@www.springcreekoaks.org
SUMMARY:CH2 5pm-9pm Waterboard Monthly Meeting
DESCRIPTION:
URL:https://www.springcreekoaks.org/reservations/ch2-5pm-9pm-waterboard-monthly-meeting/2021-08-05/
LOCATION:Clubhouse 2\, 6002 Bur Oak Dr\, Spring\, 77379\, United States
CATEGORIES:Clubhouses
GEO:30.037539;-95.5070911
X-APPLE-STRUCTURED-LOCATION;VALUE=URI;X-ADDRESS=Clubhouse 2 6002 Bur Oak Dr Spring 77379 United States;X-APPLE-RADIUS=500;X-TITLE=6002 Bur Oak Dr:geo:-95.5070911,30.037539
END:VEVENT
BEGIN:VEVENT
DTSTART;TZID=America/Chicago:20210806T080000
DTEND;TZID=America/Chicago:20210806T110000
DTSTAMP:20260421T162156
CREATED:20210412T170129Z
LAST-MODIFIED:20210512T174655Z
UID:10003224-1628236800-1628247600@www.springcreekoaks.org
SUMMARY:CH 2 court 6\, Mason
DESCRIPTION:
URL:https://www.springcreekoaks.org/reservations/ch-2-court-6-mason-9/2021-08-06/
CATEGORIES:Tennis
END:VEVENT
BEGIN:VEVENT
DTSTART;TZID=America/Chicago:20210806T080000
DTEND;TZID=America/Chicago:20210806T110000
DTSTAMP:20260421T162156
CREATED:20210511T004822Z
LAST-MODIFIED:20210511T004822Z
UID:10003292-1628236800-1628247600@www.springcreekoaks.org
SUMMARY:CH 2 court 3\, Lopez
DESCRIPTION:
URL:https://www.springcreekoaks.org/reservations/ch-2-court-3-lopez-13/2021-08-06/
CATEGORIES:Tennis
END:VEVENT
BEGIN:VEVENT
DTSTART;TZID=America/Chicago:20210806T080000
DTEND;TZID=America/Chicago:20210806T120000
DTSTAMP:20260421T162156
CREATED:20210617T184250Z
LAST-MODIFIED:20210617T184250Z
UID:10003438-1628236800-1628251200@www.springcreekoaks.org
SUMMARY:CH 2 court 1\, Tennis Pro Danny
DESCRIPTION:
URL:https://www.springcreekoaks.org/reservations/ch-2-court-1-tennis-pro-danny-5/2021-08-06/
CATEGORIES:Tennis
END:VEVENT
BEGIN:VEVENT
DTSTART;TZID=America/Chicago:20210807T080000
DTEND;TZID=America/Chicago:20210807T103000
DTSTAMP:20260421T162156
CREATED:20200805T161253Z
LAST-MODIFIED:20200805T161253Z
UID:10001102-1628323200-1628332200@www.springcreekoaks.org
SUMMARY:LLERENA (Big Soccer Field)
DESCRIPTION:
URL:https://www.springcreekoaks.org/reservations/llerena-big-soccer-field/2021-08-07/
CATEGORIES:Soccer Fields
END:VEVENT
BEGIN:VEVENT
DTSTART;TZID=America/Chicago:20210808T080000
DTEND;TZID=America/Chicago:20210808T170000
DTSTAMP:20260421T162156
CREATED:20210622T211251Z
LAST-MODIFIED:20210622T211251Z
UID:10003545-1628409600-1628442000@www.springcreekoaks.org
SUMMARY:Cline CH1
DESCRIPTION:
URL:https://www.springcreekoaks.org/reservations/cline-ch1/
LOCATION:Clubhouse 1\, 17111 Misty Creek\, Spring\, TX\, 77379\, United States
CATEGORIES:Clubhouses
GEO:30.0346602;-95.5117522
X-APPLE-STRUCTURED-LOCATION;VALUE=URI;X-ADDRESS=Clubhouse 1 17111 Misty Creek Spring TX 77379 United States;X-APPLE-RADIUS=500;X-TITLE=17111 Misty Creek:geo:-95.5117522,30.0346602
END:VEVENT
BEGIN:VEVENT
DTSTART;TZID=America/Chicago:20210808T150000
DTEND;TZID=America/Chicago:20210808T200000
DTSTAMP:20260421T162156
CREATED:20210805T160824Z
LAST-MODIFIED:20210805T160824Z
UID:10003592-1628434800-1628452800@www.springcreekoaks.org
SUMMARY:Field 3-Anderson (FF)
DESCRIPTION:
URL:https://www.springcreekoaks.org/reservations/field-3-anderson-ff/
CATEGORIES:Baseball Fields
END:VEVENT
BEGIN:VEVENT
DTSTART;TZID=America/Chicago:20210809T080000
DTEND;TZID=America/Chicago:20210809T110000
DTSTAMP:20260421T162156
CREATED:20210623T010801Z
LAST-MODIFIED:20210623T010801Z
UID:10003552-1628496000-1628506800@www.springcreekoaks.org
SUMMARY:Kuehnle court 2\, Lopez
DESCRIPTION:
URL:https://www.springcreekoaks.org/reservations/kuehnle-court-2-lopez-11/2021-08-09/
CATEGORIES:Tennis
END:VEVENT
BEGIN:VEVENT
DTSTART;TZID=America/Chicago:20210809T080000
DTEND;TZID=America/Chicago:20210809T120000
DTSTAMP:20260421T162156
CREATED:20210617T183759Z
LAST-MODIFIED:20210617T183759Z
UID:10002483-1628496000-1628510400@www.springcreekoaks.org
SUMMARY:CH 2 court 1\, Tennis Pro Danny
DESCRIPTION:
URL:https://www.springcreekoaks.org/reservations/ch-2-court-1-tennis-pro-danny/2021-08-09/
CATEGORIES:Tennis
END:VEVENT
BEGIN:VEVENT
DTSTART;TZID=America/Chicago:20210809T083000
DTEND;TZID=America/Chicago:20210809T120000
DTSTAMP:20260421T162156
CREATED:20210512T170641Z
LAST-MODIFIED:20210512T170641Z
UID:10002379-1628497800-1628510400@www.springcreekoaks.org
SUMMARY:CH 2 court 6\, Hudson
DESCRIPTION:
URL:https://www.springcreekoaks.org/reservations/ch-2-court-6-hudson-3/2021-08-09/
CATEGORIES:Tennis
END:VEVENT
BEGIN:VEVENT
DTSTART;TZID=America/Chicago:20210809T083000
DTEND;TZID=America/Chicago:20210813T150000
DTSTAMP:20260421T162156
CREATED:20210414T201700Z
LAST-MODIFIED:20210414T201700Z
UID:10003236-1628497800-1628866800@www.springcreekoaks.org
SUMMARY:CH 2 courts 1-3\, Sports Camp
DESCRIPTION:
URL:https://www.springcreekoaks.org/reservations/ch-2-courts-1-3-sports-camp-4/
CATEGORIES:Tennis
END:VEVENT
BEGIN:VEVENT
DTSTART;TZID=America/Chicago:20210809T090000
DTEND;TZID=America/Chicago:20210813T150000
DTSTAMP:20260421T162156
CREATED:20210417T232111Z
LAST-MODIFIED:20210417T232111Z
UID:10002354-1628499600-1628866800@www.springcreekoaks.org
SUMMARY:Tennis Camp
DESCRIPTION:
URL:https://www.springcreekoaks.org/reservations/tennis-camp-3/2021-08-09/
CATEGORIES:Clubhouses,Tennis
END:VEVENT
BEGIN:VEVENT
DTSTART;TZID=America/Chicago:20210809T160000
DTEND;TZID=America/Chicago:20210809T200000
DTSTAMP:20260421T162156
CREATED:20210617T184405Z
LAST-MODIFIED:20210617T184405Z
UID:10003486-1628524800-1628539200@www.springcreekoaks.org
SUMMARY:CH 2 court 1\, Tennis Pro Danny
DESCRIPTION:
URL:https://www.springcreekoaks.org/reservations/ch-2-court-1-tennis-pro-danny-6/2021-08-09/
CATEGORIES:Tennis
END:VEVENT
BEGIN:VEVENT
DTSTART;TZID=America/Chicago:20210809T183000
DTEND;TZID=America/Chicago:20210809T193000
DTSTAMP:20260421T162156
CREATED:20210303T191235Z
LAST-MODIFIED:20210303T191235Z
UID:10003112-1628533800-1628537400@www.springcreekoaks.org
SUMMARY:HOA Meeting CH2
DESCRIPTION:
URL:https://www.springcreekoaks.org/reservations/hoa-meeting-ch2/2021-08-09/
LOCATION:Clubhouse 2\, 6002 Bur Oak Dr\, Spring\, 77379\, United States
CATEGORIES:Clubhouses
GEO:30.037539;-95.5070911
X-APPLE-STRUCTURED-LOCATION;VALUE=URI;X-ADDRESS=Clubhouse 2 6002 Bur Oak Dr Spring 77379 United States;X-APPLE-RADIUS=500;X-TITLE=6002 Bur Oak Dr:geo:-95.5070911,30.037539
END:VEVENT
BEGIN:VEVENT
DTSTART;TZID=America/Chicago:20210810T080000
DTEND;TZID=America/Chicago:20210810T120000
DTSTAMP:20260421T162156
CREATED:20210617T183902Z
LAST-MODIFIED:20210617T183902Z
UID:10003403-1628582400-1628596800@www.springcreekoaks.org
SUMMARY:CH 2 court 1\, Tennis Pro Danny
DESCRIPTION:
URL:https://www.springcreekoaks.org/reservations/ch-2-court-1-tennis-pro-danny-2/2021-08-10/
CATEGORIES:Tennis
END:VEVENT
BEGIN:VEVENT
DTSTART;TZID=America/Chicago:20210811T073000
DTEND;TZID=America/Chicago:20210811T120000
DTSTAMP:20260421T162156
CREATED:20210809T003330Z
LAST-MODIFIED:20210809T003330Z
UID:10003625-1628667000-1628683200@www.springcreekoaks.org
SUMMARY:CH 2 courts 4-6\, Ranney
DESCRIPTION:
URL:https://www.springcreekoaks.org/reservations/ch-2-courts-4-6-ranney-2/
CATEGORIES:Tennis
END:VEVENT
BEGIN:VEVENT
DTSTART;TZID=America/Chicago:20210811T080000
DTEND;TZID=America/Chicago:20210811T120000
DTSTAMP:20260421T162156
CREATED:20210512T162316Z
LAST-MODIFIED:20210512T162316Z
UID:10003257-1628668800-1628683200@www.springcreekoaks.org
SUMMARY:CH 1 courts 2-3 (pickleball)\, Hudson
DESCRIPTION:
URL:https://www.springcreekoaks.org/reservations/ch-1-courts-2-3-pickleball-hudson/2021-08-11/
CATEGORIES:Tennis
END:VEVENT
BEGIN:VEVENT
DTSTART;TZID=America/Chicago:20210811T080000
DTEND;TZID=America/Chicago:20210811T120000
DTSTAMP:20260421T162156
CREATED:20210617T184143Z
LAST-MODIFIED:20210617T184143Z
UID:10003430-1628668800-1628683200@www.springcreekoaks.org
SUMMARY:CH 2 court 1\, Tennis Pro Danny
DESCRIPTION:
URL:https://www.springcreekoaks.org/reservations/ch-2-court-1-tennis-pro-danny-4/2021-08-11/
CATEGORIES:Tennis
END:VEVENT
END:VCALENDAR