BEGIN:VCALENDAR
VERSION:2.0
PRODID:-//Spring Creek Oaks - ECPv6.15.20//NONSGML v1.0//EN
CALSCALE:GREGORIAN
METHOD:PUBLISH
X-WR-CALNAME:Spring Creek Oaks
X-ORIGINAL-URL:https://www.springcreekoaks.org
X-WR-CALDESC:Events for Spring Creek Oaks
REFRESH-INTERVAL;VALUE=DURATION:PT1H
X-Robots-Tag:noindex
X-PUBLISHED-TTL:PT1H
BEGIN:VTIMEZONE
TZID:America/Chicago
BEGIN:DAYLIGHT
TZOFFSETFROM:-0600
TZOFFSETTO:-0500
TZNAME:CDT
DTSTART:20230312T080000
END:DAYLIGHT
BEGIN:STANDARD
TZOFFSETFROM:-0500
TZOFFSETTO:-0600
TZNAME:CST
DTSTART:20231105T070000
END:STANDARD
BEGIN:DAYLIGHT
TZOFFSETFROM:-0600
TZOFFSETTO:-0500
TZNAME:CDT
DTSTART:20240310T080000
END:DAYLIGHT
BEGIN:STANDARD
TZOFFSETFROM:-0500
TZOFFSETTO:-0600
TZNAME:CST
DTSTART:20241103T070000
END:STANDARD
BEGIN:DAYLIGHT
TZOFFSETFROM:-0600
TZOFFSETTO:-0500
TZNAME:CDT
DTSTART:20250309T080000
END:DAYLIGHT
BEGIN:STANDARD
TZOFFSETFROM:-0500
TZOFFSETTO:-0600
TZNAME:CST
DTSTART:20251102T070000
END:STANDARD
END:VTIMEZONE
BEGIN:VEVENT
DTSTART;VALUE=DATE:20240303
DTEND;VALUE=DATE:20240304
DTSTAMP:20260421T073852
CREATED:20230620T000409Z
LAST-MODIFIED:20230620T000424Z
UID:10005714-1709424000-1709510399@www.springcreekoaks.org
SUMMARY:NCL Wildflowers 2028
DESCRIPTION:
URL:https://www.springcreekoaks.org/reservations/ncl-wildflowers-2028/
LOCATION:Clubhouse 2\, 6002 Bur Oak Dr\, Spring\, 77379\, United States
CATEGORIES:Clubhouses
GEO:30.037539;-95.5070911
X-APPLE-STRUCTURED-LOCATION;VALUE=URI;X-ADDRESS=Clubhouse 2 6002 Bur Oak Dr Spring 77379 United States;X-APPLE-RADIUS=500;X-TITLE=6002 Bur Oak Dr:geo:-95.5070911,30.037539
END:VEVENT
BEGIN:VEVENT
DTSTART;TZID=America/Chicago:20240302T083000
DTEND;TZID=America/Chicago:20240302T120000
DTSTAMP:20260421T073852
CREATED:20231126T144446Z
LAST-MODIFIED:20231126T144859Z
UID:10003326-1709368200-1709380800@www.springcreekoaks.org
SUMMARY:CH 1 courts 2-3\, Palmer
DESCRIPTION:
URL:https://www.springcreekoaks.org/reservations/ch-1-courts-2-3-palmer/2024-03-02/
CATEGORIES:Tennis
END:VEVENT
BEGIN:VEVENT
DTSTART;TZID=America/Chicago:20240302T080000
DTEND;TZID=America/Chicago:20240302T110000
DTSTAMP:20260421T073852
CREATED:20240117T135955Z
LAST-MODIFIED:20240117T135955Z
UID:10007450-1709366400-1709377200@www.springcreekoaks.org
SUMMARY:Field 1 - Coyotes - 12U
DESCRIPTION:
URL:https://www.springcreekoaks.org/reservations/field-1-coyotes-12u-3/2024-03-02/
LOCATION:Baseball Field 1\, United States
CATEGORIES:Baseball Fields
END:VEVENT
BEGIN:VEVENT
DTSTART;TZID=America/Chicago:20240301T180000
DTEND;TZID=America/Chicago:20240301T190000
DTSTAMP:20260421T073852
CREATED:20240115T175843Z
LAST-MODIFIED:20240118T192404Z
UID:10007111-1709316000-1709319600@www.springcreekoaks.org
SUMMARY:Kuehnle courts 3-4\, Coach Danny
DESCRIPTION:
URL:https://www.springcreekoaks.org/reservations/kuehnle-courts-3-4-coach-danny-9/2024-03-01/
CATEGORIES:Tennis
END:VEVENT
BEGIN:VEVENT
DTSTART;TZID=America/Chicago:20240301T160000
DTEND;TZID=America/Chicago:20240301T200000
DTSTAMP:20260421T073852
CREATED:20240117T135855Z
LAST-MODIFIED:20240117T135855Z
UID:10007428-1709308800-1709323200@www.springcreekoaks.org
SUMMARY:Field 1 - Skeeters - 10U
DESCRIPTION:
URL:https://www.springcreekoaks.org/reservations/field-1-skeeters-10u/2024-03-01/
LOCATION:Baseball Field 1\, United States
CATEGORIES:Baseball Fields
END:VEVENT
BEGIN:VEVENT
DTSTART;TZID=America/Chicago:20240301T153000
DTEND;TZID=America/Chicago:20240301T173000
DTSTAMP:20260421T073852
CREATED:20240129T004849Z
LAST-MODIFIED:20240129T004849Z
UID:10007482-1709307000-1709314200@www.springcreekoaks.org
SUMMARY:CH 2 courts 1-3\, NCS practice
DESCRIPTION:
URL:https://www.springcreekoaks.org/reservations/ch-2-courts-1-3-ncs-practice-3/2024-03-01/
CATEGORIES:Tennis
END:VEVENT
BEGIN:VEVENT
DTSTART;TZID=America/Chicago:20240301T083000
DTEND;TZID=America/Chicago:20240301T120000
DTSTAMP:20260421T073852
CREATED:20240229T123246Z
LAST-MODIFIED:20240229T123246Z
UID:10008059-1709281800-1709294400@www.springcreekoaks.org
SUMMARY:CH 2 court 5\, JR Nacewski
DESCRIPTION:
URL:https://www.springcreekoaks.org/reservations/ch-2-court-5-jr-nacewski/
CATEGORIES:Tennis
END:VEVENT
BEGIN:VEVENT
DTSTART;TZID=America/Chicago:20240301T083000
DTEND;TZID=America/Chicago:20240301T120000
DTSTAMP:20260421T073852
CREATED:20240227T225710Z
LAST-MODIFIED:20240227T225710Z
UID:10008050-1709281800-1709294400@www.springcreekoaks.org
SUMMARY:CH 2 court 6\, Lopez
DESCRIPTION:
URL:https://www.springcreekoaks.org/reservations/ch-2-court-6-lopez-9/
CATEGORIES:Tennis
END:VEVENT
BEGIN:VEVENT
DTSTART;TZID=America/Chicago:20240301T083000
DTEND;TZID=America/Chicago:20240301T120000
DTSTAMP:20260421T073852
CREATED:20240117T020752Z
LAST-MODIFIED:20240117T020752Z
UID:10007138-1709281800-1709294400@www.springcreekoaks.org
SUMMARY:Kuehnle courts 1-4\, JR Open 2 Nacewski
DESCRIPTION:
URL:https://www.springcreekoaks.org/reservations/kuehnle-courts-1-4-jr-open-2-nacewski/
CATEGORIES:Tennis
END:VEVENT
BEGIN:VEVENT
DTSTART;TZID=America/Chicago:20240301T083000
DTEND;TZID=America/Chicago:20240301T120000
DTSTAMP:20260421T073852
CREATED:20240117T020331Z
LAST-MODIFIED:20240117T020331Z
UID:10007132-1709281800-1709294400@www.springcreekoaks.org
SUMMARY:CH 2 courts 1-4\, JR Open 2 Karpiuk
DESCRIPTION:
URL:https://www.springcreekoaks.org/reservations/ch-2-courts-1-4-jr-open-2-karpiuk/2024-03-01/
CATEGORIES:Tennis
END:VEVENT
BEGIN:VEVENT
DTSTART;TZID=America/Chicago:20240229T190000
DTEND;TZID=America/Chicago:20240229T230000
DTSTAMP:20260421T073852
CREATED:20240311T234052Z
LAST-MODIFIED:20240311T234052Z
UID:10008074-1709233200-1709247600@www.springcreekoaks.org
SUMMARY:CH 2 courts 1-6\, Men’s league Bautsch
DESCRIPTION:
URL:https://www.springcreekoaks.org/reservations/ch-2-courts-1-6-mens-league-bautsch-2/2024-02-29/
CATEGORIES:Tennis
END:VEVENT
BEGIN:VEVENT
DTSTART;TZID=America/Chicago:20240229T190000
DTEND;TZID=America/Chicago:20240229T223000
DTSTAMP:20260421T073852
CREATED:20240208T140545Z
LAST-MODIFIED:20240208T140545Z
UID:10007912-1709233200-1709245800@www.springcreekoaks.org
SUMMARY:CH 2 courts 1-6\, Men’s league\, Bausch
DESCRIPTION:
URL:https://www.springcreekoaks.org/reservations/ch-2-courts-1-6-mens-league-bausch-3/2024-02-29/
CATEGORIES:Tennis
END:VEVENT
BEGIN:VEVENT
DTSTART;TZID=America/Chicago:20240229T190000
DTEND;TZID=America/Chicago:20240229T220000
DTSTAMP:20260421T073852
CREATED:20240113T021559Z
LAST-MODIFIED:20240131T152936Z
UID:10006529-1709233200-1709244000@www.springcreekoaks.org
SUMMARY:CH 2 PB courts 3-4\, P. Guzman
DESCRIPTION:
URL:https://www.springcreekoaks.org/reservations/ch-1-courts-2-3-p-guzman/2024-02-29/
CATEGORIES:Tennis
END:VEVENT
BEGIN:VEVENT
DTSTART;TZID=America/Chicago:20240229T170000
DTEND;TZID=America/Chicago:20240229T193000
DTSTAMP:20260421T073852
CREATED:20240115T175721Z
LAST-MODIFIED:20240416T023026Z
UID:10007091-1709226000-1709235000@www.springcreekoaks.org
SUMMARY:Kuehnle courts 3-4\, Coach Danny
DESCRIPTION:
URL:https://www.springcreekoaks.org/reservations/kuehnle-courts-3-4-coach-danny-8/2024-02-29/
CATEGORIES:Tennis
END:VEVENT
BEGIN:VEVENT
DTSTART;TZID=America/Chicago:20240229T160000
DTEND;TZID=America/Chicago:20240229T200000
DTSTAMP:20260421T073852
CREATED:20240201T200320Z
LAST-MODIFIED:20240424T120009Z
UID:10007847-1709222400-1709236800@www.springcreekoaks.org
SUMMARY:Field 2 - Blue Rocks - 7U
DESCRIPTION:
URL:https://www.springcreekoaks.org/reservations/field-2-blue-rocks-7u/2024-02-29/
LOCATION:Baseball Field 2\, United States
CATEGORIES:Baseball Fields
END:VEVENT
BEGIN:VEVENT
DTSTART;TZID=America/Chicago:20240229T160000
DTEND;TZID=America/Chicago:20240229T200000
DTSTAMP:20260421T073852
CREATED:20240201T124313Z
LAST-MODIFIED:20240424T115922Z
UID:10007525-1709222400-1709236800@www.springcreekoaks.org
SUMMARY:Field 4 - River Bandits - 6U
DESCRIPTION:
URL:https://www.springcreekoaks.org/reservations/field-4-river-bandits-6u/2024-02-29/
LOCATION:Baseball Field 4\, United States
CATEGORIES:Baseball Fields
END:VEVENT
BEGIN:VEVENT
DTSTART;TZID=America/Chicago:20240229T160000
DTEND;TZID=America/Chicago:20240229T200000
DTSTAMP:20260421T073852
CREATED:20240117T135753Z
LAST-MODIFIED:20240117T140132Z
UID:10007403-1709222400-1709236800@www.springcreekoaks.org
SUMMARY:Field 3 - Hot Rod - 7U
DESCRIPTION:
URL:https://www.springcreekoaks.org/reservations/field-3-hot-rod-7u/2024-02-29/
LOCATION:Baseball Field 3\, United States
CATEGORIES:Baseball Fields
END:VEVENT
BEGIN:VEVENT
DTSTART;TZID=America/Chicago:20240229T160000
DTEND;TZID=America/Chicago:20240229T200000
DTSTAMP:20260421T073852
CREATED:20240117T135415Z
LAST-MODIFIED:20240117T135415Z
UID:10007357-1709222400-1709236800@www.springcreekoaks.org
SUMMARY:Field 1 - Young Guns - 12U
DESCRIPTION:
URL:https://www.springcreekoaks.org/reservations/field-1-young-guns-12u/2024-02-29/
LOCATION:Baseball Field 1\, United States
CATEGORIES:Baseball Fields
END:VEVENT
BEGIN:VEVENT
DTSTART;TZID=America/Chicago:20240229T153000
DTEND;TZID=America/Chicago:20240229T173000
DTSTAMP:20260421T073852
CREATED:20240129T181937Z
LAST-MODIFIED:20240129T181937Z
UID:10007490-1709220600-1709227800@www.springcreekoaks.org
SUMMARY:CH 2 courts 1-3\, NCS practice
DESCRIPTION:
URL:https://www.springcreekoaks.org/reservations/ch-2-courts-1-3-ncs-practice-4/2024-02-29/
CATEGORIES:Tennis
END:VEVENT
BEGIN:VEVENT
DTSTART;TZID=America/Chicago:20240229T090000
DTEND;TZID=America/Chicago:20240229T110000
DTSTAMP:20260421T073852
CREATED:20240115T175542Z
LAST-MODIFIED:20240416T023143Z
UID:10007019-1709197200-1709204400@www.springcreekoaks.org
SUMMARY:Kuehnle courts 3-4\, Coach Danny
DESCRIPTION:
URL:https://www.springcreekoaks.org/reservations/kuehnle-courts-3-4-coach-danny-7/2024-02-29/
CATEGORIES:Tennis
END:VEVENT
BEGIN:VEVENT
DTSTART;TZID=America/Chicago:20240229T083000
DTEND;TZID=America/Chicago:20240229T120000
DTSTAMP:20260421T073852
CREATED:20240118T191357Z
LAST-MODIFIED:20240118T191357Z
UID:10007467-1709195400-1709208000@www.springcreekoaks.org
SUMMARY:CH 2 courts 1-4\, NW league champ
DESCRIPTION:
URL:https://www.springcreekoaks.org/reservations/ch-2-courts-1-4-nw-league-champ/2024-02-29/
CATEGORIES:Tennis
END:VEVENT
BEGIN:VEVENT
DTSTART;TZID=America/Chicago:20240229T083000
DTEND;TZID=America/Chicago:20240229T120000
DTSTAMP:20260421T073852
CREATED:20231126T144446Z
LAST-MODIFIED:20231126T144859Z
UID:10003325-1709195400-1709208000@www.springcreekoaks.org
SUMMARY:CH 1 courts 2-3\, Palmer
DESCRIPTION:
URL:https://www.springcreekoaks.org/reservations/ch-1-courts-2-3-palmer/2024-02-29/
CATEGORIES:Tennis
END:VEVENT
BEGIN:VEVENT
DTSTART;TZID=America/Chicago:20240228T170000
DTEND;TZID=America/Chicago:20240228T190000
DTSTAMP:20260421T073852
CREATED:20240115T175440Z
LAST-MODIFIED:20240115T180134Z
UID:10006947-1709139600-1709146800@www.springcreekoaks.org
SUMMARY:Kuehnle courts 3-4\, Coach Danny
DESCRIPTION:
URL:https://www.springcreekoaks.org/reservations/kuehnle-courts-3-4-coach-danny-6/2024-02-28/
CATEGORIES:Tennis
END:VEVENT
BEGIN:VEVENT
DTSTART;TZID=America/Chicago:20240228T160000
DTEND;TZID=America/Chicago:20240228T200000
DTSTAMP:20260421T073852
CREATED:20240201T124730Z
LAST-MODIFIED:20240424T115718Z
UID:10007655-1709136000-1709150400@www.springcreekoaks.org
SUMMARY:Field 1 - Jaguars - 14U
DESCRIPTION:
URL:https://www.springcreekoaks.org/reservations/field-1-jaguars-14u/2024-02-28/
LOCATION:Baseball Field 1\, United States
CATEGORIES:Baseball Fields
END:VEVENT
BEGIN:VEVENT
DTSTART;TZID=America/Chicago:20240228T160000
DTEND;TZID=America/Chicago:20240228T200000
DTSTAMP:20260421T073852
CREATED:20240117T135025Z
LAST-MODIFIED:20240117T135536Z
UID:10007155-1709136000-1709150400@www.springcreekoaks.org
SUMMARY:Field 2 - Orioles - 11U
DESCRIPTION:
URL:https://www.springcreekoaks.org/reservations/field-2-orioles-11u-2/2024-02-28/
LOCATION:Baseball Field 2\, United States
CATEGORIES:Baseball Fields
END:VEVENT
BEGIN:VEVENT
DTSTART;TZID=America/Chicago:20240228T153000
DTEND;TZID=America/Chicago:20240228T173000
DTSTAMP:20260421T073852
CREATED:20240129T004849Z
LAST-MODIFIED:20240129T004849Z
UID:10007481-1709134200-1709141400@www.springcreekoaks.org
SUMMARY:CH 2 courts 1-3\, NCS practice
DESCRIPTION:
URL:https://www.springcreekoaks.org/reservations/ch-2-courts-1-3-ncs-practice-3/2024-02-28/
CATEGORIES:Tennis
END:VEVENT
BEGIN:VEVENT
DTSTART;TZID=America/Chicago:20240228T100000
DTEND;TZID=America/Chicago:20240228T110000
DTSTAMP:20260421T073852
CREATED:20240115T175343Z
LAST-MODIFIED:20240416T023303Z
UID:10006875-1709114400-1709118000@www.springcreekoaks.org
SUMMARY:Kuehnle courts 3-4\, Coach Danny
DESCRIPTION:
URL:https://www.springcreekoaks.org/reservations/kuehnle-courts-3-4-coach-danny-5/2024-02-28/
CATEGORIES:Tennis
END:VEVENT
BEGIN:VEVENT
DTSTART;TZID=America/Chicago:20240228T090000
DTEND;TZID=America/Chicago:20240228T113000
DTSTAMP:20260421T073852
CREATED:20231205T012455Z
LAST-MODIFIED:20240107T024742Z
UID:10004064-1709110800-1709119800@www.springcreekoaks.org
SUMMARY:CH 1 courts 2-3\, Hudson
DESCRIPTION:
URL:https://www.springcreekoaks.org/reservations/ch-1-courts-2-3-hudson-2/2024-02-28/
CATEGORIES:Tennis
END:VEVENT
BEGIN:VEVENT
DTSTART;TZID=America/Chicago:20240228T083000
DTEND;TZID=America/Chicago:20240228T120000
DTSTAMP:20260421T073852
CREATED:20240118T192112Z
LAST-MODIFIED:20240118T192112Z
UID:10007471-1709109000-1709121600@www.springcreekoaks.org
SUMMARY:CH 2 courts 1-4\, NW league A2
DESCRIPTION:
URL:https://www.springcreekoaks.org/reservations/ch-2-courts-1-4-nw-league-a2/2024-02-28/
CATEGORIES:Tennis
END:VEVENT
BEGIN:VEVENT
DTSTART;TZID=America/Chicago:20240227T190000
DTEND;TZID=America/Chicago:20240227T230000
DTSTAMP:20260421T073852
CREATED:20240311T233744Z
LAST-MODIFIED:20240311T233744Z
UID:10008070-1709060400-1709074800@www.springcreekoaks.org
SUMMARY:CH 2 courts 1-6\, Men’s league\, Vross
DESCRIPTION:
URL:https://www.springcreekoaks.org/reservations/ch-2-courts-1-6-mens-league-vross-5/2024-02-27/
CATEGORIES:Tennis
END:VEVENT
END:VCALENDAR