BEGIN:VCALENDAR
VERSION:2.0
PRODID:-//Spring Creek Oaks - ECPv6.15.20//NONSGML v1.0//EN
CALSCALE:GREGORIAN
METHOD:PUBLISH
X-WR-CALNAME:Spring Creek Oaks
X-ORIGINAL-URL:https://www.springcreekoaks.org
X-WR-CALDESC:Events for Spring Creek Oaks
REFRESH-INTERVAL;VALUE=DURATION:PT1H
X-Robots-Tag:noindex
X-PUBLISHED-TTL:PT1H
BEGIN:VTIMEZONE
TZID:America/Chicago
BEGIN:DAYLIGHT
TZOFFSETFROM:-0600
TZOFFSETTO:-0500
TZNAME:CDT
DTSTART:20210314T080000
END:DAYLIGHT
BEGIN:STANDARD
TZOFFSETFROM:-0500
TZOFFSETTO:-0600
TZNAME:CST
DTSTART:20211107T070000
END:STANDARD
BEGIN:DAYLIGHT
TZOFFSETFROM:-0600
TZOFFSETTO:-0500
TZNAME:CDT
DTSTART:20220313T080000
END:DAYLIGHT
BEGIN:STANDARD
TZOFFSETFROM:-0500
TZOFFSETTO:-0600
TZNAME:CST
DTSTART:20221106T070000
END:STANDARD
BEGIN:DAYLIGHT
TZOFFSETFROM:-0600
TZOFFSETTO:-0500
TZNAME:CDT
DTSTART:20230312T080000
END:DAYLIGHT
BEGIN:STANDARD
TZOFFSETFROM:-0500
TZOFFSETTO:-0600
TZNAME:CST
DTSTART:20231105T070000
END:STANDARD
END:VTIMEZONE
BEGIN:VEVENT
DTSTART;TZID=America/Chicago:20220315T190000
DTEND;TZID=America/Chicago:20220315T220000
DTSTAMP:20260425T102358
CREATED:20220309T124834Z
LAST-MODIFIED:20220309T124834Z
UID:10000306-1647370800-1647381600@www.springcreekoaks.org
SUMMARY:CH 2 courts 1-6\, Men’s league Bausch
DESCRIPTION:
URL:https://www.springcreekoaks.org/reservations/ch-2-courts-1-6-mens-league-bausch-2/2022-03-15/
CATEGORIES:Tennis
END:VEVENT
BEGIN:VEVENT
DTSTART;TZID=America/Chicago:20220315T190000
DTEND;TZID=America/Chicago:20220315T220000
DTSTAMP:20260425T102358
CREATED:20220309T125036Z
LAST-MODIFIED:20220309T125036Z
UID:10004368-1647370800-1647381600@www.springcreekoaks.org
SUMMARY:Kuehnle courts 1-4\, Men’s league Mottola
DESCRIPTION:
URL:https://www.springcreekoaks.org/reservations/kuehnle-courts-1-4-mens-league-mottola-2/
CATEGORIES:Tennis
END:VEVENT
BEGIN:VEVENT
DTSTART;TZID=America/Chicago:20220315T190000
DTEND;TZID=America/Chicago:20220315T230000
DTSTAMP:20260425T102358
CREATED:20220228T022753Z
LAST-MODIFIED:20220228T022753Z
UID:10000459-1647370800-1647385200@www.springcreekoaks.org
SUMMARY:CH 2 courts 1-6\, men’s league Bausch
DESCRIPTION:
URL:https://www.springcreekoaks.org/reservations/ch-2-courts-1-6-mens-league-bausch/2022-03-15/
CATEGORIES:Tennis
END:VEVENT
BEGIN:VEVENT
DTSTART;TZID=America/Chicago:20220316T080000
DTEND;TZID=America/Chicago:20220316T100000
DTSTAMP:20260425T102358
CREATED:20220203T004757Z
LAST-MODIFIED:20220203T004757Z
UID:10004430-1647417600-1647424800@www.springcreekoaks.org
SUMMARY:Kuehnle courts 3-4\, Tennis pro Danny
DESCRIPTION:
URL:https://www.springcreekoaks.org/reservations/kuehnle-courts-3-4-tennis-pro-danny-7/2022-03-16/
CATEGORIES:Tennis
END:VEVENT
BEGIN:VEVENT
DTSTART;TZID=America/Chicago:20220316T090000
DTEND;TZID=America/Chicago:20220316T120000
DTSTAMP:20260425T102358
CREATED:20220131T210803Z
LAST-MODIFIED:20220131T210803Z
UID:10004397-1647421200-1647432000@www.springcreekoaks.org
SUMMARY:CH 1 courts 2-3 (pickleball)\, Hudson
DESCRIPTION:
URL:https://www.springcreekoaks.org/reservations/ch-1-courts-2-3-pickleball-hudson-2/2022-03-16/
CATEGORIES:Tennis
END:VEVENT
BEGIN:VEVENT
DTSTART;TZID=America/Chicago:20220316T170000
DTEND;TZID=America/Chicago:20220316T190000
DTSTAMP:20260425T102358
CREATED:20220124T162052Z
LAST-MODIFIED:20220221T184741Z
UID:10004209-1647450000-1647457200@www.springcreekoaks.org
SUMMARY:10U Tigers Baseball Practice - Field 1
DESCRIPTION:10U Baseball Practice – Field 1 \nChad Haynie
URL:https://www.springcreekoaks.org/reservations/10u-baseball-practice-chad-haynie/2022-03-16/
CATEGORIES:Baseball Fields
END:VEVENT
BEGIN:VEVENT
DTSTART;TZID=America/Chicago:20220316T170000
DTEND;TZID=America/Chicago:20220316T190000
DTSTAMP:20260425T102358
CREATED:20220216T191511Z
LAST-MODIFIED:20220216T191511Z
UID:10004480-1647450000-1647457200@www.springcreekoaks.org
SUMMARY:6U Ponies Softball Practice - Field 4
DESCRIPTION:Field 4 \nReservation Contact: Abigail Crisman
URL:https://www.springcreekoaks.org/reservations/6u-ponies-softball-practice-field-4/2022-03-16/
CATEGORIES:Baseball Fields
END:VEVENT
BEGIN:VEVENT
DTSTART;TZID=America/Chicago:20220316T173000
DTEND;TZID=America/Chicago:20220316T210000
DTSTAMP:20260425T102358
CREATED:20220307T014435Z
LAST-MODIFIED:20220307T014435Z
UID:10000583-1647451800-1647464400@www.springcreekoaks.org
SUMMARY:Bilma PUD CH2
DESCRIPTION:
URL:https://www.springcreekoaks.org/reservations/bilma-pud-ch2/
LOCATION:Clubhouse 2\, 6002 Bur Oak Dr\, Spring\, 77379\, United States
CATEGORIES:Clubhouses
GEO:30.037539;-95.5070911
X-APPLE-STRUCTURED-LOCATION;VALUE=URI;X-ADDRESS=Clubhouse 2 6002 Bur Oak Dr Spring 77379 United States;X-APPLE-RADIUS=500;X-TITLE=6002 Bur Oak Dr:geo:-95.5070911,30.037539
END:VEVENT
BEGIN:VEVENT
DTSTART;TZID=America/Chicago:20220316T180000
DTEND;TZID=America/Chicago:20220316T200000
DTSTAMP:20260425T102358
CREATED:20200805T160749Z
LAST-MODIFIED:20200805T161100Z
UID:10001374-1647453600-1647460800@www.springcreekoaks.org
SUMMARY:CIFUENTES (Big Soccer Field)
DESCRIPTION:
URL:https://www.springcreekoaks.org/reservations/cifuentes-open-play-big-soccer-field/2022-03-16/
CATEGORIES:Soccer Fields
END:VEVENT
BEGIN:VEVENT
DTSTART;TZID=America/Chicago:20220317T090000
DTEND;TZID=America/Chicago:20220317T120000
DTSTAMP:20260425T102358
CREATED:20220203T004901Z
LAST-MODIFIED:20220203T004901Z
UID:10004447-1647507600-1647518400@www.springcreekoaks.org
SUMMARY:CH 1 court 1\, Tennis pro Danny
DESCRIPTION:
URL:https://www.springcreekoaks.org/reservations/ch-1-court-1-tennis-pro-danny-5/2022-03-17/
CATEGORIES:Tennis
END:VEVENT
BEGIN:VEVENT
DTSTART;TZID=America/Chicago:20220317T090000
DTEND;TZID=America/Chicago:20220317T120000
DTSTAMP:20260425T102358
CREATED:20220315T212014Z
LAST-MODIFIED:20220315T212014Z
UID:10000462-1647507600-1647518400@www.springcreekoaks.org
SUMMARY:CH 2 court 3\, Lopez
DESCRIPTION:
URL:https://www.springcreekoaks.org/reservations/ch-2-court-3-lopez-18/
CATEGORIES:Tennis
END:VEVENT
BEGIN:VEVENT
DTSTART;TZID=America/Chicago:20220318T080000
DTEND;TZID=America/Chicago:20220318T093000
DTSTAMP:20260425T102358
CREATED:20220131T205022Z
LAST-MODIFIED:20220131T205022Z
UID:10004375-1647590400-1647595800@www.springcreekoaks.org
SUMMARY:CH 2 court 6\, Mason
DESCRIPTION:
URL:https://www.springcreekoaks.org/reservations/ch-2-court-6-mason-14/2022-03-18/
CATEGORIES:Tennis
END:VEVENT
BEGIN:VEVENT
DTSTART;TZID=America/Chicago:20220318T090000
DTEND;TZID=America/Chicago:20220318T120000
DTSTAMP:20260425T102358
CREATED:20220315T212101Z
LAST-MODIFIED:20220315T212101Z
UID:10000012-1647594000-1647604800@www.springcreekoaks.org
SUMMARY:CH 2 courts 1-3\, Lopez
DESCRIPTION:
URL:https://www.springcreekoaks.org/reservations/ch-2-courts-1-3-lopez-5/
CATEGORIES:Tennis
END:VEVENT
BEGIN:VEVENT
DTSTART;TZID=America/Chicago:20220318T100000
DTEND;TZID=America/Chicago:20220318T120000
DTSTAMP:20260425T102358
CREATED:20220203T005028Z
LAST-MODIFIED:20220203T005028Z
UID:10004464-1647597600-1647604800@www.springcreekoaks.org
SUMMARY:CH 1 court 1\, Tennis pro Danny
DESCRIPTION:
URL:https://www.springcreekoaks.org/reservations/ch-1-court-1-tennis-pro-danny-6/2022-03-18/
CATEGORIES:Tennis
END:VEVENT
BEGIN:VEVENT
DTSTART;TZID=America/Chicago:20220318T170000
DTEND;TZID=America/Chicago:20220318T190000
DTSTAMP:20260425T102358
CREATED:20220125T162843Z
LAST-MODIFIED:20220125T162843Z
UID:10004274-1647622800-1647630000@www.springcreekoaks.org
SUMMARY:14U Farm League Jaguars Practice - Field 3
DESCRIPTION:14U Farm League Jaguars Practice – Field 3
URL:https://www.springcreekoaks.org/reservations/14u-farm-league-jaguars-practice-field-3/2022-03-18/
CATEGORIES:Baseball Fields
END:VEVENT
BEGIN:VEVENT
DTSTART;VALUE=DATE:20220319
DTEND;VALUE=DATE:20220320
DTSTAMP:20260425T102358
CREATED:20211208T203350Z
LAST-MODIFIED:20211208T203350Z
UID:10004016-1647648000-1647734399@www.springcreekoaks.org
SUMMARY:Allman CH2
DESCRIPTION:
URL:https://www.springcreekoaks.org/reservations/allman-ch2/
LOCATION:Clubhouse 2\, 6002 Bur Oak Dr\, Spring\, 77379\, United States
CATEGORIES:Clubhouses
GEO:30.037539;-95.5070911
X-APPLE-STRUCTURED-LOCATION;VALUE=URI;X-ADDRESS=Clubhouse 2 6002 Bur Oak Dr Spring 77379 United States;X-APPLE-RADIUS=500;X-TITLE=6002 Bur Oak Dr:geo:-95.5070911,30.037539
END:VEVENT
BEGIN:VEVENT
DTSTART;TZID=America/Chicago:20220319T100000
DTEND;TZID=America/Chicago:20220319T120000
DTSTAMP:20260425T102358
CREATED:20220216T150652Z
LAST-MODIFIED:20220216T152538Z
UID:10000738-1647684000-1647691200@www.springcreekoaks.org
SUMMARY:18U Shock - Baseball Practice - Fields 1 & 4
DESCRIPTION:Reservation Contact: Mike McDowell
URL:https://www.springcreekoaks.org/reservations/high-school-baseball-practice-fields-1-4/2022-03-19/
CATEGORIES:Baseball Fields
END:VEVENT
BEGIN:VEVENT
DTSTART;TZID=America/Chicago:20220321T080000
DTEND;TZID=America/Chicago:20220321T120000
DTSTAMP:20260425T102358
CREATED:20220203T004438Z
LAST-MODIFIED:20220203T004438Z
UID:10004229-1647849600-1647864000@www.springcreekoaks.org
SUMMARY:Kuehnle courts 3-4\, Tennis pro Danny
DESCRIPTION:
URL:https://www.springcreekoaks.org/reservations/kuehnle-courts-3-4-tennis-pro-danny-6/2022-03-21/
CATEGORIES:Tennis
END:VEVENT
BEGIN:VEVENT
DTSTART;TZID=America/Chicago:20220321T083000
DTEND;TZID=America/Chicago:20220321T120000
DTSTAMP:20260425T102358
CREATED:20220125T032223Z
LAST-MODIFIED:20220125T032223Z
UID:10004244-1647851400-1647864000@www.springcreekoaks.org
SUMMARY:CH 2 courts 1-4\, HLTA Champ 2 North
DESCRIPTION:
URL:https://www.springcreekoaks.org/reservations/ch-2-courts-1-4-hlta-champ-2-north/2022-03-21/
CATEGORIES:Tennis
END:VEVENT
BEGIN:VEVENT
DTSTART;TZID=America/Chicago:20220321T170000
DTEND;TZID=America/Chicago:20220321T190000
DTSTAMP:20260425T102358
CREATED:20220125T162843Z
LAST-MODIFIED:20220125T162843Z
UID:10004275-1647882000-1647889200@www.springcreekoaks.org
SUMMARY:14U Farm League Jaguars Practice - Field 3
DESCRIPTION:14U Farm League Jaguars Practice – Field 3
URL:https://www.springcreekoaks.org/reservations/14u-farm-league-jaguars-practice-field-3/2022-03-21/
CATEGORIES:Baseball Fields
END:VEVENT
BEGIN:VEVENT
DTSTART;TZID=America/Chicago:20220321T190000
DTEND;TZID=America/Chicago:20220321T220000
DTSTAMP:20260425T102358
CREATED:20210921T215242Z
LAST-MODIFIED:20220125T032003Z
UID:10003984-1647889200-1647900000@www.springcreekoaks.org
SUMMARY:CH 2 courts 1-6\, NHTA A-2
DESCRIPTION:
URL:https://www.springcreekoaks.org/reservations/ch-2-courts-1-6-nhta-a-2-2/2022-03-21/
CATEGORIES:Tennis
END:VEVENT
BEGIN:VEVENT
DTSTART;TZID=America/Chicago:20220322T080000
DTEND;TZID=America/Chicago:20220322T093000
DTSTAMP:20260425T102358
CREATED:20220131T204916Z
LAST-MODIFIED:20220131T204916Z
UID:10000021-1647936000-1647941400@www.springcreekoaks.org
SUMMARY:CH 2 court 6\, Mason
DESCRIPTION:
URL:https://www.springcreekoaks.org/reservations/ch-2-court-6-mason-13/2022-03-22/
CATEGORIES:Tennis
END:VEVENT
BEGIN:VEVENT
DTSTART;TZID=America/Chicago:20220322T080000
DTEND;TZID=America/Chicago:20220322T120000
DTSTAMP:20260425T102358
CREATED:20220203T004639Z
LAST-MODIFIED:20220203T004639Z
UID:10004413-1647936000-1647950400@www.springcreekoaks.org
SUMMARY:CH 1 court 1\, Tennis Pro Danny
DESCRIPTION:
URL:https://www.springcreekoaks.org/reservations/ch-1-court-1-tennis-pro-danny-4/2022-03-22/
CATEGORIES:Tennis
END:VEVENT
BEGIN:VEVENT
DTSTART;TZID=America/Chicago:20220322T083000
DTEND;TZID=America/Chicago:20220322T123000
DTSTAMP:20260425T102358
CREATED:20220307T012346Z
LAST-MODIFIED:20220307T012346Z
UID:10000794-1647937800-1647952200@www.springcreekoaks.org
SUMMARY:Kuehnle courts 1-4\, JR Baines rain makeup
DESCRIPTION:
URL:https://www.springcreekoaks.org/reservations/kuehnle-courts-1-4-jr-baines-rain-makeup/
CATEGORIES:Tennis
END:VEVENT
BEGIN:VEVENT
DTSTART;TZID=America/Chicago:20220322T190000
DTEND;TZID=America/Chicago:20220322T220000
DTSTAMP:20260425T102358
CREATED:20220322T125925Z
LAST-MODIFIED:20220322T125925Z
UID:10000763-1647975600-1647986400@www.springcreekoaks.org
SUMMARY:CH 2 courts 1-6\, NHTA A-2 rain makeup
DESCRIPTION:
URL:https://www.springcreekoaks.org/reservations/ch-2-courts-1-6-nhta-a-2-rain-makeup-3/
CATEGORIES:Tennis
END:VEVENT
BEGIN:VEVENT
DTSTART;TZID=America/Chicago:20220323T080000
DTEND;TZID=America/Chicago:20220323T100000
DTSTAMP:20260425T102358
CREATED:20220203T004757Z
LAST-MODIFIED:20220203T004757Z
UID:10004431-1648022400-1648029600@www.springcreekoaks.org
SUMMARY:Kuehnle courts 3-4\, Tennis pro Danny
DESCRIPTION:
URL:https://www.springcreekoaks.org/reservations/kuehnle-courts-3-4-tennis-pro-danny-7/2022-03-23/
CATEGORIES:Tennis
END:VEVENT
BEGIN:VEVENT
DTSTART;TZID=America/Chicago:20220323T083000
DTEND;TZID=America/Chicago:20220323T120000
DTSTAMP:20260425T102358
CREATED:20220305T010326Z
LAST-MODIFIED:20220306T002252Z
UID:10000453-1648024200-1648036800@www.springcreekoaks.org
SUMMARY:CH 2 courts 1-2\, JR open 2 rain makeup
DESCRIPTION:
URL:https://www.springcreekoaks.org/reservations/ch-2-court-1-jr-open-2-rain-makeup-2/
CATEGORIES:Tennis
END:VEVENT
BEGIN:VEVENT
DTSTART;TZID=America/Chicago:20220323T083000
DTEND;TZID=America/Chicago:20220323T123000
DTSTAMP:20260425T102358
CREATED:20220307T012432Z
LAST-MODIFIED:20220322T125707Z
UID:10000678-1648024200-1648038600@www.springcreekoaks.org
SUMMARY:CH 2 courts 4-6\, JR Baines rain makeup
DESCRIPTION:
URL:https://www.springcreekoaks.org/reservations/ch-2-courts-4-jr-baines-rain-makeup/
CATEGORIES:Tennis
END:VEVENT
BEGIN:VEVENT
DTSTART;TZID=America/Chicago:20220323T090000
DTEND;TZID=America/Chicago:20220323T120000
DTSTAMP:20260425T102358
CREATED:20220131T210803Z
LAST-MODIFIED:20220131T210803Z
UID:10004398-1648026000-1648036800@www.springcreekoaks.org
SUMMARY:CH 1 courts 2-3 (pickleball)\, Hudson
DESCRIPTION:
URL:https://www.springcreekoaks.org/reservations/ch-1-courts-2-3-pickleball-hudson-2/2022-03-23/
CATEGORIES:Tennis
END:VEVENT
BEGIN:VEVENT
DTSTART;TZID=America/Chicago:20220323T090000
DTEND;TZID=America/Chicago:20220323T120000
DTSTAMP:20260425T102358
CREATED:20220322T191446Z
LAST-MODIFIED:20220323T130712Z
UID:10000438-1648026000-1648036800@www.springcreekoaks.org
SUMMARY:Kuehnle courts 1-2\, Mason rain makeup
DESCRIPTION:
URL:https://www.springcreekoaks.org/reservations/kuehnle-courts-1-2-mason/
CATEGORIES:Tennis
END:VEVENT
END:VCALENDAR