BEGIN:VCALENDAR
VERSION:2.0
PRODID:-//Spring Creek Oaks - ECPv6.15.20//NONSGML v1.0//EN
CALSCALE:GREGORIAN
METHOD:PUBLISH
X-ORIGINAL-URL:https://www.springcreekoaks.org
X-WR-CALDESC:Events for Spring Creek Oaks
REFRESH-INTERVAL;VALUE=DURATION:PT1H
X-Robots-Tag:noindex
X-PUBLISHED-TTL:PT1H
BEGIN:VTIMEZONE
TZID:America/Chicago
BEGIN:DAYLIGHT
TZOFFSETFROM:-0600
TZOFFSETTO:-0500
TZNAME:CDT
DTSTART:20230312T080000
END:DAYLIGHT
BEGIN:STANDARD
TZOFFSETFROM:-0500
TZOFFSETTO:-0600
TZNAME:CST
DTSTART:20231105T070000
END:STANDARD
BEGIN:DAYLIGHT
TZOFFSETFROM:-0600
TZOFFSETTO:-0500
TZNAME:CDT
DTSTART:20240310T080000
END:DAYLIGHT
BEGIN:STANDARD
TZOFFSETFROM:-0500
TZOFFSETTO:-0600
TZNAME:CST
DTSTART:20241103T070000
END:STANDARD
BEGIN:DAYLIGHT
TZOFFSETFROM:-0600
TZOFFSETTO:-0500
TZNAME:CDT
DTSTART:20250309T080000
END:DAYLIGHT
BEGIN:STANDARD
TZOFFSETFROM:-0500
TZOFFSETTO:-0600
TZNAME:CST
DTSTART:20251102T070000
END:STANDARD
END:VTIMEZONE
BEGIN:VEVENT
DTSTART;TZID=America/Chicago:20240403T160000
DTEND;TZID=America/Chicago:20240403T200000
DTSTAMP:20260419T215052
CREATED:20240201T124730Z
LAST-MODIFIED:20240424T115718Z
UID:10007665-1712160000-1712174400@www.springcreekoaks.org
SUMMARY:Field 1 - Jaguars - 14U
DESCRIPTION:
URL:https://www.springcreekoaks.org/reservations/field-1-jaguars-14u/2024-04-03/
LOCATION:Baseball Field 1\, United States
CATEGORIES:Baseball Fields
END:VEVENT
BEGIN:VEVENT
DTSTART;TZID=America/Chicago:20240403T170000
DTEND;TZID=America/Chicago:20240403T190000
DTSTAMP:20260419T215052
CREATED:20240115T175440Z
LAST-MODIFIED:20240115T180134Z
UID:10006952-1712163600-1712170800@www.springcreekoaks.org
SUMMARY:Kuehnle courts 3-4\, Coach Danny
DESCRIPTION:
URL:https://www.springcreekoaks.org/reservations/kuehnle-courts-3-4-coach-danny-6/2024-04-03/
CATEGORIES:Tennis
END:VEVENT
BEGIN:VEVENT
DTSTART;VALUE=DATE:20240404
DTEND;VALUE=DATE:20240405
DTSTAMP:20260419T215052
CREATED:20240404T132512Z
LAST-MODIFIED:20240404T132512Z
UID:10008203-1712188800-1712275199@www.springcreekoaks.org
SUMMARY:SCO Dolphins CH2
DESCRIPTION:
URL:https://www.springcreekoaks.org/reservations/sco-dolphins-ch2-11/
LOCATION:Clubhouse 2\, 6002 Bur Oak Dr\, Spring\, 77379\, United States
CATEGORIES:Clubhouses
GEO:30.037539;-95.5070911
X-APPLE-STRUCTURED-LOCATION;VALUE=URI;X-ADDRESS=Clubhouse 2 6002 Bur Oak Dr Spring 77379 United States;X-APPLE-RADIUS=500;X-TITLE=6002 Bur Oak Dr:geo:-95.5070911,30.037539
END:VEVENT
BEGIN:VEVENT
DTSTART;TZID=America/Chicago:20240404T083000
DTEND;TZID=America/Chicago:20240404T120000
DTSTAMP:20260419T215052
CREATED:20231126T144446Z
LAST-MODIFIED:20231126T144859Z
UID:10003340-1712219400-1712232000@www.springcreekoaks.org
SUMMARY:CH 1 courts 2-3\, Palmer
DESCRIPTION:
URL:https://www.springcreekoaks.org/reservations/ch-1-courts-2-3-palmer/2024-04-04/
CATEGORIES:Tennis
END:VEVENT
BEGIN:VEVENT
DTSTART;TZID=America/Chicago:20240404T083000
DTEND;TZID=America/Chicago:20240404T120000
DTSTAMP:20260419T215052
CREATED:20240118T191357Z
LAST-MODIFIED:20240118T191357Z
UID:10007469-1712219400-1712232000@www.springcreekoaks.org
SUMMARY:CH 2 courts 1-4\, NW league champ
DESCRIPTION:
URL:https://www.springcreekoaks.org/reservations/ch-2-courts-1-4-nw-league-champ/2024-04-04/
CATEGORIES:Tennis
END:VEVENT
BEGIN:VEVENT
DTSTART;TZID=America/Chicago:20240404T090000
DTEND;TZID=America/Chicago:20240404T110000
DTSTAMP:20260419T215052
CREATED:20240115T175542Z
LAST-MODIFIED:20240416T023143Z
UID:10007024-1712221200-1712228400@www.springcreekoaks.org
SUMMARY:Kuehnle courts 3-4\, Coach Danny
DESCRIPTION:
URL:https://www.springcreekoaks.org/reservations/kuehnle-courts-3-4-coach-danny-7/2024-04-04/
CATEGORIES:Tennis
END:VEVENT
BEGIN:VEVENT
DTSTART;TZID=America/Chicago:20240404T160000
DTEND;TZID=America/Chicago:20240404T200000
DTSTAMP:20260419T215052
CREATED:20240117T135415Z
LAST-MODIFIED:20240117T135415Z
UID:10007367-1712246400-1712260800@www.springcreekoaks.org
SUMMARY:Field 1 - Young Guns - 12U
DESCRIPTION:
URL:https://www.springcreekoaks.org/reservations/field-1-young-guns-12u/2024-04-04/
LOCATION:Baseball Field 1\, United States
CATEGORIES:Baseball Fields
END:VEVENT
BEGIN:VEVENT
DTSTART;TZID=America/Chicago:20240404T160000
DTEND;TZID=America/Chicago:20240404T200000
DTSTAMP:20260419T215052
CREATED:20240117T135753Z
LAST-MODIFIED:20240117T140132Z
UID:10007413-1712246400-1712260800@www.springcreekoaks.org
SUMMARY:Field 3 - Hot Rod - 7U
DESCRIPTION:
URL:https://www.springcreekoaks.org/reservations/field-3-hot-rod-7u/2024-04-04/
LOCATION:Baseball Field 3\, United States
CATEGORIES:Baseball Fields
END:VEVENT
BEGIN:VEVENT
DTSTART;TZID=America/Chicago:20240404T160000
DTEND;TZID=America/Chicago:20240404T200000
DTSTAMP:20260419T215052
CREATED:20240201T124313Z
LAST-MODIFIED:20240424T115922Z
UID:10007535-1712246400-1712260800@www.springcreekoaks.org
SUMMARY:Field 4 - River Bandits - 6U
DESCRIPTION:
URL:https://www.springcreekoaks.org/reservations/field-4-river-bandits-6u/2024-04-04/
LOCATION:Baseball Field 4\, United States
CATEGORIES:Baseball Fields
END:VEVENT
BEGIN:VEVENT
DTSTART;TZID=America/Chicago:20240404T160000
DTEND;TZID=America/Chicago:20240404T200000
DTSTAMP:20260419T215052
CREATED:20240201T200320Z
LAST-MODIFIED:20240424T120009Z
UID:10007852-1712246400-1712260800@www.springcreekoaks.org
SUMMARY:Field 2 - Blue Rocks - 7U
DESCRIPTION:
URL:https://www.springcreekoaks.org/reservations/field-2-blue-rocks-7u/2024-04-04/
LOCATION:Baseball Field 2\, United States
CATEGORIES:Baseball Fields
END:VEVENT
BEGIN:VEVENT
DTSTART;TZID=America/Chicago:20240404T170000
DTEND;TZID=America/Chicago:20240404T193000
DTSTAMP:20260419T215052
CREATED:20240115T175721Z
LAST-MODIFIED:20240416T023026Z
UID:10007096-1712250000-1712259000@www.springcreekoaks.org
SUMMARY:Kuehnle courts 3-4\, Coach Danny
DESCRIPTION:
URL:https://www.springcreekoaks.org/reservations/kuehnle-courts-3-4-coach-danny-8/2024-04-04/
CATEGORIES:Tennis
END:VEVENT
BEGIN:VEVENT
DTSTART;TZID=America/Chicago:20240404T170000
DTEND;TZID=America/Chicago:20240404T210000
DTSTAMP:20260419T215052
CREATED:20191114T164535Z
LAST-MODIFIED:20191114T164535Z
UID:10000360-1712250000-1712264400@www.springcreekoaks.org
SUMMARY:CH2 5pm-9pm Waterboard Monthly Meeting
DESCRIPTION:
URL:https://www.springcreekoaks.org/reservations/ch2-5pm-9pm-waterboard-monthly-meeting/2024-04-04/
LOCATION:Clubhouse 2\, 6002 Bur Oak Dr\, Spring\, 77379\, United States
CATEGORIES:Clubhouses
GEO:30.037539;-95.5070911
X-APPLE-STRUCTURED-LOCATION;VALUE=URI;X-ADDRESS=Clubhouse 2 6002 Bur Oak Dr Spring 77379 United States;X-APPLE-RADIUS=500;X-TITLE=6002 Bur Oak Dr:geo:-95.5070911,30.037539
END:VEVENT
BEGIN:VEVENT
DTSTART;TZID=America/Chicago:20240404T190000
DTEND;TZID=America/Chicago:20240404T220000
DTSTAMP:20260419T215052
CREATED:20240113T021559Z
LAST-MODIFIED:20240131T152936Z
UID:10006534-1712257200-1712268000@www.springcreekoaks.org
SUMMARY:CH 2 PB courts 3-4\, P. Guzman
DESCRIPTION:
URL:https://www.springcreekoaks.org/reservations/ch-1-courts-2-3-p-guzman/2024-04-04/
CATEGORIES:Tennis
END:VEVENT
BEGIN:VEVENT
DTSTART;TZID=America/Chicago:20240405T083000
DTEND;TZID=America/Chicago:20240405T120000
DTSTAMP:20260419T215052
CREATED:20240117T020642Z
LAST-MODIFIED:20240117T020642Z
UID:10007137-1712305800-1712318400@www.springcreekoaks.org
SUMMARY:CH 2 courts 1-4\, JR Open 2 Nacewski
DESCRIPTION:
URL:https://www.springcreekoaks.org/reservations/ch-2-courts-1-4-jr-open-2-nacewski/2024-04-05/
CATEGORIES:Tennis
END:VEVENT
BEGIN:VEVENT
DTSTART;TZID=America/Chicago:20240405T083000
DTEND;TZID=America/Chicago:20240405T120000
DTSTAMP:20260419T215052
CREATED:20240117T021036Z
LAST-MODIFIED:20240117T021036Z
UID:10007142-1712305800-1712318400@www.springcreekoaks.org
SUMMARY:Kuehnle courts 1-4\, JR B3
DESCRIPTION:
URL:https://www.springcreekoaks.org/reservations/kuehnle-courts-1-4-jr-b3-3/
CATEGORIES:Tennis
END:VEVENT
BEGIN:VEVENT
DTSTART;TZID=America/Chicago:20240405T160000
DTEND;TZID=America/Chicago:20240405T200000
DTSTAMP:20260419T215052
CREATED:20240117T135855Z
LAST-MODIFIED:20240117T135855Z
UID:10007433-1712332800-1712347200@www.springcreekoaks.org
SUMMARY:Field 1 - Skeeters - 10U
DESCRIPTION:
URL:https://www.springcreekoaks.org/reservations/field-1-skeeters-10u/2024-04-05/
LOCATION:Baseball Field 1\, United States
CATEGORIES:Baseball Fields
END:VEVENT
BEGIN:VEVENT
DTSTART;TZID=America/Chicago:20240405T180000
DTEND;TZID=America/Chicago:20240405T190000
DTSTAMP:20260419T215052
CREATED:20240115T175843Z
LAST-MODIFIED:20240118T192404Z
UID:10007116-1712340000-1712343600@www.springcreekoaks.org
SUMMARY:Kuehnle courts 3-4\, Coach Danny
DESCRIPTION:
URL:https://www.springcreekoaks.org/reservations/kuehnle-courts-3-4-coach-danny-9/2024-04-05/
CATEGORIES:Tennis
END:VEVENT
BEGIN:VEVENT
DTSTART;VALUE=DATE:20240406
DTEND;VALUE=DATE:20240407
DTSTAMP:20260419T215052
CREATED:20240130T031257Z
LAST-MODIFIED:20240130T031257Z
UID:10007498-1712361600-1712447999@www.springcreekoaks.org
SUMMARY:Berend CH2
DESCRIPTION:
URL:https://www.springcreekoaks.org/reservations/berend-ch2-2/
LOCATION:Clubhouse 2\, 6002 Bur Oak Dr\, Spring\, 77379\, United States
CATEGORIES:Clubhouses
GEO:30.037539;-95.5070911
X-APPLE-STRUCTURED-LOCATION;VALUE=URI;X-ADDRESS=Clubhouse 2 6002 Bur Oak Dr Spring 77379 United States;X-APPLE-RADIUS=500;X-TITLE=6002 Bur Oak Dr:geo:-95.5070911,30.037539
END:VEVENT
BEGIN:VEVENT
DTSTART;TZID=America/Chicago:20240406T080000
DTEND;TZID=America/Chicago:20240406T110000
DTSTAMP:20260419T215052
CREATED:20240117T135955Z
LAST-MODIFIED:20240117T135955Z
UID:10007455-1712390400-1712401200@www.springcreekoaks.org
SUMMARY:Field 1 - Coyotes - 12U
DESCRIPTION:
URL:https://www.springcreekoaks.org/reservations/field-1-coyotes-12u-3/2024-04-06/
LOCATION:Baseball Field 1\, United States
CATEGORIES:Baseball Fields
END:VEVENT
BEGIN:VEVENT
DTSTART;TZID=America/Chicago:20240406T083000
DTEND;TZID=America/Chicago:20240406T120000
DTSTAMP:20260419T215052
CREATED:20231126T144446Z
LAST-MODIFIED:20231126T144859Z
UID:10003341-1712392200-1712404800@www.springcreekoaks.org
SUMMARY:CH 1 courts 2-3\, Palmer
DESCRIPTION:
URL:https://www.springcreekoaks.org/reservations/ch-1-courts-2-3-palmer/2024-04-06/
CATEGORIES:Tennis
END:VEVENT
BEGIN:VEVENT
DTSTART;TZID=America/Chicago:20240406T160000
DTEND;TZID=America/Chicago:20240406T190000
DTSTAMP:20260419T215052
CREATED:20240225T215408Z
LAST-MODIFIED:20240225T215408Z
UID:10008049-1712419200-1712430000@www.springcreekoaks.org
SUMMARY:CH 2 PB courts 1-4\, A. Cortez
DESCRIPTION:
URL:https://www.springcreekoaks.org/reservations/ch-2-pb-courts-1-4-a-cortez/
CATEGORIES:Tennis
END:VEVENT
BEGIN:VEVENT
DTSTART;TZID=America/Chicago:20240407T080000
DTEND;TZID=America/Chicago:20240407T150000
DTSTAMP:20260419T215052
CREATED:20240110T015954Z
LAST-MODIFIED:20240110T015954Z
UID:10006368-1712476800-1712502000@www.springcreekoaks.org
SUMMARY:Gulf Coast Blood Drive CH2
DESCRIPTION:
URL:https://www.springcreekoaks.org/reservations/gulf-coast-blood-drive-ch2-7/
LOCATION:Clubhouse 2\, 6002 Bur Oak Dr\, Spring\, 77379\, United States
CATEGORIES:Clubhouses
GEO:30.037539;-95.5070911
X-APPLE-STRUCTURED-LOCATION;VALUE=URI;X-ADDRESS=Clubhouse 2 6002 Bur Oak Dr Spring 77379 United States;X-APPLE-RADIUS=500;X-TITLE=6002 Bur Oak Dr:geo:-95.5070911,30.037539
END:VEVENT
BEGIN:VEVENT
DTSTART;TZID=America/Chicago:20240407T110000
DTEND;TZID=America/Chicago:20240407T150000
DTSTAMP:20260419T215052
CREATED:20240219T120310Z
LAST-MODIFIED:20240424T115624Z
UID:10007990-1712487600-1712502000@www.springcreekoaks.org
SUMMARY:Field 1 - Foster - 12U
DESCRIPTION:
URL:https://www.springcreekoaks.org/reservations/field-1-foster-12u/2024-04-07/
LOCATION:Baseball Field 1\, United States
CATEGORIES:Baseball Fields
END:VEVENT
BEGIN:VEVENT
DTSTART;TZID=America/Chicago:20240407T160000
DTEND;TZID=America/Chicago:20240407T180000
DTSTAMP:20260419T215052
CREATED:20240110T020046Z
LAST-MODIFIED:20240110T020046Z
UID:10006369-1712505600-1712512800@www.springcreekoaks.org
SUMMARY:SCO Dolphins CH2
DESCRIPTION:
URL:https://www.springcreekoaks.org/reservations/sco-dolphins-ch2-9/
LOCATION:Clubhouse 2\, 6002 Bur Oak Dr\, Spring\, 77379\, United States
CATEGORIES:Clubhouses
GEO:30.037539;-95.5070911
X-APPLE-STRUCTURED-LOCATION;VALUE=URI;X-ADDRESS=Clubhouse 2 6002 Bur Oak Dr Spring 77379 United States;X-APPLE-RADIUS=500;X-TITLE=6002 Bur Oak Dr:geo:-95.5070911,30.037539
END:VEVENT
BEGIN:VEVENT
DTSTART;TZID=America/Chicago:20240407T160000
DTEND;TZID=America/Chicago:20240407T200000
DTSTAMP:20260419T215052
CREATED:20240201T124730Z
LAST-MODIFIED:20240424T115718Z
UID:10007666-1712505600-1712520000@www.springcreekoaks.org
SUMMARY:Field 1 - Jaguars - 14U
DESCRIPTION:
URL:https://www.springcreekoaks.org/reservations/field-1-jaguars-14u/2024-04-07/
LOCATION:Baseball Field 1\, United States
CATEGORIES:Baseball Fields
END:VEVENT
BEGIN:VEVENT
DTSTART;TZID=America/Chicago:20240408T083000
DTEND;TZID=America/Chicago:20240408T110000
DTSTAMP:20260419T215052
CREATED:20240115T174755Z
LAST-MODIFIED:20240115T180718Z
UID:10006594-1712565000-1712574000@www.springcreekoaks.org
SUMMARY:Kuehnle courts 3-4\, Coach Danny
DESCRIPTION:
URL:https://www.springcreekoaks.org/reservations/kuehnle-courts-3-4-coach-danny/2024-04-08/
CATEGORIES:Tennis
END:VEVENT
BEGIN:VEVENT
DTSTART;TZID=America/Chicago:20240408T160000
DTEND;TZID=America/Chicago:20240408T200000
DTSTAMP:20260419T215052
CREATED:20240117T135025Z
LAST-MODIFIED:20240117T135536Z
UID:10007166-1712592000-1712606400@www.springcreekoaks.org
SUMMARY:Field 2 - Orioles - 11U
DESCRIPTION:
URL:https://www.springcreekoaks.org/reservations/field-2-orioles-11u-2/2024-04-08/
LOCATION:Baseball Field 2\, United States
CATEGORIES:Baseball Fields
END:VEVENT
BEGIN:VEVENT
DTSTART;TZID=America/Chicago:20240408T160000
DTEND;TZID=America/Chicago:20240408T200000
DTSTAMP:20260419T215052
CREATED:20240201T142117Z
LAST-MODIFIED:20240424T115832Z
UID:10007787-1712592000-1712606400@www.springcreekoaks.org
SUMMARY:Field 3 - Rail Riders - 6U
DESCRIPTION:
URL:https://www.springcreekoaks.org/reservations/field-3-rail-riders-6u/2024-04-08/
LOCATION:Baseball Field 3\, United States
CATEGORIES:Baseball Fields
END:VEVENT
BEGIN:VEVENT
DTSTART;TZID=America/Chicago:20240408T160000
DTEND;TZID=America/Chicago:20240408T200000
DTSTAMP:20260419T215052
CREATED:20240216T161846Z
LAST-MODIFIED:20240424T115530Z
UID:10007928-1712592000-1712606400@www.springcreekoaks.org
SUMMARY:Field 1 - Ducks - 12U
DESCRIPTION:
URL:https://www.springcreekoaks.org/reservations/field-1-ducks-12u/2024-04-08/
LOCATION:Baseball Field 1\, United States
CATEGORIES:Baseball Fields
END:VEVENT
BEGIN:VEVENT
DTSTART;TZID=America/Chicago:20240408T170000
DTEND;TZID=America/Chicago:20240408T190000
DTSTAMP:20260419T215052
CREATED:20240115T174912Z
LAST-MODIFIED:20240115T180603Z
UID:10006665-1712595600-1712602800@www.springcreekoaks.org
SUMMARY:Kuehnle courts 3-4\, Coach Danny
DESCRIPTION:
URL:https://www.springcreekoaks.org/reservations/kuehnle-courts-3-4-coach-danny-2/2024-04-08/
CATEGORIES:Tennis
END:VEVENT
END:VCALENDAR