BEGIN:VCALENDAR
VERSION:2.0
PRODID:-//Spring Creek Oaks - ECPv6.15.20//NONSGML v1.0//EN
CALSCALE:GREGORIAN
METHOD:PUBLISH
X-WR-CALNAME:Spring Creek Oaks
X-ORIGINAL-URL:https://www.springcreekoaks.org
X-WR-CALDESC:Events for Spring Creek Oaks
REFRESH-INTERVAL;VALUE=DURATION:PT1H
X-Robots-Tag:noindex
X-PUBLISHED-TTL:PT1H
BEGIN:VTIMEZONE
TZID:America/Chicago
BEGIN:DAYLIGHT
TZOFFSETFROM:-0600
TZOFFSETTO:-0500
TZNAME:CDT
DTSTART:20220313T080000
END:DAYLIGHT
BEGIN:STANDARD
TZOFFSETFROM:-0500
TZOFFSETTO:-0600
TZNAME:CST
DTSTART:20221106T070000
END:STANDARD
BEGIN:DAYLIGHT
TZOFFSETFROM:-0600
TZOFFSETTO:-0500
TZNAME:CDT
DTSTART:20230312T080000
END:DAYLIGHT
BEGIN:STANDARD
TZOFFSETFROM:-0500
TZOFFSETTO:-0600
TZNAME:CST
DTSTART:20231105T070000
END:STANDARD
BEGIN:DAYLIGHT
TZOFFSETFROM:-0600
TZOFFSETTO:-0500
TZNAME:CDT
DTSTART:20240310T080000
END:DAYLIGHT
BEGIN:STANDARD
TZOFFSETFROM:-0500
TZOFFSETTO:-0600
TZNAME:CST
DTSTART:20241103T070000
END:STANDARD
END:VTIMEZONE
BEGIN:VEVENT
DTSTART;TZID=America/Chicago:20231011T160000
DTEND;TZID=America/Chicago:20231011T200000
DTSTAMP:20260425T174824
CREATED:20230710T115703Z
LAST-MODIFIED:20230710T115703Z
UID:10005787-1697040000-1697054400@www.springcreekoaks.org
SUMMARY:Field 2 - Orioles - 11U
DESCRIPTION:
URL:https://www.springcreekoaks.org/reservations/field-2-orioles-11u/2023-10-11/
LOCATION:Baseball Field 2\, United States
CATEGORIES:Baseball Fields
END:VEVENT
BEGIN:VEVENT
DTSTART;TZID=America/Chicago:20231011T160000
DTEND;TZID=America/Chicago:20231011T200000
DTSTAMP:20260425T174824
CREATED:20230824T141412Z
LAST-MODIFIED:20230824T141412Z
UID:10006195-1697040000-1697054400@www.springcreekoaks.org
SUMMARY:Field 3 - Jaguars - 14U
DESCRIPTION:
URL:https://www.springcreekoaks.org/reservations/field-3-jaguars-14u-2/2023-10-11/
LOCATION:Baseball Field 3\, United States
CATEGORIES:Baseball Fields
END:VEVENT
BEGIN:VEVENT
DTSTART;TZID=America/Chicago:20231011T170000
DTEND;TZID=America/Chicago:20231011T180000
DTSTAMP:20260425T174824
CREATED:20230814T132653Z
LAST-MODIFIED:20230814T132653Z
UID:10006016-1697043600-1697047200@www.springcreekoaks.org
SUMMARY:Kuehnle courts 3-4\, Orange ball class
DESCRIPTION:
URL:https://www.springcreekoaks.org/reservations/kuehnle-courts-3-4-orange-ball-class-2/2023-10-11/
CATEGORIES:Tennis
END:VEVENT
BEGIN:VEVENT
DTSTART;TZID=America/Chicago:20231011T180000
DTEND;TZID=America/Chicago:20231011T190000
DTSTAMP:20260425T174824
CREATED:20230814T132829Z
LAST-MODIFIED:20230814T132829Z
UID:10006035-1697047200-1697050800@www.springcreekoaks.org
SUMMARY:Kuehnle courts 3-4\, Yellow ball class
DESCRIPTION:
URL:https://www.springcreekoaks.org/reservations/kuehnle-courts-3-4-yellow-ball-class-3/2023-10-11/
CATEGORIES:Tennis
END:VEVENT
BEGIN:VEVENT
DTSTART;TZID=America/Chicago:20231011T180000
DTEND;TZID=America/Chicago:20231011T200000
DTSTAMP:20260425T174824
CREATED:20200805T160749Z
LAST-MODIFIED:20200805T161100Z
UID:10001456-1697047200-1697054400@www.springcreekoaks.org
SUMMARY:CIFUENTES (Big Soccer Field)
DESCRIPTION:
URL:https://www.springcreekoaks.org/reservations/cifuentes-open-play-big-soccer-field/2023-10-11/
CATEGORIES:Soccer Fields
END:VEVENT
BEGIN:VEVENT
DTSTART;TZID=America/Chicago:20231012T090000
DTEND;TZID=America/Chicago:20231012T110000
DTSTAMP:20260425T174824
CREATED:20230821T190602Z
LAST-MODIFIED:20230821T190602Z
UID:10006146-1697101200-1697108400@www.springcreekoaks.org
SUMMARY:Kuehnle courts 3-4\, Homeschool classes
DESCRIPTION:
URL:https://www.springcreekoaks.org/reservations/kuehnle-courts-3-4-homeschool-classes/2023-10-12/
CATEGORIES:Tennis
END:VEVENT
BEGIN:VEVENT
DTSTART;TZID=America/Chicago:20231012T090000
DTEND;TZID=America/Chicago:20231012T120000
DTSTAMP:20260425T174824
CREATED:20230819T184409Z
LAST-MODIFIED:20230907T224257Z
UID:10006129-1697101200-1697112000@www.springcreekoaks.org
SUMMARY:CH 1 courts 2-3\, Palmer
DESCRIPTION:
URL:https://www.springcreekoaks.org/reservations/ch-1-courts-2-3-pickleball-meet-and-greet-7/2023-10-12/
CATEGORIES:Tennis
END:VEVENT
BEGIN:VEVENT
DTSTART;TZID=America/Chicago:20231012T090000
DTEND;TZID=America/Chicago:20231012T120000
DTSTAMP:20260425T174824
CREATED:20230907T225043Z
LAST-MODIFIED:20230907T225043Z
UID:10006279-1697101200-1697112000@www.springcreekoaks.org
SUMMARY:CH 1 court 1\, Pickleball meet and greet
DESCRIPTION:
URL:https://www.springcreekoaks.org/reservations/ch-1-court-1-pickleball-meet-and-greet-3/2023-10-12/
CATEGORIES:Tennis
END:VEVENT
BEGIN:VEVENT
DTSTART;TZID=America/Chicago:20231012T090000
DTEND;TZID=America/Chicago:20231012T140000
DTSTAMP:20260425T174824
CREATED:20230328T012811Z
LAST-MODIFIED:20230328T012811Z
UID:10002204-1697101200-1697119200@www.springcreekoaks.org
SUMMARY:SCO Tennis Camp CH2
DESCRIPTION:
URL:https://www.springcreekoaks.org/reservations/sco-tennis-camp-ch2-3/2023-10-12/
LOCATION:Clubhouse 2\, 6002 Bur Oak Dr\, Spring\, 77379\, United States
CATEGORIES:Clubhouses
GEO:30.037539;-95.5070911
X-APPLE-STRUCTURED-LOCATION;VALUE=URI;X-ADDRESS=Clubhouse 2 6002 Bur Oak Dr Spring 77379 United States;X-APPLE-RADIUS=500;X-TITLE=6002 Bur Oak Dr:geo:-95.5070911,30.037539
END:VEVENT
BEGIN:VEVENT
DTSTART;TZID=America/Chicago:20231012T093000
DTEND;TZID=America/Chicago:20231012T110000
DTSTAMP:20260425T174824
CREATED:20230916T183322Z
LAST-MODIFIED:20230916T183322Z
UID:10003965-1697103000-1697108400@www.springcreekoaks.org
SUMMARY:CH 2 courts 1-3\, coach Danny tennis camp
DESCRIPTION:
URL:https://www.springcreekoaks.org/reservations/ch-2-courts-1-3-coach-danny-tennis-camp-7/2023-10-12/
CATEGORIES:Tennis
END:VEVENT
BEGIN:VEVENT
DTSTART;TZID=America/Chicago:20231012T160000
DTEND;TZID=America/Chicago:20231012T200000
DTSTAMP:20260425T174824
CREATED:20230703T125024Z
LAST-MODIFIED:20230703T125024Z
UID:10003529-1697126400-1697140800@www.springcreekoaks.org
SUMMARY:Field 2 - Texas Havoc - 12U
DESCRIPTION:
URL:https://www.springcreekoaks.org/reservations/field-2-texas-havoc-12u/2023-10-12/
LOCATION:Baseball Field 2\, United States
CATEGORIES:Baseball Fields
END:VEVENT
BEGIN:VEVENT
DTSTART;TZID=America/Chicago:20231012T160000
DTEND;TZID=America/Chicago:20231012T200000
DTSTAMP:20260425T174824
CREATED:20230711T214850Z
LAST-MODIFIED:20230711T214850Z
UID:10001236-1697126400-1697140800@www.springcreekoaks.org
SUMMARY:Field 4 - Eagles - 9U
DESCRIPTION:
URL:https://www.springcreekoaks.org/reservations/field-4-eagles-9u/2023-10-12/
LOCATION:Baseball Field 4\, United States
CATEGORIES:Baseball Fields
END:VEVENT
BEGIN:VEVENT
DTSTART;TZID=America/Chicago:20231012T160000
DTEND;TZID=America/Chicago:20231012T200000
DTSTAMP:20260425T174824
CREATED:20230726T111506Z
LAST-MODIFIED:20230726T111506Z
UID:10001270-1697126400-1697140800@www.springcreekoaks.org
SUMMARY:Field 3 - Young Guns - 12U
DESCRIPTION:
URL:https://www.springcreekoaks.org/reservations/field-3-young-guns-12u/2023-10-12/
LOCATION:Baseball Field 3\, United States
CATEGORIES:Baseball Fields
END:VEVENT
BEGIN:VEVENT
DTSTART;TZID=America/Chicago:20231012T160000
DTEND;TZID=America/Chicago:20231012T200000
DTSTAMP:20260425T174824
CREATED:20230801T112237Z
LAST-MODIFIED:20230801T112237Z
UID:10005809-1697126400-1697140800@www.springcreekoaks.org
SUMMARY:Field 1 - Coyotes - 12U
DESCRIPTION:
URL:https://www.springcreekoaks.org/reservations/field-1-coyotes-12u-2/2023-10-12/
LOCATION:Baseball Field 1\, United States
CATEGORIES:Baseball Fields
END:VEVENT
BEGIN:VEVENT
DTSTART;TZID=America/Chicago:20231012T170000
DTEND;TZID=America/Chicago:20231012T180000
DTSTAMP:20260425T174824
CREATED:20230814T132947Z
LAST-MODIFIED:20230814T132947Z
UID:10006054-1697130000-1697133600@www.springcreekoaks.org
SUMMARY:Kuehnle courts 3-4\, Orange ball class
DESCRIPTION:
URL:https://www.springcreekoaks.org/reservations/kuehnle-courts-3-4-orange-ball-class-3/2023-10-12/
CATEGORIES:Tennis
END:VEVENT
BEGIN:VEVENT
DTSTART;TZID=America/Chicago:20231012T180000
DTEND;TZID=America/Chicago:20231012T193000
DTSTAMP:20260425T174824
CREATED:20230814T133101Z
LAST-MODIFIED:20230814T133101Z
UID:10006073-1697133600-1697139000@www.springcreekoaks.org
SUMMARY:Kuehnle courts 3-4\, Yellow ball class
DESCRIPTION:
URL:https://www.springcreekoaks.org/reservations/kuehnle-courts-3-4-yellow-ball-class-4/2023-10-12/
CATEGORIES:Tennis
END:VEVENT
BEGIN:VEVENT
DTSTART;TZID=America/Chicago:20231012T180000
DTEND;TZID=America/Chicago:20231012T200000
DTSTAMP:20260425T174824
CREATED:20230724T185620Z
LAST-MODIFIED:20231013T145755Z
UID:10003478-1697133600-1697140800@www.springcreekoaks.org
SUMMARY:Jenny Tyger (3rd graders soccer)
DESCRIPTION:
URL:https://www.springcreekoaks.org/reservations/jenny-tyger-3rd-graders-soccer/2023-10-12/
LOCATION:Small Soccer Field (CH 2)
CATEGORIES:Soccer Fields
END:VEVENT
BEGIN:VEVENT
DTSTART;TZID=America/Chicago:20231012T190000
DTEND;TZID=America/Chicago:20231012T223000
DTSTAMP:20260425T174824
CREATED:20230909T134422Z
LAST-MODIFIED:20230909T134422Z
UID:10003678-1697137200-1697149800@www.springcreekoaks.org
SUMMARY:CH 2 courts 1-6\, Men’s league C team
DESCRIPTION:
URL:https://www.springcreekoaks.org/reservations/ch-2-courts-1-6-mens-league-c-team-5/2023-10-12/
CATEGORIES:Tennis
END:VEVENT
BEGIN:VEVENT
DTSTART;TZID=America/Chicago:20231012T193000
DTEND;TZID=America/Chicago:20231012T220000
DTSTAMP:20260425T174824
CREATED:20230911T200317Z
LAST-MODIFIED:20230911T200317Z
UID:10003641-1697139000-1697148000@www.springcreekoaks.org
SUMMARY:CH 1 courts 2-3 (Pickleball)\, Guzman
DESCRIPTION:
URL:https://www.springcreekoaks.org/reservations/ch-1-courts-2-3-pickleball-guzman/2023-10-12/
CATEGORIES:Tennis
END:VEVENT
BEGIN:VEVENT
DTSTART;TZID=America/Chicago:20231013T090000
DTEND;TZID=America/Chicago:20231013T120000
DTSTAMP:20260425T174824
CREATED:20231011T031433Z
LAST-MODIFIED:20231011T031433Z
UID:10006316-1697187600-1697198400@www.springcreekoaks.org
SUMMARY:Kuehnle courts 1-2\, Hancock
DESCRIPTION:
URL:https://www.springcreekoaks.org/reservations/kuehnle-courts-1-2-hancock-3/
CATEGORIES:Tennis
END:VEVENT
BEGIN:VEVENT
DTSTART;TZID=America/Chicago:20231013T090000
DTEND;TZID=America/Chicago:20231013T120000
DTSTAMP:20260425T174824
CREATED:20231012T233437Z
LAST-MODIFIED:20231012T233437Z
UID:10006340-1697187600-1697198400@www.springcreekoaks.org
SUMMARY:CH 2 court 6\, Hudson
DESCRIPTION:
URL:https://www.springcreekoaks.org/reservations/ch-2-court-6-hudson-20/
CATEGORIES:Tennis
END:VEVENT
BEGIN:VEVENT
DTSTART;TZID=America/Chicago:20231013T090000
DTEND;TZID=America/Chicago:20231013T140000
DTSTAMP:20260425T174824
CREATED:20230328T012811Z
LAST-MODIFIED:20230328T012811Z
UID:10002205-1697187600-1697205600@www.springcreekoaks.org
SUMMARY:SCO Tennis Camp CH2
DESCRIPTION:
URL:https://www.springcreekoaks.org/reservations/sco-tennis-camp-ch2-3/2023-10-13/
LOCATION:Clubhouse 2\, 6002 Bur Oak Dr\, Spring\, 77379\, United States
CATEGORIES:Clubhouses
GEO:30.037539;-95.5070911
X-APPLE-STRUCTURED-LOCATION;VALUE=URI;X-ADDRESS=Clubhouse 2 6002 Bur Oak Dr Spring 77379 United States;X-APPLE-RADIUS=500;X-TITLE=6002 Bur Oak Dr:geo:-95.5070911,30.037539
END:VEVENT
BEGIN:VEVENT
DTSTART;TZID=America/Chicago:20231013T173000
DTEND;TZID=America/Chicago:20231013T193000
DTSTAMP:20260425T174824
CREATED:20231012T150149Z
LAST-MODIFIED:20231013T150253Z
UID:10006317-1697218200-1697225400@www.springcreekoaks.org
SUMMARY:Christensen
DESCRIPTION:
URL:https://www.springcreekoaks.org/reservations/christensen/2023-10-13/
LOCATION:Small Soccer Field (CH 2)
CATEGORIES:Soccer Fields
END:VEVENT
BEGIN:VEVENT
DTSTART;TZID=America/Chicago:20231013T180000
DTEND;TZID=America/Chicago:20231013T190000
DTSTAMP:20260425T174824
CREATED:20230814T133222Z
LAST-MODIFIED:20230814T133222Z
UID:10006092-1697220000-1697223600@www.springcreekoaks.org
SUMMARY:Kuehnle courts 3-4\, Yellow ball class
DESCRIPTION:
URL:https://www.springcreekoaks.org/reservations/kuehnle-courts-3-4-yellow-ball-class-5/2023-10-13/
CATEGORIES:Tennis
END:VEVENT
BEGIN:VEVENT
DTSTART;TZID=America/Chicago:20231013T190000
DTEND;TZID=America/Chicago:20231013T200000
DTSTAMP:20260425T174824
CREATED:20231012T233628Z
LAST-MODIFIED:20231012T233628Z
UID:10006341-1697223600-1697227200@www.springcreekoaks.org
SUMMARY:CH 1\, court 3\, C. Kelly
DESCRIPTION:
URL:https://www.springcreekoaks.org/reservations/ch-1-court-3-c-kelly/
CATEGORIES:Tennis
END:VEVENT
BEGIN:VEVENT
DTSTART;VALUE=DATE:20231014
DTEND;VALUE=DATE:20231015
DTSTAMP:20260425T174824
CREATED:20230504T142744Z
LAST-MODIFIED:20230504T142744Z
UID:10001854-1697241600-1697327999@www.springcreekoaks.org
SUMMARY:Sanders CH2
DESCRIPTION:
URL:https://www.springcreekoaks.org/reservations/sanders-ch2/
LOCATION:Clubhouse 2\, 6002 Bur Oak Dr\, Spring\, 77379\, United States
CATEGORIES:Clubhouses
GEO:30.037539;-95.5070911
X-APPLE-STRUCTURED-LOCATION;VALUE=URI;X-ADDRESS=Clubhouse 2 6002 Bur Oak Dr Spring 77379 United States;X-APPLE-RADIUS=500;X-TITLE=6002 Bur Oak Dr:geo:-95.5070911,30.037539
END:VEVENT
BEGIN:VEVENT
DTSTART;VALUE=DATE:20231014
DTEND;VALUE=DATE:20231015
DTSTAMP:20260425T174824
CREATED:20231005T225856Z
LAST-MODIFIED:20231005T225856Z
UID:10003968-1697241600-1697327999@www.springcreekoaks.org
SUMMARY:Carnes CH1
DESCRIPTION:
URL:https://www.springcreekoaks.org/reservations/carnes-ch1/
LOCATION:Clubhouse 1\, 17111 Misty Creek\, Spring\, TX\, 77379\, United States
CATEGORIES:Clubhouses
GEO:30.0346602;-95.5117522
X-APPLE-STRUCTURED-LOCATION;VALUE=URI;X-ADDRESS=Clubhouse 1 17111 Misty Creek Spring TX 77379 United States;X-APPLE-RADIUS=500;X-TITLE=17111 Misty Creek:geo:-95.5117522,30.0346602
END:VEVENT
BEGIN:VEVENT
DTSTART;TZID=America/Chicago:20231014T070000
DTEND;TZID=America/Chicago:20231014T190000
DTSTAMP:20260425T174824
CREATED:20231009T125424Z
LAST-MODIFIED:20231009T125424Z
UID:10003727-1697266800-1697310000@www.springcreekoaks.org
SUMMARY:CH 2 courts 1-6\, USTA tournament
DESCRIPTION:
URL:https://www.springcreekoaks.org/reservations/ch-2-courts-1-6-usta-tournament-3/2023-10-14/
CATEGORIES:Tennis
END:VEVENT
BEGIN:VEVENT
DTSTART;TZID=America/Chicago:20231014T080000
DTEND;TZID=America/Chicago:20231014T100000
DTSTAMP:20260425T174824
CREATED:20220407T142613Z
LAST-MODIFIED:20231115T201658Z
UID:10004624-1697270400-1697277600@www.springcreekoaks.org
SUMMARY:SCO weekly pickup game (LLERENA)
DESCRIPTION:All SCO residents are invited to play and have some fun.
URL:https://www.springcreekoaks.org/reservations/llerenas-soccer-practice/2023-10-14/
LOCATION:Large Soccer Field (Bilma)\, United States
CATEGORIES:Soccer Fields
END:VEVENT
BEGIN:VEVENT
DTSTART;TZID=America/Chicago:20231014T080000
DTEND;TZID=America/Chicago:20231014T110000
DTSTAMP:20260425T174824
CREATED:20230801T112011Z
LAST-MODIFIED:20230801T112011Z
UID:10003449-1697270400-1697281200@www.springcreekoaks.org
SUMMARY:Field 1 - Coyotes - 12U
DESCRIPTION:
URL:https://www.springcreekoaks.org/reservations/field-1-coyotes-12u/2023-10-14/
LOCATION:Baseball Field 1\, United States
CATEGORIES:Baseball Fields
END:VEVENT
END:VCALENDAR