BEGIN:VCALENDAR
VERSION:2.0
PRODID:-//Spring Creek Oaks - ECPv6.15.20//NONSGML v1.0//EN
CALSCALE:GREGORIAN
METHOD:PUBLISH
X-WR-CALNAME:Spring Creek Oaks
X-ORIGINAL-URL:https://www.springcreekoaks.org
X-WR-CALDESC:Events for Spring Creek Oaks
REFRESH-INTERVAL;VALUE=DURATION:PT1H
X-Robots-Tag:noindex
X-PUBLISHED-TTL:PT1H
BEGIN:VTIMEZONE
TZID:America/Chicago
BEGIN:DAYLIGHT
TZOFFSETFROM:-0600
TZOFFSETTO:-0500
TZNAME:CDT
DTSTART:20200308T080000
END:DAYLIGHT
BEGIN:STANDARD
TZOFFSETFROM:-0500
TZOFFSETTO:-0600
TZNAME:CST
DTSTART:20201101T070000
END:STANDARD
BEGIN:DAYLIGHT
TZOFFSETFROM:-0600
TZOFFSETTO:-0500
TZNAME:CDT
DTSTART:20210314T080000
END:DAYLIGHT
BEGIN:STANDARD
TZOFFSETFROM:-0500
TZOFFSETTO:-0600
TZNAME:CST
DTSTART:20211107T070000
END:STANDARD
BEGIN:DAYLIGHT
TZOFFSETFROM:-0600
TZOFFSETTO:-0500
TZNAME:CDT
DTSTART:20220313T080000
END:DAYLIGHT
BEGIN:STANDARD
TZOFFSETFROM:-0500
TZOFFSETTO:-0600
TZNAME:CST
DTSTART:20221106T070000
END:STANDARD
END:VTIMEZONE
BEGIN:VEVENT
DTSTART;TZID=America/Chicago:20210717T080000
DTEND;TZID=America/Chicago:20210717T170000
DTSTAMP:20260420T054129
CREATED:20210504T232857Z
LAST-MODIFIED:20210504T232857Z
UID:10003242-1626508800-1626541200@www.springcreekoaks.org
SUMMARY:Santillan CH2
DESCRIPTION:
URL:https://www.springcreekoaks.org/reservations/santillan-ch2/
LOCATION:Clubhouse 2\, 6002 Bur Oak Dr\, Spring\, 77379\, United States
CATEGORIES:Clubhouses
GEO:30.037539;-95.5070911
X-APPLE-STRUCTURED-LOCATION;VALUE=URI;X-ADDRESS=Clubhouse 2 6002 Bur Oak Dr Spring 77379 United States;X-APPLE-RADIUS=500;X-TITLE=6002 Bur Oak Dr:geo:-95.5070911,30.037539
END:VEVENT
BEGIN:VEVENT
DTSTART;TZID=America/Chicago:20210719T080000
DTEND;TZID=America/Chicago:20210719T110000
DTSTAMP:20260420T054129
CREATED:20210623T010801Z
LAST-MODIFIED:20210623T010801Z
UID:10003549-1626681600-1626692400@www.springcreekoaks.org
SUMMARY:Kuehnle court 2\, Lopez
DESCRIPTION:
URL:https://www.springcreekoaks.org/reservations/kuehnle-court-2-lopez-11/2021-07-19/
CATEGORIES:Tennis
END:VEVENT
BEGIN:VEVENT
DTSTART;TZID=America/Chicago:20210719T080000
DTEND;TZID=America/Chicago:20210719T120000
DTSTAMP:20260420T054129
CREATED:20210617T183759Z
LAST-MODIFIED:20210617T183759Z
UID:10002480-1626681600-1626696000@www.springcreekoaks.org
SUMMARY:CH 2 court 1\, Tennis Pro Danny
DESCRIPTION:
URL:https://www.springcreekoaks.org/reservations/ch-2-court-1-tennis-pro-danny/2021-07-19/
CATEGORIES:Tennis
END:VEVENT
BEGIN:VEVENT
DTSTART;TZID=America/Chicago:20210719T083000
DTEND;TZID=America/Chicago:20210719T120000
DTSTAMP:20260420T054129
CREATED:20210512T170641Z
LAST-MODIFIED:20210512T170641Z
UID:10002376-1626683400-1626696000@www.springcreekoaks.org
SUMMARY:CH 2 court 6\, Hudson
DESCRIPTION:
URL:https://www.springcreekoaks.org/reservations/ch-2-court-6-hudson-3/2021-07-19/
CATEGORIES:Tennis
END:VEVENT
BEGIN:VEVENT
DTSTART;TZID=America/Chicago:20210719T160000
DTEND;TZID=America/Chicago:20210719T200000
DTSTAMP:20260420T054129
CREATED:20210617T184405Z
LAST-MODIFIED:20210617T184405Z
UID:10003483-1626710400-1626724800@www.springcreekoaks.org
SUMMARY:CH 2 court 1\, Tennis Pro Danny
DESCRIPTION:
URL:https://www.springcreekoaks.org/reservations/ch-2-court-1-tennis-pro-danny-6/2021-07-19/
CATEGORIES:Tennis
END:VEVENT
BEGIN:VEVENT
DTSTART;TZID=America/Chicago:20210720T080000
DTEND;TZID=America/Chicago:20210720T120000
DTSTAMP:20260420T054129
CREATED:20210617T183902Z
LAST-MODIFIED:20210617T183902Z
UID:10003400-1626768000-1626782400@www.springcreekoaks.org
SUMMARY:CH 2 court 1\, Tennis Pro Danny
DESCRIPTION:
URL:https://www.springcreekoaks.org/reservations/ch-2-court-1-tennis-pro-danny-2/2021-07-20/
CATEGORIES:Tennis
END:VEVENT
BEGIN:VEVENT
DTSTART;TZID=America/Chicago:20210721T080000
DTEND;TZID=America/Chicago:20210721T120000
DTSTAMP:20260420T054129
CREATED:20210512T162316Z
LAST-MODIFIED:20210512T162316Z
UID:10003254-1626854400-1626868800@www.springcreekoaks.org
SUMMARY:CH 1 courts 2-3 (pickleball)\, Hudson
DESCRIPTION:
URL:https://www.springcreekoaks.org/reservations/ch-1-courts-2-3-pickleball-hudson/2021-07-21/
CATEGORIES:Tennis
END:VEVENT
BEGIN:VEVENT
DTSTART;TZID=America/Chicago:20210721T080000
DTEND;TZID=America/Chicago:20210721T120000
DTSTAMP:20260420T054129
CREATED:20210617T184143Z
LAST-MODIFIED:20210617T184143Z
UID:10003427-1626854400-1626868800@www.springcreekoaks.org
SUMMARY:CH 2 court 1\, Tennis Pro Danny
DESCRIPTION:
URL:https://www.springcreekoaks.org/reservations/ch-2-court-1-tennis-pro-danny-4/2021-07-21/
CATEGORIES:Tennis
END:VEVENT
BEGIN:VEVENT
DTSTART;TZID=America/Chicago:20210721T160000
DTEND;TZID=America/Chicago:20210721T200000
DTSTAMP:20260420T054129
CREATED:20210617T184653Z
LAST-MODIFIED:20210617T184653Z
UID:10003494-1626883200-1626897600@www.springcreekoaks.org
SUMMARY:CH 2 court 1\, Tennis Pro Danny
DESCRIPTION:
URL:https://www.springcreekoaks.org/reservations/ch-2-court-1-tennis-pro-danny-8/2021-07-21/
CATEGORIES:Tennis
END:VEVENT
BEGIN:VEVENT
DTSTART;TZID=America/Chicago:20210721T180000
DTEND;TZID=America/Chicago:20210721T180000
DTSTAMP:20260420T054129
CREATED:20210705T181023Z
LAST-MODIFIED:20210705T181023Z
UID:10003584-1626890400-1626890400@www.springcreekoaks.org
SUMMARY:SCO Bookclub
DESCRIPTION:
URL:https://www.springcreekoaks.org/reservations/sco-bookclub/
LOCATION:Clubhouse 2\, 6002 Bur Oak Dr\, Spring\, 77379\, United States
CATEGORIES:Clubhouses
GEO:30.037539;-95.5070911
X-APPLE-STRUCTURED-LOCATION;VALUE=URI;X-ADDRESS=Clubhouse 2 6002 Bur Oak Dr Spring 77379 United States;X-APPLE-RADIUS=500;X-TITLE=6002 Bur Oak Dr:geo:-95.5070911,30.037539
END:VEVENT
BEGIN:VEVENT
DTSTART;TZID=America/Chicago:20210721T180000
DTEND;TZID=America/Chicago:20210721T200000
DTSTAMP:20260420T054129
CREATED:20200805T160749Z
LAST-MODIFIED:20200805T161100Z
UID:10001340-1626890400-1626897600@www.springcreekoaks.org
SUMMARY:CIFUENTES (Big Soccer Field)
DESCRIPTION:
URL:https://www.springcreekoaks.org/reservations/cifuentes-open-play-big-soccer-field/2021-07-21/
CATEGORIES:Soccer Fields
END:VEVENT
BEGIN:VEVENT
DTSTART;TZID=America/Chicago:20210722T080000
DTEND;TZID=America/Chicago:20210722T110000
DTSTAMP:20260420T054129
CREATED:20210623T035733Z
LAST-MODIFIED:20210623T035911Z
UID:10003557-1626940800-1626951600@www.springcreekoaks.org
SUMMARY:Kuehnle court 2\, Lopez
DESCRIPTION:
URL:https://www.springcreekoaks.org/reservations/kuehnle-court-2-lopez-12/2021-07-22/
CATEGORIES:Tennis
END:VEVENT
BEGIN:VEVENT
DTSTART;TZID=America/Chicago:20210722T160000
DTEND;TZID=America/Chicago:20210722T200000
DTSTAMP:20260420T054129
CREATED:20210617T184757Z
LAST-MODIFIED:20210617T184757Z
UID:10003504-1626969600-1626984000@www.springcreekoaks.org
SUMMARY:CH 2 court 1\, Tennis Pro Danny
DESCRIPTION:
URL:https://www.springcreekoaks.org/reservations/ch-2-court-1-tennis-pro-danny-9/2021-07-22/
CATEGORIES:Tennis
END:VEVENT
BEGIN:VEVENT
DTSTART;TZID=America/Chicago:20210723T080000
DTEND;TZID=America/Chicago:20210723T110000
DTSTAMP:20260420T054129
CREATED:20210412T170129Z
LAST-MODIFIED:20210512T174655Z
UID:10003222-1627027200-1627038000@www.springcreekoaks.org
SUMMARY:CH 2 court 6\, Mason
DESCRIPTION:
URL:https://www.springcreekoaks.org/reservations/ch-2-court-6-mason-9/2021-07-23/
CATEGORIES:Tennis
END:VEVENT
BEGIN:VEVENT
DTSTART;TZID=America/Chicago:20210723T080000
DTEND;TZID=America/Chicago:20210723T110000
DTSTAMP:20260420T054129
CREATED:20210511T004822Z
LAST-MODIFIED:20210511T004822Z
UID:10003290-1627027200-1627038000@www.springcreekoaks.org
SUMMARY:CH 2 court 3\, Lopez
DESCRIPTION:
URL:https://www.springcreekoaks.org/reservations/ch-2-court-3-lopez-13/2021-07-23/
CATEGORIES:Tennis
END:VEVENT
BEGIN:VEVENT
DTSTART;TZID=America/Chicago:20210723T080000
DTEND;TZID=America/Chicago:20210723T120000
DTSTAMP:20260420T054129
CREATED:20210617T184250Z
LAST-MODIFIED:20210617T184250Z
UID:10003436-1627027200-1627041600@www.springcreekoaks.org
SUMMARY:CH 2 court 1\, Tennis Pro Danny
DESCRIPTION:
URL:https://www.springcreekoaks.org/reservations/ch-2-court-1-tennis-pro-danny-5/2021-07-23/
CATEGORIES:Tennis
END:VEVENT
BEGIN:VEVENT
DTSTART;TZID=America/Chicago:20210724T080000
DTEND;TZID=America/Chicago:20210724T103000
DTSTAMP:20260420T054129
CREATED:20200805T161253Z
LAST-MODIFIED:20200805T161253Z
UID:10001100-1627113600-1627122600@www.springcreekoaks.org
SUMMARY:LLERENA (Big Soccer Field)
DESCRIPTION:
URL:https://www.springcreekoaks.org/reservations/llerena-big-soccer-field/2021-07-24/
CATEGORIES:Soccer Fields
END:VEVENT
BEGIN:VEVENT
DTSTART;TZID=America/Chicago:20210726T080000
DTEND;TZID=America/Chicago:20210726T110000
DTSTAMP:20260420T054129
CREATED:20210623T010801Z
LAST-MODIFIED:20210623T010801Z
UID:10003550-1627286400-1627297200@www.springcreekoaks.org
SUMMARY:Kuehnle court 2\, Lopez
DESCRIPTION:
URL:https://www.springcreekoaks.org/reservations/kuehnle-court-2-lopez-11/2021-07-26/
CATEGORIES:Tennis
END:VEVENT
BEGIN:VEVENT
DTSTART;TZID=America/Chicago:20210726T080000
DTEND;TZID=America/Chicago:20210726T120000
DTSTAMP:20260420T054129
CREATED:20210617T183759Z
LAST-MODIFIED:20210617T183759Z
UID:10002481-1627286400-1627300800@www.springcreekoaks.org
SUMMARY:CH 2 court 1\, Tennis Pro Danny
DESCRIPTION:
URL:https://www.springcreekoaks.org/reservations/ch-2-court-1-tennis-pro-danny/2021-07-26/
CATEGORIES:Tennis
END:VEVENT
BEGIN:VEVENT
DTSTART;TZID=America/Chicago:20210726T080000
DTEND;TZID=America/Chicago:20210730T170000
DTSTAMP:20260420T054129
CREATED:20210616T150458Z
LAST-MODIFIED:20210616T150517Z
UID:10002451-1627286400-1627664400@www.springcreekoaks.org
SUMMARY:Ohmes CH1 Music Camp
DESCRIPTION:
URL:https://www.springcreekoaks.org/reservations/ohmes-ch1/
LOCATION:Clubhouse 1\, 17111 Misty Creek\, Spring\, TX\, 77379\, United States
CATEGORIES:Clubhouses
GEO:30.0346602;-95.5117522
X-APPLE-STRUCTURED-LOCATION;VALUE=URI;X-ADDRESS=Clubhouse 1 17111 Misty Creek Spring TX 77379 United States;X-APPLE-RADIUS=500;X-TITLE=17111 Misty Creek:geo:-95.5117522,30.0346602
END:VEVENT
BEGIN:VEVENT
DTSTART;TZID=America/Chicago:20210726T083000
DTEND;TZID=America/Chicago:20210726T120000
DTSTAMP:20260420T054129
CREATED:20210512T170641Z
LAST-MODIFIED:20210512T170641Z
UID:10002377-1627288200-1627300800@www.springcreekoaks.org
SUMMARY:CH 2 court 6\, Hudson
DESCRIPTION:
URL:https://www.springcreekoaks.org/reservations/ch-2-court-6-hudson-3/2021-07-26/
CATEGORIES:Tennis
END:VEVENT
BEGIN:VEVENT
DTSTART;TZID=America/Chicago:20210726T160000
DTEND;TZID=America/Chicago:20210726T200000
DTSTAMP:20260420T054129
CREATED:20210617T184405Z
LAST-MODIFIED:20210617T184405Z
UID:10003484-1627315200-1627329600@www.springcreekoaks.org
SUMMARY:CH 2 court 1\, Tennis Pro Danny
DESCRIPTION:
URL:https://www.springcreekoaks.org/reservations/ch-2-court-1-tennis-pro-danny-6/2021-07-26/
CATEGORIES:Tennis
END:VEVENT
BEGIN:VEVENT
DTSTART;TZID=America/Chicago:20210727T080000
DTEND;TZID=America/Chicago:20210727T120000
DTSTAMP:20260420T054129
CREATED:20210617T183902Z
LAST-MODIFIED:20210617T183902Z
UID:10003401-1627372800-1627387200@www.springcreekoaks.org
SUMMARY:CH 2 court 1\, Tennis Pro Danny
DESCRIPTION:
URL:https://www.springcreekoaks.org/reservations/ch-2-court-1-tennis-pro-danny-2/2021-07-27/
CATEGORIES:Tennis
END:VEVENT
BEGIN:VEVENT
DTSTART;TZID=America/Chicago:20210727T083000
DTEND;TZID=America/Chicago:20210727T120000
DTSTAMP:20260420T054129
CREATED:20210629T183825Z
LAST-MODIFIED:20210629T183825Z
UID:10003390-1627374600-1627387200@www.springcreekoaks.org
SUMMARY:CH 2 court 6\, Hudson
DESCRIPTION:
URL:https://www.springcreekoaks.org/reservations/ch-2-court-6-hudson-4/
CATEGORIES:Tennis
END:VEVENT
BEGIN:VEVENT
DTSTART;TZID=America/Chicago:20210728T080000
DTEND;TZID=America/Chicago:20210728T120000
DTSTAMP:20260420T054129
CREATED:20210512T162316Z
LAST-MODIFIED:20210512T162316Z
UID:10003255-1627459200-1627473600@www.springcreekoaks.org
SUMMARY:CH 1 courts 2-3 (pickleball)\, Hudson
DESCRIPTION:
URL:https://www.springcreekoaks.org/reservations/ch-1-courts-2-3-pickleball-hudson/2021-07-28/
CATEGORIES:Tennis
END:VEVENT
BEGIN:VEVENT
DTSTART;TZID=America/Chicago:20210728T080000
DTEND;TZID=America/Chicago:20210728T120000
DTSTAMP:20260420T054129
CREATED:20210617T184143Z
LAST-MODIFIED:20210617T184143Z
UID:10003428-1627459200-1627473600@www.springcreekoaks.org
SUMMARY:CH 2 court 1\, Tennis Pro Danny
DESCRIPTION:
URL:https://www.springcreekoaks.org/reservations/ch-2-court-1-tennis-pro-danny-4/2021-07-28/
CATEGORIES:Tennis
END:VEVENT
BEGIN:VEVENT
DTSTART;TZID=America/Chicago:20210728T080000
DTEND;TZID=America/Chicago:20210731T170000
DTSTAMP:20260420T054129
CREATED:20210328T024034Z
LAST-MODIFIED:20210328T024034Z
UID:10002295-1627459200-1627750800@www.springcreekoaks.org
SUMMARY:Harr CH2
DESCRIPTION:
URL:https://www.springcreekoaks.org/reservations/harr-ch2/
LOCATION:Clubhouse 2\, 6002 Bur Oak Dr\, Spring\, 77379\, United States
CATEGORIES:Clubhouses
GEO:30.037539;-95.5070911
X-APPLE-STRUCTURED-LOCATION;VALUE=URI;X-ADDRESS=Clubhouse 2 6002 Bur Oak Dr Spring 77379 United States;X-APPLE-RADIUS=500;X-TITLE=6002 Bur Oak Dr:geo:-95.5070911,30.037539
END:VEVENT
BEGIN:VEVENT
DTSTART;TZID=America/Chicago:20210728T160000
DTEND;TZID=America/Chicago:20210728T200000
DTSTAMP:20260420T054129
CREATED:20210617T184653Z
LAST-MODIFIED:20210617T184653Z
UID:10003495-1627488000-1627502400@www.springcreekoaks.org
SUMMARY:CH 2 court 1\, Tennis Pro Danny
DESCRIPTION:
URL:https://www.springcreekoaks.org/reservations/ch-2-court-1-tennis-pro-danny-8/2021-07-28/
CATEGORIES:Tennis
END:VEVENT
BEGIN:VEVENT
DTSTART;TZID=America/Chicago:20210728T180000
DTEND;TZID=America/Chicago:20210728T200000
DTSTAMP:20260420T054129
CREATED:20200805T160749Z
LAST-MODIFIED:20200805T161100Z
UID:10001341-1627495200-1627502400@www.springcreekoaks.org
SUMMARY:CIFUENTES (Big Soccer Field)
DESCRIPTION:
URL:https://www.springcreekoaks.org/reservations/cifuentes-open-play-big-soccer-field/2021-07-28/
CATEGORIES:Soccer Fields
END:VEVENT
BEGIN:VEVENT
DTSTART;TZID=America/Chicago:20210729T080000
DTEND;TZID=America/Chicago:20210729T110000
DTSTAMP:20260420T054129
CREATED:20210623T035733Z
LAST-MODIFIED:20210623T035911Z
UID:10003558-1627545600-1627556400@www.springcreekoaks.org
SUMMARY:Kuehnle court 2\, Lopez
DESCRIPTION:
URL:https://www.springcreekoaks.org/reservations/kuehnle-court-2-lopez-12/2021-07-29/
CATEGORIES:Tennis
END:VEVENT
END:VCALENDAR