BEGIN:VCALENDAR
VERSION:2.0
PRODID:-//Spring Creek Oaks - ECPv6.15.20//NONSGML v1.0//EN
CALSCALE:GREGORIAN
METHOD:PUBLISH
X-WR-CALNAME:Spring Creek Oaks
X-ORIGINAL-URL:https://www.springcreekoaks.org
X-WR-CALDESC:Events for Spring Creek Oaks
REFRESH-INTERVAL;VALUE=DURATION:PT1H
X-Robots-Tag:noindex
X-PUBLISHED-TTL:PT1H
BEGIN:VTIMEZONE
TZID:America/Chicago
BEGIN:DAYLIGHT
TZOFFSETFROM:-0600
TZOFFSETTO:-0500
TZNAME:CDT
DTSTART:20220313T080000
END:DAYLIGHT
BEGIN:STANDARD
TZOFFSETFROM:-0500
TZOFFSETTO:-0600
TZNAME:CST
DTSTART:20221106T070000
END:STANDARD
BEGIN:DAYLIGHT
TZOFFSETFROM:-0600
TZOFFSETTO:-0500
TZNAME:CDT
DTSTART:20230312T080000
END:DAYLIGHT
BEGIN:STANDARD
TZOFFSETFROM:-0500
TZOFFSETTO:-0600
TZNAME:CST
DTSTART:20231105T070000
END:STANDARD
BEGIN:DAYLIGHT
TZOFFSETFROM:-0600
TZOFFSETTO:-0500
TZNAME:CDT
DTSTART:20240310T080000
END:DAYLIGHT
BEGIN:STANDARD
TZOFFSETFROM:-0500
TZOFFSETTO:-0600
TZNAME:CST
DTSTART:20241103T070000
END:STANDARD
END:VTIMEZONE
BEGIN:VEVENT
DTSTART;TZID=America/Chicago:20230322T090000
DTEND;TZID=America/Chicago:20230322T120000
DTSTAMP:20260420T071002
CREATED:20221227T222834Z
LAST-MODIFIED:20221227T222834Z
UID:10005219-1679475600-1679486400@www.springcreekoaks.org
SUMMARY:CH 1 courts 2-3\, Hudson
DESCRIPTION:
URL:https://www.springcreekoaks.org/reservations/ch-1-courts-2-3-hudson/2023-03-22/
CATEGORIES:Tennis
END:VEVENT
BEGIN:VEVENT
DTSTART;TZID=America/Chicago:20230322T083000
DTEND;TZID=America/Chicago:20230322T120000
DTSTAMP:20260420T071002
CREATED:20230227T235058Z
LAST-MODIFIED:20230227T235058Z
UID:10002745-1679473800-1679486400@www.springcreekoaks.org
SUMMARY:CH 2 court 1\, JR open 2 rain makeup
DESCRIPTION:
URL:https://www.springcreekoaks.org/reservations/ch-2-court-1-jr-open-2-rain-makeup-4/2023-03-22/
CATEGORIES:Tennis
END:VEVENT
BEGIN:VEVENT
DTSTART;TZID=America/Chicago:20230322T070000
DTEND;TZID=America/Chicago:20230322T120000
DTSTAMP:20260420T071002
CREATED:20230109T042122Z
LAST-MODIFIED:20230109T042122Z
UID:10005336-1679468400-1679486400@www.springcreekoaks.org
SUMMARY:Kuehnle courts 1-2\, tennis pro Danny
DESCRIPTION:
URL:https://www.springcreekoaks.org/reservations/kuehnle-courts-1-2-tennis-pro-danny-4/2023-03-22/
CATEGORIES:Tennis
END:VEVENT
BEGIN:VEVENT
DTSTART;TZID=America/Chicago:20230321T190000
DTEND;TZID=America/Chicago:20230321T220000
DTSTAMP:20260420T071002
CREATED:20230214T014605Z
LAST-MODIFIED:20230214T014605Z
UID:10001946-1679425200-1679436000@www.springcreekoaks.org
SUMMARY:CH 2 courts 1-6\, men’s league\, Bautsch
DESCRIPTION:
URL:https://www.springcreekoaks.org/reservations/ch-2-courts-1-6-mens-league-bautsch/2023-03-21/
CATEGORIES:Tennis
END:VEVENT
BEGIN:VEVENT
DTSTART;TZID=America/Chicago:20230321T160000
DTEND;TZID=America/Chicago:20230321T200000
DTSTAMP:20260420T071002
CREATED:20230222T121115Z
LAST-MODIFIED:20230222T121115Z
UID:10002066-1679414400-1679428800@www.springcreekoaks.org
SUMMARY:Field 4 - Mighty Llamas - 8U
DESCRIPTION:
URL:https://www.springcreekoaks.org/reservations/field-4-mighty-llamas-8u/2023-03-21/
LOCATION:Baseball Field 4\, United States
CATEGORIES:Baseball Fields
END:VEVENT
BEGIN:VEVENT
DTSTART;TZID=America/Chicago:20230321T160000
DTEND;TZID=America/Chicago:20230321T200000
DTSTAMP:20260420T071002
CREATED:20230202T144856Z
LAST-MODIFIED:20230202T151229Z
UID:10005643-1679414400-1679428800@www.springcreekoaks.org
SUMMARY:Field 3 - Supernovas - 10U
DESCRIPTION:
URL:https://www.springcreekoaks.org/reservations/10u-supernovas-field-3/2023-03-21/
LOCATION:Baseball Field 3\, United States
CATEGORIES:Baseball Fields
END:VEVENT
BEGIN:VEVENT
DTSTART;TZID=America/Chicago:20230321T160000
DTEND;TZID=America/Chicago:20230321T200000
DTSTAMP:20260420T071002
CREATED:20230120T124159Z
LAST-MODIFIED:20230202T150940Z
UID:10000090-1679414400-1679428800@www.springcreekoaks.org
SUMMARY:Field 2 - Orioles - 10U
DESCRIPTION:
URL:https://www.springcreekoaks.org/reservations/10u-orioles-field-2/2023-03-21/
LOCATION:Baseball Field 2\, United States
CATEGORIES:Baseball Fields
END:VEVENT
BEGIN:VEVENT
DTSTART;TZID=America/Chicago:20230321T160000
DTEND;TZID=America/Chicago:20230321T200000
DTSTAMP:20260420T071002
CREATED:20230111T122517Z
LAST-MODIFIED:20230202T150722Z
UID:10005456-1679414400-1679428800@www.springcreekoaks.org
SUMMARY:Field 1 - Texas Ballers - 11U
DESCRIPTION:
URL:https://www.springcreekoaks.org/reservations/11u-texas-ballers-field-1/2023-03-21/
CATEGORIES:Baseball Fields
END:VEVENT
BEGIN:VEVENT
DTSTART;TZID=America/Chicago:20230321T160000
DTEND;TZID=America/Chicago:20230321T200000
DTSTAMP:20260420T071002
CREATED:20230109T041944Z
LAST-MODIFIED:20230109T041944Z
UID:10005317-1679414400-1679428800@www.springcreekoaks.org
SUMMARY:Kuehnle courts 1-2\, tennis pro Danny
DESCRIPTION:
URL:https://www.springcreekoaks.org/reservations/kuehnle-courts-1-2-tennis-pro-danny-3/2023-03-21/
CATEGORIES:Tennis
END:VEVENT
BEGIN:VEVENT
DTSTART;TZID=America/Chicago:20230321T160000
DTEND;TZID=America/Chicago:20230321T180000
DTSTAMP:20260420T071002
CREATED:20220808T174338Z
LAST-MODIFIED:20220808T174338Z
UID:10000473-1679414400-1679421600@www.springcreekoaks.org
SUMMARY:White Scouts CH1
DESCRIPTION:
URL:https://www.springcreekoaks.org/reservations/white-scouts-ch1-2/2023-03-21/
CATEGORIES:Clubhouses
END:VEVENT
BEGIN:VEVENT
DTSTART;TZID=America/Chicago:20230321T153000
DTEND;TZID=America/Chicago:20230321T173000
DTSTAMP:20260420T071002
CREATED:20230202T181828Z
LAST-MODIFIED:20230202T181828Z
UID:10005685-1679412600-1679419800@www.springcreekoaks.org
SUMMARY:CH 2 courts 1-3\, NCS tennis practice
DESCRIPTION:
URL:https://www.springcreekoaks.org/reservations/ch-2-courts-1-3-ncs-tennis-practice-2/2023-03-21/
CATEGORIES:Tennis
END:VEVENT
BEGIN:VEVENT
DTSTART;TZID=America/Chicago:20230321T090000
DTEND;TZID=America/Chicago:20230321T120000
DTSTAMP:20260420T071002
CREATED:20230317T191734Z
LAST-MODIFIED:20230317T191734Z
UID:10003120-1679389200-1679400000@www.springcreekoaks.org
SUMMARY:CH 2 court 1\, JR Nacewski rain makeup
DESCRIPTION:
URL:https://www.springcreekoaks.org/reservations/ch-2-court-1-jr-nacewski-rain-makeup/
CATEGORIES:Tennis
END:VEVENT
BEGIN:VEVENT
DTSTART;TZID=America/Chicago:20230321T090000
DTEND;TZID=America/Chicago:20230321T110000
DTSTAMP:20260420T071002
CREATED:20221227T215807Z
LAST-MODIFIED:20221227T215807Z
UID:10001158-1679389200-1679396400@www.springcreekoaks.org
SUMMARY:CH 1 courts 2-3\, Pickleball meet and greet
DESCRIPTION:
URL:https://www.springcreekoaks.org/reservations/ch-1-courts-2-3-pickleball-meet-and-greet-3/2023-03-21/
CATEGORIES:Tennis
END:VEVENT
BEGIN:VEVENT
DTSTART;TZID=America/Chicago:20230321T080000
DTEND;TZID=America/Chicago:20230321T110000
DTSTAMP:20260420T071002
CREATED:20230109T041829Z
LAST-MODIFIED:20230109T041829Z
UID:10005296-1679385600-1679396400@www.springcreekoaks.org
SUMMARY:Kuehnle courts 1-2\, tennis pro Danny
DESCRIPTION:
URL:https://www.springcreekoaks.org/reservations/kuehnle-courts-1-2-tennis-pro-danny-2/2023-03-21/
CATEGORIES:Tennis
END:VEVENT
BEGIN:VEVENT
DTSTART;TZID=America/Chicago:20230320T160000
DTEND;TZID=America/Chicago:20230320T200000
DTSTAMP:20260420T071002
CREATED:20230209T231728Z
LAST-MODIFIED:20230209T231728Z
UID:10004814-1679328000-1679342400@www.springcreekoaks.org
SUMMARY:Field 3 - Jaguars - 14U
DESCRIPTION:
URL:https://www.springcreekoaks.org/reservations/field-3-jaguars-14u/2023-03-20/
LOCATION:Baseball Field 3\, United States
CATEGORIES:Baseball Fields
END:VEVENT
BEGIN:VEVENT
DTSTART;TZID=America/Chicago:20230320T160000
DTEND;TZID=America/Chicago:20230320T200000
DTSTAMP:20260420T071002
CREATED:20230202T145341Z
LAST-MODIFIED:20230202T150532Z
UID:10005670-1679328000-1679342400@www.springcreekoaks.org
SUMMARY:Field 4 - Athletics - 11U
DESCRIPTION:
URL:https://www.springcreekoaks.org/reservations/11u-athletics-field-4/2023-03-20/
LOCATION:Baseball Field 4\, United States
CATEGORIES:Baseball Fields
END:VEVENT
BEGIN:VEVENT
DTSTART;TZID=America/Chicago:20230320T160000
DTEND;TZID=America/Chicago:20230320T200000
DTSTAMP:20260420T071002
CREATED:20230111T184946Z
LAST-MODIFIED:20230202T150154Z
UID:10005514-1679328000-1679342400@www.springcreekoaks.org
SUMMARY:Field 2 - Psencik - 9u
DESCRIPTION:
URL:https://www.springcreekoaks.org/reservations/9u-psencik-field-2/2023-03-20/
CATEGORIES:Baseball Fields
END:VEVENT
BEGIN:VEVENT
DTSTART;TZID=America/Chicago:20230320T160000
DTEND;TZID=America/Chicago:20230320T200000
DTSTAMP:20260420T071002
CREATED:20230111T145239Z
LAST-MODIFIED:20230202T150038Z
UID:10005490-1679328000-1679342400@www.springcreekoaks.org
SUMMARY:Field 1 - Thanos - 8U
DESCRIPTION:
URL:https://www.springcreekoaks.org/reservations/7u-thanos-field-1/2023-03-20/
CATEGORIES:Baseball Fields
END:VEVENT
BEGIN:VEVENT
DTSTART;TZID=America/Chicago:20230320T153000
DTEND;TZID=America/Chicago:20230320T200000
DTSTAMP:20260420T071002
CREATED:20230109T041443Z
LAST-MODIFIED:20230109T041443Z
UID:10005276-1679326200-1679342400@www.springcreekoaks.org
SUMMARY:Kuehnle courts 1-2\, tennis pro Danny
DESCRIPTION:
URL:https://www.springcreekoaks.org/reservations/kuehnle-courts-1-2-tennis-pro-danny/2023-03-20/
CATEGORIES:Tennis
END:VEVENT
BEGIN:VEVENT
DTSTART;TZID=America/Chicago:20230320T153000
DTEND;TZID=America/Chicago:20230320T173000
DTSTAMP:20260420T071002
CREATED:20230202T181828Z
LAST-MODIFIED:20230202T181828Z
UID:10005684-1679326200-1679333400@www.springcreekoaks.org
SUMMARY:CH 2 courts 1-3\, NCS tennis practice
DESCRIPTION:
URL:https://www.springcreekoaks.org/reservations/ch-2-courts-1-3-ncs-tennis-practice-2/2023-03-20/
CATEGORIES:Tennis
END:VEVENT
BEGIN:VEVENT
DTSTART;TZID=America/Chicago:20230320T083000
DTEND;TZID=America/Chicago:20230320T110000
DTSTAMP:20260420T071002
CREATED:20230112T014411Z
LAST-MODIFIED:20230112T014411Z
UID:10005531-1679301000-1679310000@www.springcreekoaks.org
SUMMARY:Kuehnle courts 1-2\, tennis pro Danny
DESCRIPTION:
URL:https://www.springcreekoaks.org/reservations/kuehnle-courts-1-2-tennis-pro-danny-10/2023-03-20/
CATEGORIES:Tennis
END:VEVENT
BEGIN:VEVENT
DTSTART;TZID=America/Chicago:20230319T150000
DTEND;TZID=America/Chicago:20230319T180000
DTSTAMP:20260420T071002
CREATED:20230227T153826Z
LAST-MODIFIED:20230227T153826Z
UID:10003003-1679238000-1679248800@www.springcreekoaks.org
SUMMARY:Field 1 - Angles - 12U
DESCRIPTION:
URL:https://www.springcreekoaks.org/reservations/field-1-angles-12u/2023-03-19/
LOCATION:Baseball Field 1\, United States
CATEGORIES:Baseball Fields
END:VEVENT
BEGIN:VEVENT
DTSTART;VALUE=DATE:20230319
DTEND;VALUE=DATE:20230320
DTSTAMP:20260420T071002
CREATED:20230213T232955Z
LAST-MODIFIED:20230213T232955Z
UID:10002541-1679184000-1679270399@www.springcreekoaks.org
SUMMARY:DS REC CH2
DESCRIPTION:
URL:https://www.springcreekoaks.org/reservations/ds-rec-ch2-2/
LOCATION:Clubhouse 2\, 6002 Bur Oak Dr\, Spring\, 77379\, United States
CATEGORIES:Clubhouses
GEO:30.037539;-95.5070911
X-APPLE-STRUCTURED-LOCATION;VALUE=URI;X-ADDRESS=Clubhouse 2 6002 Bur Oak Dr Spring 77379 United States;X-APPLE-RADIUS=500;X-TITLE=6002 Bur Oak Dr:geo:-95.5070911,30.037539
END:VEVENT
BEGIN:VEVENT
DTSTART;TZID=America/Chicago:20230318T090000
DTEND;TZID=America/Chicago:20230318T110000
DTSTAMP:20260420T071002
CREATED:20221227T215807Z
LAST-MODIFIED:20221227T215807Z
UID:10001157-1679130000-1679137200@www.springcreekoaks.org
SUMMARY:CH 1 courts 2-3\, Pickleball meet and greet
DESCRIPTION:
URL:https://www.springcreekoaks.org/reservations/ch-1-courts-2-3-pickleball-meet-and-greet-3/2023-03-18/
CATEGORIES:Tennis
END:VEVENT
BEGIN:VEVENT
DTSTART;TZID=America/Chicago:20230318T080000
DTEND;TZID=America/Chicago:20230318T100000
DTSTAMP:20260420T071002
CREATED:20220407T142613Z
LAST-MODIFIED:20231115T201658Z
UID:10004594-1679126400-1679133600@www.springcreekoaks.org
SUMMARY:SCO weekly pickup game (LLERENA)
DESCRIPTION:All SCO residents are invited to play and have some fun.
URL:https://www.springcreekoaks.org/reservations/llerenas-soccer-practice/2023-03-18/
LOCATION:Large Soccer Field (Bilma)\, United States
CATEGORIES:Soccer Fields
END:VEVENT
BEGIN:VEVENT
DTSTART;TZID=America/Chicago:20230317T160000
DTEND;TZID=America/Chicago:20230317T200000
DTSTAMP:20260420T071002
CREATED:20230109T042840Z
LAST-MODIFIED:20230109T042840Z
UID:10005401-1679068800-1679083200@www.springcreekoaks.org
SUMMARY:Kuehnle courts 1-2\, tennis pro Danny
DESCRIPTION:
URL:https://www.springcreekoaks.org/reservations/kuehnle-courts-1-2-tennis-pro-danny-9/2023-03-17/
CATEGORIES:Tennis
END:VEVENT
BEGIN:VEVENT
DTSTART;TZID=America/Chicago:20230317T083000
DTEND;TZID=America/Chicago:20230317T120000
DTSTAMP:20260420T071002
CREATED:20230304T174631Z
LAST-MODIFIED:20230304T175012Z
UID:10002665-1679041800-1679054400@www.springcreekoaks.org
SUMMARY:CH 2 courts 4-6\, JR Karpiuk rain makeup
DESCRIPTION:
URL:https://www.springcreekoaks.org/reservations/ch-2-courts-4-6-jr-carpuik-rain-makeup/
CATEGORIES:Tennis
END:VEVENT
BEGIN:VEVENT
DTSTART;TZID=America/Chicago:20230317T083000
DTEND;TZID=America/Chicago:20230317T120000
DTSTAMP:20260420T071002
CREATED:20230227T235058Z
LAST-MODIFIED:20230227T235058Z
UID:10002744-1679041800-1679054400@www.springcreekoaks.org
SUMMARY:CH 2 court 1\, JR open 2 rain makeup
DESCRIPTION:
URL:https://www.springcreekoaks.org/reservations/ch-2-court-1-jr-open-2-rain-makeup-4/2023-03-17/
CATEGORIES:Tennis
END:VEVENT
BEGIN:VEVENT
DTSTART;TZID=America/Chicago:20230317T083000
DTEND;TZID=America/Chicago:20230317T110000
DTSTAMP:20260420T071002
CREATED:20230122T184959Z
LAST-MODIFIED:20230122T190631Z
UID:10005591-1679041800-1679050800@www.springcreekoaks.org
SUMMARY:Kuehnle courts 1-2\, Tennis pro Danny
DESCRIPTION:
URL:https://www.springcreekoaks.org/reservations/kuehnle-courts-1-2-tennis-pro-danny-11-2023-02-10/2023-03-17/
CATEGORIES:Tennis
END:VEVENT
BEGIN:VEVENT
DTSTART;TZID=America/Chicago:20230316T160000
DTEND;TZID=America/Chicago:20230316T200000
DTSTAMP:20260420T071002
CREATED:20230202T145341Z
LAST-MODIFIED:20230202T150532Z
UID:10005669-1678982400-1678996800@www.springcreekoaks.org
SUMMARY:Field 4 - Athletics - 11U
DESCRIPTION:
URL:https://www.springcreekoaks.org/reservations/11u-athletics-field-4/2023-03-16/
LOCATION:Baseball Field 4\, United States
CATEGORIES:Baseball Fields
END:VEVENT
END:VCALENDAR