BEGIN:VCALENDAR
VERSION:2.0
PRODID:-//Spring Creek Oaks - ECPv6.15.20//NONSGML v1.0//EN
CALSCALE:GREGORIAN
METHOD:PUBLISH
X-ORIGINAL-URL:https://www.springcreekoaks.org
X-WR-CALDESC:Events for Spring Creek Oaks
REFRESH-INTERVAL;VALUE=DURATION:PT1H
X-Robots-Tag:noindex
X-PUBLISHED-TTL:PT1H
BEGIN:VTIMEZONE
TZID:America/Chicago
BEGIN:DAYLIGHT
TZOFFSETFROM:-0600
TZOFFSETTO:-0500
TZNAME:CDT
DTSTART:20220313T080000
END:DAYLIGHT
BEGIN:STANDARD
TZOFFSETFROM:-0500
TZOFFSETTO:-0600
TZNAME:CST
DTSTART:20221106T070000
END:STANDARD
BEGIN:DAYLIGHT
TZOFFSETFROM:-0600
TZOFFSETTO:-0500
TZNAME:CDT
DTSTART:20230312T080000
END:DAYLIGHT
BEGIN:STANDARD
TZOFFSETFROM:-0500
TZOFFSETTO:-0600
TZNAME:CST
DTSTART:20231105T070000
END:STANDARD
BEGIN:DAYLIGHT
TZOFFSETFROM:-0600
TZOFFSETTO:-0500
TZNAME:CDT
DTSTART:20240310T080000
END:DAYLIGHT
BEGIN:STANDARD
TZOFFSETFROM:-0500
TZOFFSETTO:-0600
TZNAME:CST
DTSTART:20241103T070000
END:STANDARD
END:VTIMEZONE
BEGIN:VEVENT
DTSTART;TZID=America/Chicago:20231213T090000
DTEND;TZID=America/Chicago:20231213T120000
DTSTAMP:20260423T134724
CREATED:20221227T222834Z
LAST-MODIFIED:20221227T222834Z
UID:10005257-1702458000-1702468800@www.springcreekoaks.org
SUMMARY:CH 1 courts 2-3\, Hudson
DESCRIPTION:
URL:https://www.springcreekoaks.org/reservations/ch-1-courts-2-3-hudson/2023-12-13/
CATEGORIES:Tennis
END:VEVENT
BEGIN:VEVENT
DTSTART;TZID=America/Chicago:20231213T090000
DTEND;TZID=America/Chicago:20231213T140000
DTSTAMP:20260423T134724
CREATED:20230328T012811Z
LAST-MODIFIED:20230328T012811Z
UID:10002266-1702458000-1702476000@www.springcreekoaks.org
SUMMARY:SCO Tennis Camp CH2
DESCRIPTION:
URL:https://www.springcreekoaks.org/reservations/sco-tennis-camp-ch2-3/2023-12-13/
LOCATION:Clubhouse 2\, 6002 Bur Oak Dr\, Spring\, 77379\, United States
CATEGORIES:Clubhouses
GEO:30.037539;-95.5070911
X-APPLE-STRUCTURED-LOCATION;VALUE=URI;X-ADDRESS=Clubhouse 2 6002 Bur Oak Dr Spring 77379 United States;X-APPLE-RADIUS=500;X-TITLE=6002 Bur Oak Dr:geo:-95.5070911,30.037539
END:VEVENT
BEGIN:VEVENT
DTSTART;TZID=America/Chicago:20231213T090000
DTEND;TZID=America/Chicago:20231213T150000
DTSTAMP:20260423T134724
CREATED:20221216T215838Z
LAST-MODIFIED:20221216T215838Z
UID:10000819-1702458000-1702479600@www.springcreekoaks.org
SUMMARY:fAN Cookie Exchange
DESCRIPTION:
URL:https://www.springcreekoaks.org/reservations/fan-cookie-exchange-3/
LOCATION:Clubhouse 2\, 6002 Bur Oak Dr\, Spring\, 77379\, United States
CATEGORIES:Clubhouses
GEO:30.037539;-95.5070911
X-APPLE-STRUCTURED-LOCATION;VALUE=URI;X-ADDRESS=Clubhouse 2 6002 Bur Oak Dr Spring 77379 United States;X-APPLE-RADIUS=500;X-TITLE=6002 Bur Oak Dr:geo:-95.5070911,30.037539
END:VEVENT
BEGIN:VEVENT
DTSTART;TZID=America/Chicago:20231213T170000
DTEND;TZID=America/Chicago:20231213T180000
DTSTAMP:20260423T134724
CREATED:20230814T132653Z
LAST-MODIFIED:20230814T132653Z
UID:10006025-1702486800-1702490400@www.springcreekoaks.org
SUMMARY:Kuehnle courts 3-4\, Orange ball class
DESCRIPTION:
URL:https://www.springcreekoaks.org/reservations/kuehnle-courts-3-4-orange-ball-class-2/2023-12-13/
CATEGORIES:Tennis
END:VEVENT
BEGIN:VEVENT
DTSTART;TZID=America/Chicago:20231213T173000
DTEND;TZID=America/Chicago:20231213T193000
DTSTAMP:20260423T134724
CREATED:20231012T150149Z
LAST-MODIFIED:20231013T150253Z
UID:10006334-1702488600-1702495800@www.springcreekoaks.org
SUMMARY:Christensen
DESCRIPTION:
URL:https://www.springcreekoaks.org/reservations/christensen/2023-12-13/
LOCATION:Small Soccer Field (CH 2)
CATEGORIES:Soccer Fields
END:VEVENT
BEGIN:VEVENT
DTSTART;TZID=America/Chicago:20231213T180000
DTEND;TZID=America/Chicago:20231213T190000
DTSTAMP:20260423T134724
CREATED:20230814T132829Z
LAST-MODIFIED:20230814T132829Z
UID:10006044-1702490400-1702494000@www.springcreekoaks.org
SUMMARY:Kuehnle courts 3-4\, Yellow ball class
DESCRIPTION:
URL:https://www.springcreekoaks.org/reservations/kuehnle-courts-3-4-yellow-ball-class-3/2023-12-13/
CATEGORIES:Tennis
END:VEVENT
BEGIN:VEVENT
DTSTART;TZID=America/Chicago:20231213T180000
DTEND;TZID=America/Chicago:20231213T200000
DTSTAMP:20260423T134724
CREATED:20200805T160749Z
LAST-MODIFIED:20200805T161100Z
UID:10001465-1702490400-1702497600@www.springcreekoaks.org
SUMMARY:CIFUENTES (Big Soccer Field)
DESCRIPTION:
URL:https://www.springcreekoaks.org/reservations/cifuentes-open-play-big-soccer-field/2023-12-13/
CATEGORIES:Soccer Fields
END:VEVENT
BEGIN:VEVENT
DTSTART;TZID=America/Chicago:20231214T090000
DTEND;TZID=America/Chicago:20231214T110000
DTSTAMP:20260423T134724
CREATED:20230821T190739Z
LAST-MODIFIED:20230821T190739Z
UID:10006154-1702544400-1702551600@www.springcreekoaks.org
SUMMARY:Kuehnle courts 3-4\, Homeschool classes
DESCRIPTION:
URL:https://www.springcreekoaks.org/reservations/kuehnle-courts-3-4-homeschool-classes-2/2023-12-14/
CATEGORIES:Tennis
END:VEVENT
BEGIN:VEVENT
DTSTART;TZID=America/Chicago:20231214T090000
DTEND;TZID=America/Chicago:20231214T120000
DTSTAMP:20260423T134724
CREATED:20230819T184409Z
LAST-MODIFIED:20230907T224257Z
UID:10006138-1702544400-1702555200@www.springcreekoaks.org
SUMMARY:CH 1 courts 2-3\, Palmer
DESCRIPTION:
URL:https://www.springcreekoaks.org/reservations/ch-1-courts-2-3-pickleball-meet-and-greet-7/2023-12-14/
CATEGORIES:Tennis
END:VEVENT
BEGIN:VEVENT
DTSTART;TZID=America/Chicago:20231214T090000
DTEND;TZID=America/Chicago:20231214T120000
DTSTAMP:20260423T134724
CREATED:20230907T225043Z
LAST-MODIFIED:20230907T225043Z
UID:10006288-1702544400-1702555200@www.springcreekoaks.org
SUMMARY:CH 1 court 1\, Pickleball meet and greet
DESCRIPTION:
URL:https://www.springcreekoaks.org/reservations/ch-1-court-1-pickleball-meet-and-greet-3/2023-12-14/
CATEGORIES:Tennis
END:VEVENT
BEGIN:VEVENT
DTSTART;TZID=America/Chicago:20231214T090000
DTEND;TZID=America/Chicago:20231214T140000
DTSTAMP:20260423T134724
CREATED:20230328T012811Z
LAST-MODIFIED:20230328T012811Z
UID:10002267-1702544400-1702562400@www.springcreekoaks.org
SUMMARY:SCO Tennis Camp CH2
DESCRIPTION:
URL:https://www.springcreekoaks.org/reservations/sco-tennis-camp-ch2-3/2023-12-14/
LOCATION:Clubhouse 2\, 6002 Bur Oak Dr\, Spring\, 77379\, United States
CATEGORIES:Clubhouses
GEO:30.037539;-95.5070911
X-APPLE-STRUCTURED-LOCATION;VALUE=URI;X-ADDRESS=Clubhouse 2 6002 Bur Oak Dr Spring 77379 United States;X-APPLE-RADIUS=500;X-TITLE=6002 Bur Oak Dr:geo:-95.5070911,30.037539
END:VEVENT
BEGIN:VEVENT
DTSTART;TZID=America/Chicago:20231214T170000
DTEND;TZID=America/Chicago:20231214T180000
DTSTAMP:20260423T134724
CREATED:20230814T132947Z
LAST-MODIFIED:20230814T132947Z
UID:10006063-1702573200-1702576800@www.springcreekoaks.org
SUMMARY:Kuehnle courts 3-4\, Orange ball class
DESCRIPTION:
URL:https://www.springcreekoaks.org/reservations/kuehnle-courts-3-4-orange-ball-class-3/2023-12-14/
CATEGORIES:Tennis
END:VEVENT
BEGIN:VEVENT
DTSTART;TZID=America/Chicago:20231214T170000
DTEND;TZID=America/Chicago:20231214T210000
DTSTAMP:20260423T134724
CREATED:20231117T031512Z
LAST-MODIFIED:20231117T031512Z
UID:10003833-1702573200-1702587600@www.springcreekoaks.org
SUMMARY:NCL Wildflowers CH2
DESCRIPTION:
URL:https://www.springcreekoaks.org/reservations/ncl-wildflowers-ch2-7/
LOCATION:Clubhouse 2\, 6002 Bur Oak Dr\, Spring\, 77379\, United States
CATEGORIES:Clubhouses
GEO:30.037539;-95.5070911
X-APPLE-STRUCTURED-LOCATION;VALUE=URI;X-ADDRESS=Clubhouse 2 6002 Bur Oak Dr Spring 77379 United States;X-APPLE-RADIUS=500;X-TITLE=6002 Bur Oak Dr:geo:-95.5070911,30.037539
END:VEVENT
BEGIN:VEVENT
DTSTART;TZID=America/Chicago:20231214T173000
DTEND;TZID=America/Chicago:20231214T193000
DTSTAMP:20260423T134724
CREATED:20231012T150149Z
LAST-MODIFIED:20231013T150253Z
UID:10006335-1702575000-1702582200@www.springcreekoaks.org
SUMMARY:Christensen
DESCRIPTION:
URL:https://www.springcreekoaks.org/reservations/christensen/2023-12-14/
LOCATION:Small Soccer Field (CH 2)
CATEGORIES:Soccer Fields
END:VEVENT
BEGIN:VEVENT
DTSTART;TZID=America/Chicago:20231214T180000
DTEND;TZID=America/Chicago:20231214T193000
DTSTAMP:20260423T134724
CREATED:20230814T133101Z
LAST-MODIFIED:20230814T133101Z
UID:10006082-1702576800-1702582200@www.springcreekoaks.org
SUMMARY:Kuehnle courts 3-4\, Yellow ball class
DESCRIPTION:
URL:https://www.springcreekoaks.org/reservations/kuehnle-courts-3-4-yellow-ball-class-4/2023-12-14/
CATEGORIES:Tennis
END:VEVENT
BEGIN:VEVENT
DTSTART;TZID=America/Chicago:20231214T193000
DTEND;TZID=America/Chicago:20231214T220000
DTSTAMP:20260423T134724
CREATED:20230911T200317Z
LAST-MODIFIED:20230911T200317Z
UID:10003650-1702582200-1702591200@www.springcreekoaks.org
SUMMARY:CH 1 courts 2-3 (Pickleball)\, Guzman
DESCRIPTION:
URL:https://www.springcreekoaks.org/reservations/ch-1-courts-2-3-pickleball-guzman/2023-12-14/
CATEGORIES:Tennis
END:VEVENT
BEGIN:VEVENT
DTSTART;VALUE=DATE:20231215
DTEND;VALUE=DATE:20231216
DTSTAMP:20260423T134724
CREATED:20230801T235517Z
LAST-MODIFIED:20230801T235517Z
UID:10005800-1702598400-1702684799@www.springcreekoaks.org
SUMMARY:Pudillio CH2
DESCRIPTION:
URL:https://www.springcreekoaks.org/reservations/pudillio-ch2/
LOCATION:Clubhouse 2\, 6002 Bur Oak Dr\, Spring\, 77379\, United States
CATEGORIES:Clubhouses
GEO:30.037539;-95.5070911
X-APPLE-STRUCTURED-LOCATION;VALUE=URI;X-ADDRESS=Clubhouse 2 6002 Bur Oak Dr Spring 77379 United States;X-APPLE-RADIUS=500;X-TITLE=6002 Bur Oak Dr:geo:-95.5070911,30.037539
END:VEVENT
BEGIN:VEVENT
DTSTART;TZID=America/Chicago:20231215T090000
DTEND;TZID=America/Chicago:20231215T120000
DTSTAMP:20260423T134724
CREATED:20231209T222219Z
LAST-MODIFIED:20231209T222219Z
UID:10002368-1702630800-1702641600@www.springcreekoaks.org
SUMMARY:CH 2 court 6\, Hudson
DESCRIPTION:
URL:https://www.springcreekoaks.org/reservations/ch-2-court-6-hudson-21/
CATEGORIES:Tennis
END:VEVENT
BEGIN:VEVENT
DTSTART;TZID=America/Chicago:20231215T090000
DTEND;TZID=America/Chicago:20231215T140000
DTSTAMP:20260423T134724
CREATED:20230328T012811Z
LAST-MODIFIED:20230328T012811Z
UID:10002268-1702630800-1702648800@www.springcreekoaks.org
SUMMARY:SCO Tennis Camp CH2
DESCRIPTION:
URL:https://www.springcreekoaks.org/reservations/sco-tennis-camp-ch2-3/2023-12-15/
LOCATION:Clubhouse 2\, 6002 Bur Oak Dr\, Spring\, 77379\, United States
CATEGORIES:Clubhouses
GEO:30.037539;-95.5070911
X-APPLE-STRUCTURED-LOCATION;VALUE=URI;X-ADDRESS=Clubhouse 2 6002 Bur Oak Dr Spring 77379 United States;X-APPLE-RADIUS=500;X-TITLE=6002 Bur Oak Dr:geo:-95.5070911,30.037539
END:VEVENT
BEGIN:VEVENT
DTSTART;TZID=America/Chicago:20231215T180000
DTEND;TZID=America/Chicago:20231215T190000
DTSTAMP:20260423T134724
CREATED:20230814T133222Z
LAST-MODIFIED:20230814T133222Z
UID:10006101-1702663200-1702666800@www.springcreekoaks.org
SUMMARY:Kuehnle courts 3-4\, Yellow ball class
DESCRIPTION:
URL:https://www.springcreekoaks.org/reservations/kuehnle-courts-3-4-yellow-ball-class-5/2023-12-15/
CATEGORIES:Tennis
END:VEVENT
BEGIN:VEVENT
DTSTART;VALUE=DATE:20231216
DTEND;VALUE=DATE:20231217
DTSTAMP:20260423T134724
CREATED:20230920T164331Z
LAST-MODIFIED:20230920T164331Z
UID:10003624-1702684800-1702771199@www.springcreekoaks.org
SUMMARY:Cfuentes CH2
DESCRIPTION:
URL:https://www.springcreekoaks.org/reservations/cfuentes-ch2/
END:VEVENT
BEGIN:VEVENT
DTSTART;VALUE=DATE:20231216
DTEND;VALUE=DATE:20231217
DTSTAMP:20260423T134724
CREATED:20231211T180228Z
LAST-MODIFIED:20231211T180228Z
UID:10003655-1702684800-1702771199@www.springcreekoaks.org
SUMMARY:Cardenas CH1
DESCRIPTION:
URL:https://www.springcreekoaks.org/reservations/cardenas-ch1/
LOCATION:Clubhouse 1\, 17111 Misty Creek\, Spring\, TX\, 77379\, United States
GEO:30.0346602;-95.5117522
X-APPLE-STRUCTURED-LOCATION;VALUE=URI;X-ADDRESS=Clubhouse 1 17111 Misty Creek Spring TX 77379 United States;X-APPLE-RADIUS=500;X-TITLE=17111 Misty Creek:geo:-95.5117522,30.0346602
END:VEVENT
BEGIN:VEVENT
DTSTART;TZID=America/Chicago:20231216T080000
DTEND;TZID=America/Chicago:20231216T100000
DTSTAMP:20260423T134724
CREATED:20220407T142613Z
LAST-MODIFIED:20231115T201658Z
UID:10004633-1702713600-1702720800@www.springcreekoaks.org
SUMMARY:SCO weekly pickup game (LLERENA)
DESCRIPTION:All SCO residents are invited to play and have some fun.
URL:https://www.springcreekoaks.org/reservations/llerenas-soccer-practice/2023-12-16/
LOCATION:Large Soccer Field (Bilma)\, United States
CATEGORIES:Soccer Fields
END:VEVENT
BEGIN:VEVENT
DTSTART;TZID=America/Chicago:20231216T090000
DTEND;TZID=America/Chicago:20231216T120000
DTSTAMP:20260423T134724
CREATED:20230819T184138Z
LAST-MODIFIED:20230907T224528Z
UID:10003420-1702717200-1702728000@www.springcreekoaks.org
SUMMARY:CH 1 courts 2-3\, Palmer
DESCRIPTION:
URL:https://www.springcreekoaks.org/reservations/ch-1-courts-2-3-pickleball-meet-and-greet-5/2023-12-16/
CATEGORIES:Tennis
END:VEVENT
BEGIN:VEVENT
DTSTART;TZID=America/Chicago:20231216T090000
DTEND;TZID=America/Chicago:20231216T120000
DTSTAMP:20260423T134724
CREATED:20230907T224820Z
LAST-MODIFIED:20230907T224820Z
UID:10006256-1702717200-1702728000@www.springcreekoaks.org
SUMMARY:CH 1 court 1\, Pickleball meet and greet
DESCRIPTION:
URL:https://www.springcreekoaks.org/reservations/ch-1-court-1-pickleball-meet-and-greet/2023-12-16/
CATEGORIES:Tennis
END:VEVENT
BEGIN:VEVENT
DTSTART;TZID=America/Chicago:20231216T090000
DTEND;TZID=America/Chicago:20231216T140000
DTSTAMP:20260423T134724
CREATED:20230328T012811Z
LAST-MODIFIED:20230328T012811Z
UID:10002269-1702717200-1702735200@www.springcreekoaks.org
SUMMARY:SCO Tennis Camp CH2
DESCRIPTION:
URL:https://www.springcreekoaks.org/reservations/sco-tennis-camp-ch2-3/2023-12-16/
LOCATION:Clubhouse 2\, 6002 Bur Oak Dr\, Spring\, 77379\, United States
CATEGORIES:Clubhouses
GEO:30.037539;-95.5070911
X-APPLE-STRUCTURED-LOCATION;VALUE=URI;X-ADDRESS=Clubhouse 2 6002 Bur Oak Dr Spring 77379 United States;X-APPLE-RADIUS=500;X-TITLE=6002 Bur Oak Dr:geo:-95.5070911,30.037539
END:VEVENT
BEGIN:VEVENT
DTSTART;TZID=America/Chicago:20231216T100000
DTEND;TZID=America/Chicago:20231216T170000
DTSTAMP:20260423T134724
CREATED:20231127T182519Z
LAST-MODIFIED:20231127T182519Z
UID:10006354-1702720800-1702746000@www.springcreekoaks.org
SUMMARY:Anderson
DESCRIPTION:
URL:https://www.springcreekoaks.org/reservations/anderson/
LOCATION:Baseball Field 4\, United States
CATEGORIES:Baseball Fields
END:VEVENT
BEGIN:VEVENT
DTSTART;TZID=America/Chicago:20231217T090000
DTEND;TZID=America/Chicago:20231217T140000
DTSTAMP:20260423T134724
CREATED:20230328T012811Z
LAST-MODIFIED:20230328T012811Z
UID:10002270-1702803600-1702821600@www.springcreekoaks.org
SUMMARY:SCO Tennis Camp CH2
DESCRIPTION:
URL:https://www.springcreekoaks.org/reservations/sco-tennis-camp-ch2-3/2023-12-17/
LOCATION:Clubhouse 2\, 6002 Bur Oak Dr\, Spring\, 77379\, United States
CATEGORIES:Clubhouses
GEO:30.037539;-95.5070911
X-APPLE-STRUCTURED-LOCATION;VALUE=URI;X-ADDRESS=Clubhouse 2 6002 Bur Oak Dr Spring 77379 United States;X-APPLE-RADIUS=500;X-TITLE=6002 Bur Oak Dr:geo:-95.5070911,30.037539
END:VEVENT
BEGIN:VEVENT
DTSTART;TZID=America/Chicago:20231218T083000
DTEND;TZID=America/Chicago:20231218T100000
DTSTAMP:20260423T134724
CREATED:20230814T130951Z
LAST-MODIFIED:20230814T130951Z
UID:10003583-1702888200-1702893600@www.springcreekoaks.org
SUMMARY:Kuehnle courts 3-4\, Ladies open drill\, tennis pro Danny
DESCRIPTION:
URL:https://www.springcreekoaks.org/reservations/kuehnle-courts-3-4-ladies-open-drill-tennis-pro-danny/2023-12-18/
CATEGORIES:Tennis
END:VEVENT
BEGIN:VEVENT
DTSTART;TZID=America/Chicago:20231218T083000
DTEND;TZID=America/Chicago:20231218T110000
DTSTAMP:20260423T134724
CREATED:20231207T195402Z
LAST-MODIFIED:20231218T162504Z
UID:10004052-1702888200-1702897200@www.springcreekoaks.org
SUMMARY:CH 2 courts 1-6\, Coach Danny Winter Camp
DESCRIPTION:
URL:https://www.springcreekoaks.org/reservations/ch-2-courts-1-3-coach-danny-winter-camp/2023-12-18/
CATEGORIES:Tennis
END:VEVENT
END:VCALENDAR