BEGIN:VCALENDAR
VERSION:2.0
PRODID:-//Spring Creek Oaks - ECPv6.15.20//NONSGML v1.0//EN
CALSCALE:GREGORIAN
METHOD:PUBLISH
X-ORIGINAL-URL:https://www.springcreekoaks.org
X-WR-CALDESC:Events for Spring Creek Oaks
REFRESH-INTERVAL;VALUE=DURATION:PT1H
X-Robots-Tag:noindex
X-PUBLISHED-TTL:PT1H
BEGIN:VTIMEZONE
TZID:America/Chicago
BEGIN:DAYLIGHT
TZOFFSETFROM:-0600
TZOFFSETTO:-0500
TZNAME:CDT
DTSTART:20220313T080000
END:DAYLIGHT
BEGIN:STANDARD
TZOFFSETFROM:-0500
TZOFFSETTO:-0600
TZNAME:CST
DTSTART:20221106T070000
END:STANDARD
BEGIN:DAYLIGHT
TZOFFSETFROM:-0600
TZOFFSETTO:-0500
TZNAME:CDT
DTSTART:20230312T080000
END:DAYLIGHT
BEGIN:STANDARD
TZOFFSETFROM:-0500
TZOFFSETTO:-0600
TZNAME:CST
DTSTART:20231105T070000
END:STANDARD
BEGIN:DAYLIGHT
TZOFFSETFROM:-0600
TZOFFSETTO:-0500
TZNAME:CDT
DTSTART:20240310T080000
END:DAYLIGHT
BEGIN:STANDARD
TZOFFSETFROM:-0500
TZOFFSETTO:-0600
TZNAME:CST
DTSTART:20241103T070000
END:STANDARD
END:VTIMEZONE
BEGIN:VEVENT
DTSTART;TZID=America/Chicago:20231204T190000
DTEND;TZID=America/Chicago:20231204T200000
DTSTAMP:20260423T134715
CREATED:20230814T131523Z
LAST-MODIFIED:20230814T131523Z
UID:10005891-1701716400-1701720000@www.springcreekoaks.org
SUMMARY:Kuehnle courts 3-4\, Adult drop-in drill\, all levels
DESCRIPTION:
URL:https://www.springcreekoaks.org/reservations/kuehnle-courts-3-4-adult-drop-in-drill-all-levels/2023-12-04/
CATEGORIES:Tennis
END:VEVENT
BEGIN:VEVENT
DTSTART;TZID=America/Chicago:20231205T083000
DTEND;TZID=America/Chicago:20231205T120000
DTSTAMP:20260423T134715
CREATED:20231201T220431Z
LAST-MODIFIED:20231201T220431Z
UID:10003820-1701765000-1701777600@www.springcreekoaks.org
SUMMARY:CH 2 court 1\, JR open 1 rain makeup
DESCRIPTION:
URL:https://www.springcreekoaks.org/reservations/ch-2-court-1-jr-open-1-rain-makeup-3/
CATEGORIES:Tennis
END:VEVENT
BEGIN:VEVENT
DTSTART;TZID=America/Chicago:20231205T090000
DTEND;TZID=America/Chicago:20231205T100000
DTSTAMP:20260423T134715
CREATED:20230814T131725Z
LAST-MODIFIED:20230814T131725Z
UID:10005910-1701766800-1701770400@www.springcreekoaks.org
SUMMARY:Kuehnle courts 3-4\, beginner Homeschool class
DESCRIPTION:
URL:https://www.springcreekoaks.org/reservations/kuehnle-courts-3-4-beginner-homeschool-class/2023-12-05/
CATEGORIES:Tennis
END:VEVENT
BEGIN:VEVENT
DTSTART;TZID=America/Chicago:20231205T090000
DTEND;TZID=America/Chicago:20231205T120000
DTSTAMP:20260423T134715
CREATED:20230819T184258Z
LAST-MODIFIED:20230907T224414Z
UID:10006120-1701766800-1701777600@www.springcreekoaks.org
SUMMARY:CH 1 courts 2-3\, Palmer
DESCRIPTION:
URL:https://www.springcreekoaks.org/reservations/ch-1-courts-2-3-pickleball-meet-and-greet-6/2023-12-05/
CATEGORIES:Tennis
END:VEVENT
BEGIN:VEVENT
DTSTART;TZID=America/Chicago:20231205T090000
DTEND;TZID=America/Chicago:20231205T120000
DTSTAMP:20260423T134715
CREATED:20230907T224932Z
LAST-MODIFIED:20230907T224932Z
UID:10006271-1701766800-1701777600@www.springcreekoaks.org
SUMMARY:CH 1 court 1\, Pickleball meet and greet
DESCRIPTION:
URL:https://www.springcreekoaks.org/reservations/ch-1-court-1-pickleball-meet-and-greet-2/2023-12-05/
CATEGORIES:Tennis
END:VEVENT
BEGIN:VEVENT
DTSTART;TZID=America/Chicago:20231205T090000
DTEND;TZID=America/Chicago:20231205T140000
DTSTAMP:20260423T134715
CREATED:20230328T012811Z
LAST-MODIFIED:20230328T012811Z
UID:10002258-1701766800-1701784800@www.springcreekoaks.org
SUMMARY:SCO Tennis Camp CH2
DESCRIPTION:
URL:https://www.springcreekoaks.org/reservations/sco-tennis-camp-ch2-3/2023-12-05/
LOCATION:Clubhouse 2\, 6002 Bur Oak Dr\, Spring\, 77379\, United States
CATEGORIES:Clubhouses
GEO:30.037539;-95.5070911
X-APPLE-STRUCTURED-LOCATION;VALUE=URI;X-ADDRESS=Clubhouse 2 6002 Bur Oak Dr Spring 77379 United States;X-APPLE-RADIUS=500;X-TITLE=6002 Bur Oak Dr:geo:-95.5070911,30.037539
END:VEVENT
BEGIN:VEVENT
DTSTART;TZID=America/Chicago:20231205T100000
DTEND;TZID=America/Chicago:20231205T110000
DTSTAMP:20260423T134715
CREATED:20230814T131902Z
LAST-MODIFIED:20230814T131902Z
UID:10005929-1701770400-1701774000@www.springcreekoaks.org
SUMMARY:Kuehnle courts 3-4\, intermediate homeschool class
DESCRIPTION:
URL:https://www.springcreekoaks.org/reservations/kuehnle-courts-3-4-intermediate-homeschool-class/2023-12-05/
CATEGORIES:Tennis
END:VEVENT
BEGIN:VEVENT
DTSTART;TZID=America/Chicago:20231205T160000
DTEND;TZID=America/Chicago:20231205T170000
DTSTAMP:20260423T134715
CREATED:20230814T132041Z
LAST-MODIFIED:20230814T132041Z
UID:10005948-1701792000-1701795600@www.springcreekoaks.org
SUMMARY:Kuehnle courts 3-4\, Red ball class
DESCRIPTION:
URL:https://www.springcreekoaks.org/reservations/kuehnle-courts-3-4-red-ball-class/2023-12-05/
CATEGORIES:Tennis
END:VEVENT
BEGIN:VEVENT
DTSTART;TZID=America/Chicago:20231205T160000
DTEND;TZID=America/Chicago:20231205T220000
DTSTAMP:20260423T134715
CREATED:20231127T230607Z
LAST-MODIFIED:20231127T230607Z
UID:10006355-1701792000-1701813600@www.springcreekoaks.org
SUMMARY:Klein swim CH2
DESCRIPTION:
URL:https://www.springcreekoaks.org/reservations/klein-swim-ch2/
LOCATION:Clubhouse 2\, 6002 Bur Oak Dr\, Spring\, 77379\, United States
CATEGORIES:Clubhouses
GEO:30.037539;-95.5070911
X-APPLE-STRUCTURED-LOCATION;VALUE=URI;X-ADDRESS=Clubhouse 2 6002 Bur Oak Dr Spring 77379 United States;X-APPLE-RADIUS=500;X-TITLE=6002 Bur Oak Dr:geo:-95.5070911,30.037539
END:VEVENT
BEGIN:VEVENT
DTSTART;TZID=America/Chicago:20231205T170000
DTEND;TZID=America/Chicago:20231205T180000
DTSTAMP:20260423T134715
CREATED:20230814T132206Z
LAST-MODIFIED:20230814T132206Z
UID:10005967-1701795600-1701799200@www.springcreekoaks.org
SUMMARY:Kuehnle courts 3-4\, Green ball class
DESCRIPTION:
URL:https://www.springcreekoaks.org/reservations/kuehnle-courts-3-4-green-ball-class/2023-12-05/
CATEGORIES:Tennis
END:VEVENT
BEGIN:VEVENT
DTSTART;TZID=America/Chicago:20231205T180000
DTEND;TZID=America/Chicago:20231205T193000
DTSTAMP:20260423T134715
CREATED:20230814T132345Z
LAST-MODIFIED:20230814T132345Z
UID:10005986-1701799200-1701804600@www.springcreekoaks.org
SUMMARY:Kuehnle courts 3-4\, Yellow ball class
DESCRIPTION:
URL:https://www.springcreekoaks.org/reservations/kuehnle-courts-3-4-yellow-ball-class-2/2023-12-05/
CATEGORIES:Tennis
END:VEVENT
BEGIN:VEVENT
DTSTART;TZID=America/Chicago:20231205T180000
DTEND;TZID=America/Chicago:20231205T220000
DTSTAMP:20260423T134715
CREATED:20230830T121940Z
LAST-MODIFIED:20230915T171226Z
UID:10006220-1701799200-1701813600@www.springcreekoaks.org
SUMMARY:CH 1\, courts 2-3\, Junek
DESCRIPTION:
URL:https://www.springcreekoaks.org/reservations/ch-1-courts-2-3-junek/2023-12-05/
CATEGORIES:Tennis
END:VEVENT
BEGIN:VEVENT
DTSTART;TZID=America/Chicago:20231206T090000
DTEND;TZID=America/Chicago:20231206T100000
DTSTAMP:20260423T134715
CREATED:20230814T132524Z
LAST-MODIFIED:20230814T132524Z
UID:10006005-1701853200-1701856800@www.springcreekoaks.org
SUMMARY:Kuehnle courts 3-4\, intermediate homeschool class
DESCRIPTION:
URL:https://www.springcreekoaks.org/reservations/kuehnle-courts-3-4-intermediate-homeschool-class-2/2023-12-06/
CATEGORIES:Tennis
END:VEVENT
BEGIN:VEVENT
DTSTART;TZID=America/Chicago:20231206T090000
DTEND;TZID=America/Chicago:20231206T120000
DTSTAMP:20260423T134715
CREATED:20221227T222834Z
LAST-MODIFIED:20221227T222834Z
UID:10005256-1701853200-1701864000@www.springcreekoaks.org
SUMMARY:CH 1 courts 2-3\, Hudson
DESCRIPTION:
URL:https://www.springcreekoaks.org/reservations/ch-1-courts-2-3-hudson/2023-12-06/
CATEGORIES:Tennis
END:VEVENT
BEGIN:VEVENT
DTSTART;TZID=America/Chicago:20231206T090000
DTEND;TZID=America/Chicago:20231206T140000
DTSTAMP:20260423T134715
CREATED:20230328T012811Z
LAST-MODIFIED:20230328T012811Z
UID:10002259-1701853200-1701871200@www.springcreekoaks.org
SUMMARY:SCO Tennis Camp CH2
DESCRIPTION:
URL:https://www.springcreekoaks.org/reservations/sco-tennis-camp-ch2-3/2023-12-06/
LOCATION:Clubhouse 2\, 6002 Bur Oak Dr\, Spring\, 77379\, United States
CATEGORIES:Clubhouses
GEO:30.037539;-95.5070911
X-APPLE-STRUCTURED-LOCATION;VALUE=URI;X-ADDRESS=Clubhouse 2 6002 Bur Oak Dr Spring 77379 United States;X-APPLE-RADIUS=500;X-TITLE=6002 Bur Oak Dr:geo:-95.5070911,30.037539
END:VEVENT
BEGIN:VEVENT
DTSTART;TZID=America/Chicago:20231206T170000
DTEND;TZID=America/Chicago:20231206T180000
DTSTAMP:20260423T134715
CREATED:20230814T132653Z
LAST-MODIFIED:20230814T132653Z
UID:10006024-1701882000-1701885600@www.springcreekoaks.org
SUMMARY:Kuehnle courts 3-4\, Orange ball class
DESCRIPTION:
URL:https://www.springcreekoaks.org/reservations/kuehnle-courts-3-4-orange-ball-class-2/2023-12-06/
CATEGORIES:Tennis
END:VEVENT
BEGIN:VEVENT
DTSTART;TZID=America/Chicago:20231206T173000
DTEND;TZID=America/Chicago:20231206T193000
DTSTAMP:20260423T134715
CREATED:20231012T150149Z
LAST-MODIFIED:20231013T150253Z
UID:10006332-1701883800-1701891000@www.springcreekoaks.org
SUMMARY:Christensen
DESCRIPTION:
URL:https://www.springcreekoaks.org/reservations/christensen/2023-12-06/
LOCATION:Small Soccer Field (CH 2)
CATEGORIES:Soccer Fields
END:VEVENT
BEGIN:VEVENT
DTSTART;TZID=America/Chicago:20231206T180000
DTEND;TZID=America/Chicago:20231206T190000
DTSTAMP:20260423T134715
CREATED:20230814T132829Z
LAST-MODIFIED:20230814T132829Z
UID:10006043-1701885600-1701889200@www.springcreekoaks.org
SUMMARY:Kuehnle courts 3-4\, Yellow ball class
DESCRIPTION:
URL:https://www.springcreekoaks.org/reservations/kuehnle-courts-3-4-yellow-ball-class-3/2023-12-06/
CATEGORIES:Tennis
END:VEVENT
BEGIN:VEVENT
DTSTART;TZID=America/Chicago:20231206T180000
DTEND;TZID=America/Chicago:20231206T200000
DTSTAMP:20260423T134715
CREATED:20200805T160749Z
LAST-MODIFIED:20200805T161100Z
UID:10001464-1701885600-1701892800@www.springcreekoaks.org
SUMMARY:CIFUENTES (Big Soccer Field)
DESCRIPTION:
URL:https://www.springcreekoaks.org/reservations/cifuentes-open-play-big-soccer-field/2023-12-06/
CATEGORIES:Soccer Fields
END:VEVENT
BEGIN:VEVENT
DTSTART;TZID=America/Chicago:20231207T083000
DTEND;TZID=America/Chicago:20231207T113000
DTSTAMP:20260423T134715
CREATED:20231206T043431Z
LAST-MODIFIED:20231206T043431Z
UID:10001045-1701937800-1701948600@www.springcreekoaks.org
SUMMARY:CH 2 court 1\, Kushner
DESCRIPTION:
URL:https://www.springcreekoaks.org/reservations/ch-2-court-1-kushner-2/
CATEGORIES:Tennis
END:VEVENT
BEGIN:VEVENT
DTSTART;TZID=America/Chicago:20231207T090000
DTEND;TZID=America/Chicago:20231207T110000
DTSTAMP:20260423T134715
CREATED:20230821T190739Z
LAST-MODIFIED:20230821T190739Z
UID:10006153-1701939600-1701946800@www.springcreekoaks.org
SUMMARY:Kuehnle courts 3-4\, Homeschool classes
DESCRIPTION:
URL:https://www.springcreekoaks.org/reservations/kuehnle-courts-3-4-homeschool-classes-2/2023-12-07/
CATEGORIES:Tennis
END:VEVENT
BEGIN:VEVENT
DTSTART;TZID=America/Chicago:20231207T090000
DTEND;TZID=America/Chicago:20231207T120000
DTSTAMP:20260423T134715
CREATED:20230819T184409Z
LAST-MODIFIED:20230907T224257Z
UID:10006137-1701939600-1701950400@www.springcreekoaks.org
SUMMARY:CH 1 courts 2-3\, Palmer
DESCRIPTION:
URL:https://www.springcreekoaks.org/reservations/ch-1-courts-2-3-pickleball-meet-and-greet-7/2023-12-07/
CATEGORIES:Tennis
END:VEVENT
BEGIN:VEVENT
DTSTART;TZID=America/Chicago:20231207T090000
DTEND;TZID=America/Chicago:20231207T120000
DTSTAMP:20260423T134715
CREATED:20230907T225043Z
LAST-MODIFIED:20230907T225043Z
UID:10006287-1701939600-1701950400@www.springcreekoaks.org
SUMMARY:CH 1 court 1\, Pickleball meet and greet
DESCRIPTION:
URL:https://www.springcreekoaks.org/reservations/ch-1-court-1-pickleball-meet-and-greet-3/2023-12-07/
CATEGORIES:Tennis
END:VEVENT
BEGIN:VEVENT
DTSTART;TZID=America/Chicago:20231207T090000
DTEND;TZID=America/Chicago:20231207T140000
DTSTAMP:20260423T134715
CREATED:20230328T012811Z
LAST-MODIFIED:20230328T012811Z
UID:10002260-1701939600-1701957600@www.springcreekoaks.org
SUMMARY:SCO Tennis Camp CH2
DESCRIPTION:
URL:https://www.springcreekoaks.org/reservations/sco-tennis-camp-ch2-3/2023-12-07/
LOCATION:Clubhouse 2\, 6002 Bur Oak Dr\, Spring\, 77379\, United States
CATEGORIES:Clubhouses
GEO:30.037539;-95.5070911
X-APPLE-STRUCTURED-LOCATION;VALUE=URI;X-ADDRESS=Clubhouse 2 6002 Bur Oak Dr Spring 77379 United States;X-APPLE-RADIUS=500;X-TITLE=6002 Bur Oak Dr:geo:-95.5070911,30.037539
END:VEVENT
BEGIN:VEVENT
DTSTART;TZID=America/Chicago:20231207T170000
DTEND;TZID=America/Chicago:20231207T180000
DTSTAMP:20260423T134715
CREATED:20230814T132947Z
LAST-MODIFIED:20230814T132947Z
UID:10006062-1701968400-1701972000@www.springcreekoaks.org
SUMMARY:Kuehnle courts 3-4\, Orange ball class
DESCRIPTION:
URL:https://www.springcreekoaks.org/reservations/kuehnle-courts-3-4-orange-ball-class-3/2023-12-07/
CATEGORIES:Tennis
END:VEVENT
BEGIN:VEVENT
DTSTART;TZID=America/Chicago:20231207T170000
DTEND;TZID=America/Chicago:20231207T210000
DTSTAMP:20260423T134715
CREATED:20191114T164535Z
LAST-MODIFIED:20191114T164535Z
UID:10000356-1701968400-1701982800@www.springcreekoaks.org
SUMMARY:CH2 5pm-9pm Waterboard Monthly Meeting
DESCRIPTION:
URL:https://www.springcreekoaks.org/reservations/ch2-5pm-9pm-waterboard-monthly-meeting/2023-12-07/
LOCATION:Clubhouse 2\, 6002 Bur Oak Dr\, Spring\, 77379\, United States
CATEGORIES:Clubhouses
GEO:30.037539;-95.5070911
X-APPLE-STRUCTURED-LOCATION;VALUE=URI;X-ADDRESS=Clubhouse 2 6002 Bur Oak Dr Spring 77379 United States;X-APPLE-RADIUS=500;X-TITLE=6002 Bur Oak Dr:geo:-95.5070911,30.037539
END:VEVENT
BEGIN:VEVENT
DTSTART;TZID=America/Chicago:20231207T170000
DTEND;TZID=America/Chicago:20231207T220000
DTSTAMP:20260423T134715
CREATED:20230129T135835Z
LAST-MODIFIED:20230129T135835Z
UID:10001851-1701968400-1701986400@www.springcreekoaks.org
SUMMARY:Bilma Board Meeting CH2
DESCRIPTION:
URL:https://www.springcreekoaks.org/reservations/bilma-board-meeting-ch2/2023-12-07/
CATEGORIES:Clubhouses
END:VEVENT
BEGIN:VEVENT
DTSTART;TZID=America/Chicago:20231207T173000
DTEND;TZID=America/Chicago:20231207T193000
DTSTAMP:20260423T134716
CREATED:20231012T150149Z
LAST-MODIFIED:20231013T150253Z
UID:10006333-1701970200-1701977400@www.springcreekoaks.org
SUMMARY:Christensen
DESCRIPTION:
URL:https://www.springcreekoaks.org/reservations/christensen/2023-12-07/
LOCATION:Small Soccer Field (CH 2)
CATEGORIES:Soccer Fields
END:VEVENT
BEGIN:VEVENT
DTSTART;TZID=America/Chicago:20231207T180000
DTEND;TZID=America/Chicago:20231207T193000
DTSTAMP:20260423T134716
CREATED:20230814T133101Z
LAST-MODIFIED:20230814T133101Z
UID:10006081-1701972000-1701977400@www.springcreekoaks.org
SUMMARY:Kuehnle courts 3-4\, Yellow ball class
DESCRIPTION:
URL:https://www.springcreekoaks.org/reservations/kuehnle-courts-3-4-yellow-ball-class-4/2023-12-07/
CATEGORIES:Tennis
END:VEVENT
BEGIN:VEVENT
DTSTART;TZID=America/Chicago:20231207T193000
DTEND;TZID=America/Chicago:20231207T220000
DTSTAMP:20260423T134716
CREATED:20230911T200317Z
LAST-MODIFIED:20230911T200317Z
UID:10003649-1701977400-1701986400@www.springcreekoaks.org
SUMMARY:CH 1 courts 2-3 (Pickleball)\, Guzman
DESCRIPTION:
URL:https://www.springcreekoaks.org/reservations/ch-1-courts-2-3-pickleball-guzman/2023-12-07/
CATEGORIES:Tennis
END:VEVENT
END:VCALENDAR