BEGIN:VCALENDAR
VERSION:2.0
PRODID:-//Spring Creek Oaks - ECPv6.15.20//NONSGML v1.0//EN
CALSCALE:GREGORIAN
METHOD:PUBLISH
X-ORIGINAL-URL:https://www.springcreekoaks.org
X-WR-CALDESC:Events for Spring Creek Oaks
REFRESH-INTERVAL;VALUE=DURATION:PT1H
X-Robots-Tag:noindex
X-PUBLISHED-TTL:PT1H
BEGIN:VTIMEZONE
TZID:America/Chicago
BEGIN:DAYLIGHT
TZOFFSETFROM:-0600
TZOFFSETTO:-0500
TZNAME:CDT
DTSTART:20220313T080000
END:DAYLIGHT
BEGIN:STANDARD
TZOFFSETFROM:-0500
TZOFFSETTO:-0600
TZNAME:CST
DTSTART:20221106T070000
END:STANDARD
BEGIN:DAYLIGHT
TZOFFSETFROM:-0600
TZOFFSETTO:-0500
TZNAME:CDT
DTSTART:20230312T080000
END:DAYLIGHT
BEGIN:STANDARD
TZOFFSETFROM:-0500
TZOFFSETTO:-0600
TZNAME:CST
DTSTART:20231105T070000
END:STANDARD
BEGIN:DAYLIGHT
TZOFFSETFROM:-0600
TZOFFSETTO:-0500
TZNAME:CDT
DTSTART:20240310T080000
END:DAYLIGHT
BEGIN:STANDARD
TZOFFSETFROM:-0500
TZOFFSETTO:-0600
TZNAME:CST
DTSTART:20241103T070000
END:STANDARD
END:VTIMEZONE
BEGIN:VEVENT
DTSTART;TZID=America/Chicago:20231114T170000
DTEND;TZID=America/Chicago:20231114T180000
DTSTAMP:20260425T112307
CREATED:20230814T132206Z
LAST-MODIFIED:20230814T132206Z
UID:10005964-1699981200-1699984800@www.springcreekoaks.org
SUMMARY:Kuehnle courts 3-4\, Green ball class
DESCRIPTION:
URL:https://www.springcreekoaks.org/reservations/kuehnle-courts-3-4-green-ball-class/2023-11-14/
CATEGORIES:Tennis
END:VEVENT
BEGIN:VEVENT
DTSTART;TZID=America/Chicago:20231114T180000
DTEND;TZID=America/Chicago:20231114T193000
DTSTAMP:20260425T112307
CREATED:20230814T132345Z
LAST-MODIFIED:20230814T132345Z
UID:10005983-1699984800-1699990200@www.springcreekoaks.org
SUMMARY:Kuehnle courts 3-4\, Yellow ball class
DESCRIPTION:
URL:https://www.springcreekoaks.org/reservations/kuehnle-courts-3-4-yellow-ball-class-2/2023-11-14/
CATEGORIES:Tennis
END:VEVENT
BEGIN:VEVENT
DTSTART;TZID=America/Chicago:20231114T180000
DTEND;TZID=America/Chicago:20231114T220000
DTSTAMP:20260425T112307
CREATED:20230830T121940Z
LAST-MODIFIED:20230915T171226Z
UID:10006217-1699984800-1699999200@www.springcreekoaks.org
SUMMARY:CH 1\, courts 2-3\, Junek
DESCRIPTION:
URL:https://www.springcreekoaks.org/reservations/ch-1-courts-2-3-junek/2023-11-14/
CATEGORIES:Tennis
END:VEVENT
BEGIN:VEVENT
DTSTART;TZID=America/Chicago:20231114T190000
DTEND;TZID=America/Chicago:20231114T223000
DTSTAMP:20260425T112307
CREATED:20231108T152529Z
LAST-MODIFIED:20231108T152529Z
UID:10006348-1699988400-1700001000@www.springcreekoaks.org
SUMMARY:CH 2 courts 1-6\, men’s league Vross
DESCRIPTION:
URL:https://www.springcreekoaks.org/reservations/ch-2-courts-1-6-mens-league-vross-4/
CATEGORIES:Tennis
END:VEVENT
BEGIN:VEVENT
DTSTART;TZID=America/Chicago:20231115T083000
DTEND;TZID=America/Chicago:20231115T120000
DTSTAMP:20260425T112307
CREATED:20230823T110443Z
LAST-MODIFIED:20230823T110443Z
UID:10006175-1700037000-1700049600@www.springcreekoaks.org
SUMMARY:CH 2 courts 1-4\, NW A2
DESCRIPTION:
URL:https://www.springcreekoaks.org/reservations/ch-2-courts-1-4-nw-a2-2/2023-11-15/
CATEGORIES:Tennis
END:VEVENT
BEGIN:VEVENT
DTSTART;TZID=America/Chicago:20231115T090000
DTEND;TZID=America/Chicago:20231115T100000
DTSTAMP:20260425T112307
CREATED:20230814T132524Z
LAST-MODIFIED:20230814T132524Z
UID:10006002-1700038800-1700042400@www.springcreekoaks.org
SUMMARY:Kuehnle courts 3-4\, intermediate homeschool class
DESCRIPTION:
URL:https://www.springcreekoaks.org/reservations/kuehnle-courts-3-4-intermediate-homeschool-class-2/2023-11-15/
CATEGORIES:Tennis
END:VEVENT
BEGIN:VEVENT
DTSTART;TZID=America/Chicago:20231115T090000
DTEND;TZID=America/Chicago:20231115T120000
DTSTAMP:20260425T112307
CREATED:20221227T222834Z
LAST-MODIFIED:20221227T222834Z
UID:10005253-1700038800-1700049600@www.springcreekoaks.org
SUMMARY:CH 1 courts 2-3\, Hudson
DESCRIPTION:
URL:https://www.springcreekoaks.org/reservations/ch-1-courts-2-3-hudson/2023-11-15/
CATEGORIES:Tennis
END:VEVENT
BEGIN:VEVENT
DTSTART;TZID=America/Chicago:20231115T090000
DTEND;TZID=America/Chicago:20231115T140000
DTSTAMP:20260425T112307
CREATED:20230328T012811Z
LAST-MODIFIED:20230328T012811Z
UID:10002238-1700038800-1700056800@www.springcreekoaks.org
SUMMARY:SCO Tennis Camp CH2
DESCRIPTION:
URL:https://www.springcreekoaks.org/reservations/sco-tennis-camp-ch2-3/2023-11-15/
LOCATION:Clubhouse 2\, 6002 Bur Oak Dr\, Spring\, 77379\, United States
CATEGORIES:Clubhouses
GEO:30.037539;-95.5070911
X-APPLE-STRUCTURED-LOCATION;VALUE=URI;X-ADDRESS=Clubhouse 2 6002 Bur Oak Dr Spring 77379 United States;X-APPLE-RADIUS=500;X-TITLE=6002 Bur Oak Dr:geo:-95.5070911,30.037539
END:VEVENT
BEGIN:VEVENT
DTSTART;TZID=America/Chicago:20231115T160000
DTEND;TZID=America/Chicago:20231115T200000
DTSTAMP:20260425T112307
CREATED:20230703T125231Z
LAST-MODIFIED:20230703T125231Z
UID:10005747-1700064000-1700078400@www.springcreekoaks.org
SUMMARY:Field 1 - Texas Havoc - 10U
DESCRIPTION:
URL:https://www.springcreekoaks.org/reservations/field-1-texas-havoc-10u/2023-11-15/
LOCATION:Baseball Field 1\, United States
CATEGORIES:Baseball Fields
END:VEVENT
BEGIN:VEVENT
DTSTART;TZID=America/Chicago:20231115T160000
DTEND;TZID=America/Chicago:20231115T200000
DTSTAMP:20260425T112307
CREATED:20230710T115703Z
LAST-MODIFIED:20230710T115703Z
UID:10005797-1700064000-1700078400@www.springcreekoaks.org
SUMMARY:Field 2 - Orioles - 11U
DESCRIPTION:
URL:https://www.springcreekoaks.org/reservations/field-2-orioles-11u/2023-11-15/
LOCATION:Baseball Field 2\, United States
CATEGORIES:Baseball Fields
END:VEVENT
BEGIN:VEVENT
DTSTART;TZID=America/Chicago:20231115T160000
DTEND;TZID=America/Chicago:20231115T200000
DTSTAMP:20260425T112307
CREATED:20230824T141412Z
LAST-MODIFIED:20230824T141412Z
UID:10006205-1700064000-1700078400@www.springcreekoaks.org
SUMMARY:Field 3 - Jaguars - 14U
DESCRIPTION:
URL:https://www.springcreekoaks.org/reservations/field-3-jaguars-14u-2/2023-11-15/
LOCATION:Baseball Field 3\, United States
CATEGORIES:Baseball Fields
END:VEVENT
BEGIN:VEVENT
DTSTART;TZID=America/Chicago:20231115T170000
DTEND;TZID=America/Chicago:20231115T180000
DTSTAMP:20260425T112307
CREATED:20230814T132653Z
LAST-MODIFIED:20230814T132653Z
UID:10006021-1700067600-1700071200@www.springcreekoaks.org
SUMMARY:Kuehnle courts 3-4\, Orange ball class
DESCRIPTION:
URL:https://www.springcreekoaks.org/reservations/kuehnle-courts-3-4-orange-ball-class-2/2023-11-15/
CATEGORIES:Tennis
END:VEVENT
BEGIN:VEVENT
DTSTART;TZID=America/Chicago:20231115T170000
DTEND;TZID=America/Chicago:20231115T210000
DTSTAMP:20260425T112307
CREATED:20231103T184835Z
LAST-MODIFIED:20231103T184835Z
UID:10004005-1700067600-1700082000@www.springcreekoaks.org
SUMMARY:Bilma ch1
DESCRIPTION:
URL:https://www.springcreekoaks.org/reservations/bilma-ch1/
LOCATION:Clubhouse 1\, 17111 Misty Creek\, Spring\, TX\, 77379\, United States
CATEGORIES:Clubhouses
GEO:30.0346602;-95.5117522
X-APPLE-STRUCTURED-LOCATION;VALUE=URI;X-ADDRESS=Clubhouse 1 17111 Misty Creek Spring TX 77379 United States;X-APPLE-RADIUS=500;X-TITLE=17111 Misty Creek:geo:-95.5117522,30.0346602
END:VEVENT
BEGIN:VEVENT
DTSTART;TZID=America/Chicago:20231115T173000
DTEND;TZID=America/Chicago:20231115T193000
DTSTAMP:20260425T112307
CREATED:20231012T150149Z
LAST-MODIFIED:20231013T150253Z
UID:10006326-1700069400-1700076600@www.springcreekoaks.org
SUMMARY:Christensen
DESCRIPTION:
URL:https://www.springcreekoaks.org/reservations/christensen/2023-11-15/
LOCATION:Small Soccer Field (CH 2)
CATEGORIES:Soccer Fields
END:VEVENT
BEGIN:VEVENT
DTSTART;TZID=America/Chicago:20231115T180000
DTEND;TZID=America/Chicago:20231115T190000
DTSTAMP:20260425T112307
CREATED:20230814T132829Z
LAST-MODIFIED:20230814T132829Z
UID:10006040-1700071200-1700074800@www.springcreekoaks.org
SUMMARY:Kuehnle courts 3-4\, Yellow ball class
DESCRIPTION:
URL:https://www.springcreekoaks.org/reservations/kuehnle-courts-3-4-yellow-ball-class-3/2023-11-15/
CATEGORIES:Tennis
END:VEVENT
BEGIN:VEVENT
DTSTART;TZID=America/Chicago:20231115T180000
DTEND;TZID=America/Chicago:20231115T200000
DTSTAMP:20260425T112307
CREATED:20200805T160749Z
LAST-MODIFIED:20200805T161100Z
UID:10001461-1700071200-1700078400@www.springcreekoaks.org
SUMMARY:CIFUENTES (Big Soccer Field)
DESCRIPTION:
URL:https://www.springcreekoaks.org/reservations/cifuentes-open-play-big-soccer-field/2023-11-15/
CATEGORIES:Soccer Fields
END:VEVENT
BEGIN:VEVENT
DTSTART;TZID=America/Chicago:20231115T180000
DTEND;TZID=America/Chicago:20231115T220000
DTSTAMP:20260425T112307
CREATED:20220808T175634Z
LAST-MODIFIED:20220808T175634Z
UID:10004337-1700071200-1700085600@www.springcreekoaks.org
SUMMARY:SCO Book Club CH2
DESCRIPTION:
URL:https://www.springcreekoaks.org/reservations/sco-book-club-ch2-2/2023-11-15/
CATEGORIES:Clubhouses
END:VEVENT
BEGIN:VEVENT
DTSTART;TZID=America/Chicago:20231116T090000
DTEND;TZID=America/Chicago:20231116T110000
DTSTAMP:20260425T112307
CREATED:20230821T190739Z
LAST-MODIFIED:20230821T190739Z
UID:10006150-1700125200-1700132400@www.springcreekoaks.org
SUMMARY:Kuehnle courts 3-4\, Homeschool classes
DESCRIPTION:
URL:https://www.springcreekoaks.org/reservations/kuehnle-courts-3-4-homeschool-classes-2/2023-11-16/
CATEGORIES:Tennis
END:VEVENT
BEGIN:VEVENT
DTSTART;TZID=America/Chicago:20231116T090000
DTEND;TZID=America/Chicago:20231116T120000
DTSTAMP:20260425T112307
CREATED:20230819T184409Z
LAST-MODIFIED:20230907T224257Z
UID:10006134-1700125200-1700136000@www.springcreekoaks.org
SUMMARY:CH 1 courts 2-3\, Palmer
DESCRIPTION:
URL:https://www.springcreekoaks.org/reservations/ch-1-courts-2-3-pickleball-meet-and-greet-7/2023-11-16/
CATEGORIES:Tennis
END:VEVENT
BEGIN:VEVENT
DTSTART;TZID=America/Chicago:20231116T090000
DTEND;TZID=America/Chicago:20231116T120000
DTSTAMP:20260425T112307
CREATED:20230907T225043Z
LAST-MODIFIED:20230907T225043Z
UID:10006284-1700125200-1700136000@www.springcreekoaks.org
SUMMARY:CH 1 court 1\, Pickleball meet and greet
DESCRIPTION:
URL:https://www.springcreekoaks.org/reservations/ch-1-court-1-pickleball-meet-and-greet-3/2023-11-16/
CATEGORIES:Tennis
END:VEVENT
BEGIN:VEVENT
DTSTART;TZID=America/Chicago:20231116T090000
DTEND;TZID=America/Chicago:20231116T140000
DTSTAMP:20260425T112307
CREATED:20230328T012811Z
LAST-MODIFIED:20230328T012811Z
UID:10002239-1700125200-1700143200@www.springcreekoaks.org
SUMMARY:SCO Tennis Camp CH2
DESCRIPTION:
URL:https://www.springcreekoaks.org/reservations/sco-tennis-camp-ch2-3/2023-11-16/
LOCATION:Clubhouse 2\, 6002 Bur Oak Dr\, Spring\, 77379\, United States
CATEGORIES:Clubhouses
GEO:30.037539;-95.5070911
X-APPLE-STRUCTURED-LOCATION;VALUE=URI;X-ADDRESS=Clubhouse 2 6002 Bur Oak Dr Spring 77379 United States;X-APPLE-RADIUS=500;X-TITLE=6002 Bur Oak Dr:geo:-95.5070911,30.037539
END:VEVENT
BEGIN:VEVENT
DTSTART;TZID=America/Chicago:20231116T160000
DTEND;TZID=America/Chicago:20231116T200000
DTSTAMP:20260425T112307
CREATED:20230703T125024Z
LAST-MODIFIED:20230703T125024Z
UID:10003539-1700150400-1700164800@www.springcreekoaks.org
SUMMARY:Field 2 - Texas Havoc - 12U
DESCRIPTION:
URL:https://www.springcreekoaks.org/reservations/field-2-texas-havoc-12u/2023-11-16/
LOCATION:Baseball Field 2\, United States
CATEGORIES:Baseball Fields
END:VEVENT
BEGIN:VEVENT
DTSTART;TZID=America/Chicago:20231116T160000
DTEND;TZID=America/Chicago:20231116T200000
DTSTAMP:20260425T112307
CREATED:20230711T214850Z
LAST-MODIFIED:20230711T214850Z
UID:10001246-1700150400-1700164800@www.springcreekoaks.org
SUMMARY:Field 4 - Eagles - 9U
DESCRIPTION:
URL:https://www.springcreekoaks.org/reservations/field-4-eagles-9u/2023-11-16/
LOCATION:Baseball Field 4\, United States
CATEGORIES:Baseball Fields
END:VEVENT
BEGIN:VEVENT
DTSTART;TZID=America/Chicago:20231116T160000
DTEND;TZID=America/Chicago:20231116T200000
DTSTAMP:20260425T112307
CREATED:20230726T111506Z
LAST-MODIFIED:20230726T111506Z
UID:10001280-1700150400-1700164800@www.springcreekoaks.org
SUMMARY:Field 3 - Young Guns - 12U
DESCRIPTION:
URL:https://www.springcreekoaks.org/reservations/field-3-young-guns-12u/2023-11-16/
LOCATION:Baseball Field 3\, United States
CATEGORIES:Baseball Fields
END:VEVENT
BEGIN:VEVENT
DTSTART;TZID=America/Chicago:20231116T160000
DTEND;TZID=America/Chicago:20231116T200000
DTSTAMP:20260425T112307
CREATED:20230801T112237Z
LAST-MODIFIED:20230801T112237Z
UID:10005814-1700150400-1700164800@www.springcreekoaks.org
SUMMARY:Field 1 - Coyotes - 12U
DESCRIPTION:
URL:https://www.springcreekoaks.org/reservations/field-1-coyotes-12u-2/2023-11-16/
LOCATION:Baseball Field 1\, United States
CATEGORIES:Baseball Fields
END:VEVENT
BEGIN:VEVENT
DTSTART;TZID=America/Chicago:20231116T170000
DTEND;TZID=America/Chicago:20231116T180000
DTSTAMP:20260425T112307
CREATED:20230814T132947Z
LAST-MODIFIED:20230814T132947Z
UID:10006059-1700154000-1700157600@www.springcreekoaks.org
SUMMARY:Kuehnle courts 3-4\, Orange ball class
DESCRIPTION:
URL:https://www.springcreekoaks.org/reservations/kuehnle-courts-3-4-orange-ball-class-3/2023-11-16/
CATEGORIES:Tennis
END:VEVENT
BEGIN:VEVENT
DTSTART;TZID=America/Chicago:20231116T173000
DTEND;TZID=America/Chicago:20231116T193000
DTSTAMP:20260425T112307
CREATED:20231012T150149Z
LAST-MODIFIED:20231013T150253Z
UID:10006327-1700155800-1700163000@www.springcreekoaks.org
SUMMARY:Christensen
DESCRIPTION:
URL:https://www.springcreekoaks.org/reservations/christensen/2023-11-16/
LOCATION:Small Soccer Field (CH 2)
CATEGORIES:Soccer Fields
END:VEVENT
BEGIN:VEVENT
DTSTART;TZID=America/Chicago:20231116T180000
DTEND;TZID=America/Chicago:20231116T193000
DTSTAMP:20260425T112307
CREATED:20230814T133101Z
LAST-MODIFIED:20230814T133101Z
UID:10006078-1700157600-1700163000@www.springcreekoaks.org
SUMMARY:Kuehnle courts 3-4\, Yellow ball class
DESCRIPTION:
URL:https://www.springcreekoaks.org/reservations/kuehnle-courts-3-4-yellow-ball-class-4/2023-11-16/
CATEGORIES:Tennis
END:VEVENT
BEGIN:VEVENT
DTSTART;TZID=America/Chicago:20231116T193000
DTEND;TZID=America/Chicago:20231116T220000
DTSTAMP:20260425T112308
CREATED:20230911T200317Z
LAST-MODIFIED:20230911T200317Z
UID:10003646-1700163000-1700172000@www.springcreekoaks.org
SUMMARY:CH 1 courts 2-3 (Pickleball)\, Guzman
DESCRIPTION:
URL:https://www.springcreekoaks.org/reservations/ch-1-courts-2-3-pickleball-guzman/2023-11-16/
CATEGORIES:Tennis
END:VEVENT
BEGIN:VEVENT
DTSTART;VALUE=DATE:20231117
DTEND;VALUE=DATE:20231118
DTSTAMP:20260425T112308
CREATED:20231007T214304Z
LAST-MODIFIED:20231007T214304Z
UID:10003971-1700179200-1700265599@www.springcreekoaks.org
SUMMARY:Holt CH1
DESCRIPTION:
URL:https://www.springcreekoaks.org/reservations/holt-ch1-2/
LOCATION:Clubhouse 1\, 17111 Misty Creek\, Spring\, TX\, 77379\, United States
CATEGORIES:Clubhouses
GEO:30.0346602;-95.5117522
X-APPLE-STRUCTURED-LOCATION;VALUE=URI;X-ADDRESS=Clubhouse 1 17111 Misty Creek Spring TX 77379 United States;X-APPLE-RADIUS=500;X-TITLE=17111 Misty Creek:geo:-95.5117522,30.0346602
END:VEVENT
END:VCALENDAR