BEGIN:VCALENDAR
VERSION:2.0
PRODID:-//Spring Creek Oaks - ECPv6.15.20//NONSGML v1.0//EN
CALSCALE:GREGORIAN
METHOD:PUBLISH
X-WR-CALNAME:Spring Creek Oaks
X-ORIGINAL-URL:https://www.springcreekoaks.org
X-WR-CALDESC:Events for Spring Creek Oaks
REFRESH-INTERVAL;VALUE=DURATION:PT1H
X-Robots-Tag:noindex
X-PUBLISHED-TTL:PT1H
BEGIN:VTIMEZONE
TZID:America/Chicago
BEGIN:DAYLIGHT
TZOFFSETFROM:-0600
TZOFFSETTO:-0500
TZNAME:CDT
DTSTART:20220313T080000
END:DAYLIGHT
BEGIN:STANDARD
TZOFFSETFROM:-0500
TZOFFSETTO:-0600
TZNAME:CST
DTSTART:20221106T070000
END:STANDARD
BEGIN:DAYLIGHT
TZOFFSETFROM:-0600
TZOFFSETTO:-0500
TZNAME:CDT
DTSTART:20230312T080000
END:DAYLIGHT
BEGIN:STANDARD
TZOFFSETFROM:-0500
TZOFFSETTO:-0600
TZNAME:CST
DTSTART:20231105T070000
END:STANDARD
BEGIN:DAYLIGHT
TZOFFSETFROM:-0600
TZOFFSETTO:-0500
TZNAME:CDT
DTSTART:20240310T080000
END:DAYLIGHT
BEGIN:STANDARD
TZOFFSETFROM:-0500
TZOFFSETTO:-0600
TZNAME:CST
DTSTART:20241103T070000
END:STANDARD
END:VTIMEZONE
BEGIN:VEVENT
DTSTART;TZID=America/Chicago:20230928T090000
DTEND;TZID=America/Chicago:20230928T110000
DTSTAMP:20260425T204422
CREATED:20230821T190602Z
LAST-MODIFIED:20230821T190602Z
UID:10006145-1695891600-1695898800@www.springcreekoaks.org
SUMMARY:Kuehnle courts 3-4\, Homeschool classes
DESCRIPTION:
URL:https://www.springcreekoaks.org/reservations/kuehnle-courts-3-4-homeschool-classes/2023-09-28/
CATEGORIES:Tennis
END:VEVENT
BEGIN:VEVENT
DTSTART;TZID=America/Chicago:20230928T090000
DTEND;TZID=America/Chicago:20230928T120000
DTSTAMP:20260425T204422
CREATED:20230819T184409Z
LAST-MODIFIED:20230907T224257Z
UID:10006127-1695891600-1695902400@www.springcreekoaks.org
SUMMARY:CH 1 courts 2-3\, Palmer
DESCRIPTION:
URL:https://www.springcreekoaks.org/reservations/ch-1-courts-2-3-pickleball-meet-and-greet-7/2023-09-28/
CATEGORIES:Tennis
END:VEVENT
BEGIN:VEVENT
DTSTART;TZID=America/Chicago:20230928T090000
DTEND;TZID=America/Chicago:20230928T120000
DTSTAMP:20260425T204422
CREATED:20230907T225043Z
LAST-MODIFIED:20230907T225043Z
UID:10006277-1695891600-1695902400@www.springcreekoaks.org
SUMMARY:CH 1 court 1\, Pickleball meet and greet
DESCRIPTION:
URL:https://www.springcreekoaks.org/reservations/ch-1-court-1-pickleball-meet-and-greet-3/2023-09-28/
CATEGORIES:Tennis
END:VEVENT
BEGIN:VEVENT
DTSTART;TZID=America/Chicago:20230928T090000
DTEND;TZID=America/Chicago:20230928T140000
DTSTAMP:20260425T204422
CREATED:20230328T012811Z
LAST-MODIFIED:20230328T012811Z
UID:10002190-1695891600-1695909600@www.springcreekoaks.org
SUMMARY:SCO Tennis Camp CH2
DESCRIPTION:
URL:https://www.springcreekoaks.org/reservations/sco-tennis-camp-ch2-3/2023-09-28/
LOCATION:Clubhouse 2\, 6002 Bur Oak Dr\, Spring\, 77379\, United States
CATEGORIES:Clubhouses
GEO:30.037539;-95.5070911
X-APPLE-STRUCTURED-LOCATION;VALUE=URI;X-ADDRESS=Clubhouse 2 6002 Bur Oak Dr Spring 77379 United States;X-APPLE-RADIUS=500;X-TITLE=6002 Bur Oak Dr:geo:-95.5070911,30.037539
END:VEVENT
BEGIN:VEVENT
DTSTART;TZID=America/Chicago:20230928T160000
DTEND;TZID=America/Chicago:20230928T200000
DTSTAMP:20260425T204422
CREATED:20230703T125024Z
LAST-MODIFIED:20230703T125024Z
UID:10003525-1695916800-1695931200@www.springcreekoaks.org
SUMMARY:Field 2 - Texas Havoc - 12U
DESCRIPTION:
URL:https://www.springcreekoaks.org/reservations/field-2-texas-havoc-12u/2023-09-28/
LOCATION:Baseball Field 2\, United States
CATEGORIES:Baseball Fields
END:VEVENT
BEGIN:VEVENT
DTSTART;TZID=America/Chicago:20230928T160000
DTEND;TZID=America/Chicago:20230928T200000
DTSTAMP:20260425T204422
CREATED:20230711T214850Z
LAST-MODIFIED:20230711T214850Z
UID:10001232-1695916800-1695931200@www.springcreekoaks.org
SUMMARY:Field 4 - Eagles - 9U
DESCRIPTION:
URL:https://www.springcreekoaks.org/reservations/field-4-eagles-9u/2023-09-28/
LOCATION:Baseball Field 4\, United States
CATEGORIES:Baseball Fields
END:VEVENT
BEGIN:VEVENT
DTSTART;TZID=America/Chicago:20230928T160000
DTEND;TZID=America/Chicago:20230928T200000
DTSTAMP:20260425T204422
CREATED:20230726T111506Z
LAST-MODIFIED:20230726T111506Z
UID:10001266-1695916800-1695931200@www.springcreekoaks.org
SUMMARY:Field 3 - Young Guns - 12U
DESCRIPTION:
URL:https://www.springcreekoaks.org/reservations/field-3-young-guns-12u/2023-09-28/
LOCATION:Baseball Field 3\, United States
CATEGORIES:Baseball Fields
END:VEVENT
BEGIN:VEVENT
DTSTART;TZID=America/Chicago:20230928T160000
DTEND;TZID=America/Chicago:20230928T200000
DTSTAMP:20260425T204422
CREATED:20230801T112237Z
LAST-MODIFIED:20230801T112237Z
UID:10005807-1695916800-1695931200@www.springcreekoaks.org
SUMMARY:Field 1 - Coyotes - 12U
DESCRIPTION:
URL:https://www.springcreekoaks.org/reservations/field-1-coyotes-12u-2/2023-09-28/
LOCATION:Baseball Field 1\, United States
CATEGORIES:Baseball Fields
END:VEVENT
BEGIN:VEVENT
DTSTART;TZID=America/Chicago:20230928T170000
DTEND;TZID=America/Chicago:20230928T180000
DTSTAMP:20260425T204422
CREATED:20230814T132947Z
LAST-MODIFIED:20230814T132947Z
UID:10006052-1695920400-1695924000@www.springcreekoaks.org
SUMMARY:Kuehnle courts 3-4\, Orange ball class
DESCRIPTION:
URL:https://www.springcreekoaks.org/reservations/kuehnle-courts-3-4-orange-ball-class-3/2023-09-28/
CATEGORIES:Tennis
END:VEVENT
BEGIN:VEVENT
DTSTART;TZID=America/Chicago:20230928T170000
DTEND;TZID=America/Chicago:20230928T200000
DTSTAMP:20260425T204422
CREATED:20230830T115016Z
LAST-MODIFIED:20230830T115016Z
UID:10001287-1695920400-1695931200@www.springcreekoaks.org
SUMMARY:Girls Lacrosse
DESCRIPTION:
URL:https://www.springcreekoaks.org/reservations/girls-lacrosse/2023-09-28/
LOCATION:Large Soccer Field (Bilma)\, United States
CATEGORIES:Soccer Fields
END:VEVENT
BEGIN:VEVENT
DTSTART;TZID=America/Chicago:20230928T180000
DTEND;TZID=America/Chicago:20230928T193000
DTSTAMP:20260425T204422
CREATED:20230814T133101Z
LAST-MODIFIED:20230814T133101Z
UID:10006071-1695924000-1695929400@www.springcreekoaks.org
SUMMARY:Kuehnle courts 3-4\, Yellow ball class
DESCRIPTION:
URL:https://www.springcreekoaks.org/reservations/kuehnle-courts-3-4-yellow-ball-class-4/2023-09-28/
CATEGORIES:Tennis
END:VEVENT
BEGIN:VEVENT
DTSTART;TZID=America/Chicago:20230928T180000
DTEND;TZID=America/Chicago:20230928T200000
DTSTAMP:20260425T204422
CREATED:20230724T185620Z
LAST-MODIFIED:20231013T145755Z
UID:10003474-1695924000-1695931200@www.springcreekoaks.org
SUMMARY:Jenny Tyger (3rd graders soccer)
DESCRIPTION:
URL:https://www.springcreekoaks.org/reservations/jenny-tyger-3rd-graders-soccer/2023-09-28/
LOCATION:Small Soccer Field (CH 2)
CATEGORIES:Soccer Fields
END:VEVENT
BEGIN:VEVENT
DTSTART;TZID=America/Chicago:20230928T193000
DTEND;TZID=America/Chicago:20230928T220000
DTSTAMP:20260425T204422
CREATED:20230911T200317Z
LAST-MODIFIED:20230911T200317Z
UID:10003639-1695929400-1695938400@www.springcreekoaks.org
SUMMARY:CH 1 courts 2-3 (Pickleball)\, Guzman
DESCRIPTION:
URL:https://www.springcreekoaks.org/reservations/ch-1-courts-2-3-pickleball-guzman/2023-09-28/
CATEGORIES:Tennis
END:VEVENT
BEGIN:VEVENT
DTSTART;TZID=America/Chicago:20230929T083000
DTEND;TZID=America/Chicago:20230929T120000
DTSTAMP:20260425T204422
CREATED:20230823T110731Z
LAST-MODIFIED:20230824T003257Z
UID:10006178-1695976200-1695988800@www.springcreekoaks.org
SUMMARY:Kuehnle courts 1-4\, JR Open 1
DESCRIPTION:
URL:https://www.springcreekoaks.org/reservations/kuehnle-courts-1-4-jr-open-1/2023-09-29/
CATEGORIES:Tennis
END:VEVENT
BEGIN:VEVENT
DTSTART;TZID=America/Chicago:20230929T083000
DTEND;TZID=America/Chicago:20230929T120000
DTSTAMP:20260425T204422
CREATED:20230831T172429Z
LAST-MODIFIED:20230831T172429Z
UID:10006227-1695976200-1695988800@www.springcreekoaks.org
SUMMARY:CH 2 courts 1-4\, JR Open champ 2
DESCRIPTION:
URL:https://www.springcreekoaks.org/reservations/ch-2-courts-1-4-jr-open-champ-2-2/2023-09-29/
CATEGORIES:Tennis
END:VEVENT
BEGIN:VEVENT
DTSTART;TZID=America/Chicago:20230929T090000
DTEND;TZID=America/Chicago:20230929T140000
DTSTAMP:20260425T204422
CREATED:20230328T012811Z
LAST-MODIFIED:20230328T012811Z
UID:10002191-1695978000-1695996000@www.springcreekoaks.org
SUMMARY:SCO Tennis Camp CH2
DESCRIPTION:
URL:https://www.springcreekoaks.org/reservations/sco-tennis-camp-ch2-3/2023-09-29/
LOCATION:Clubhouse 2\, 6002 Bur Oak Dr\, Spring\, 77379\, United States
CATEGORIES:Clubhouses
GEO:30.037539;-95.5070911
X-APPLE-STRUCTURED-LOCATION;VALUE=URI;X-ADDRESS=Clubhouse 2 6002 Bur Oak Dr Spring 77379 United States;X-APPLE-RADIUS=500;X-TITLE=6002 Bur Oak Dr:geo:-95.5070911,30.037539
END:VEVENT
BEGIN:VEVENT
DTSTART;TZID=America/Chicago:20230929T180000
DTEND;TZID=America/Chicago:20230929T190000
DTSTAMP:20260425T204422
CREATED:20230814T133222Z
LAST-MODIFIED:20230814T133222Z
UID:10006090-1696010400-1696014000@www.springcreekoaks.org
SUMMARY:Kuehnle courts 3-4\, Yellow ball class
DESCRIPTION:
URL:https://www.springcreekoaks.org/reservations/kuehnle-courts-3-4-yellow-ball-class-5/2023-09-29/
CATEGORIES:Tennis
END:VEVENT
BEGIN:VEVENT
DTSTART;TZID=America/Chicago:20230930T080000
DTEND;TZID=America/Chicago:20230930T100000
DTSTAMP:20260425T204422
CREATED:20220407T142613Z
LAST-MODIFIED:20231115T201658Z
UID:10004622-1696060800-1696068000@www.springcreekoaks.org
SUMMARY:SCO weekly pickup game (LLERENA)
DESCRIPTION:All SCO residents are invited to play and have some fun.
URL:https://www.springcreekoaks.org/reservations/llerenas-soccer-practice/2023-09-30/
LOCATION:Large Soccer Field (Bilma)\, United States
CATEGORIES:Soccer Fields
END:VEVENT
BEGIN:VEVENT
DTSTART;TZID=America/Chicago:20230930T080000
DTEND;TZID=America/Chicago:20230930T110000
DTSTAMP:20260425T204422
CREATED:20230801T112011Z
LAST-MODIFIED:20230801T112011Z
UID:10003447-1696060800-1696071600@www.springcreekoaks.org
SUMMARY:Field 1 - Coyotes - 12U
DESCRIPTION:
URL:https://www.springcreekoaks.org/reservations/field-1-coyotes-12u/2023-09-30/
LOCATION:Baseball Field 1\, United States
CATEGORIES:Baseball Fields
END:VEVENT
BEGIN:VEVENT
DTSTART;TZID=America/Chicago:20230930T090000
DTEND;TZID=America/Chicago:20230930T120000
DTSTAMP:20260425T204422
CREATED:20230819T184138Z
LAST-MODIFIED:20230907T224528Z
UID:10003409-1696064400-1696075200@www.springcreekoaks.org
SUMMARY:CH 1 courts 2-3\, Palmer
DESCRIPTION:
URL:https://www.springcreekoaks.org/reservations/ch-1-courts-2-3-pickleball-meet-and-greet-5/2023-09-30/
CATEGORIES:Tennis
END:VEVENT
BEGIN:VEVENT
DTSTART;TZID=America/Chicago:20230930T090000
DTEND;TZID=America/Chicago:20230930T120000
DTSTAMP:20260425T204422
CREATED:20230907T224820Z
LAST-MODIFIED:20230907T224820Z
UID:10006245-1696064400-1696075200@www.springcreekoaks.org
SUMMARY:CH 1 court 1\, Pickleball meet and greet
DESCRIPTION:
URL:https://www.springcreekoaks.org/reservations/ch-1-court-1-pickleball-meet-and-greet/2023-09-30/
CATEGORIES:Tennis
END:VEVENT
BEGIN:VEVENT
DTSTART;TZID=America/Chicago:20230930T090000
DTEND;TZID=America/Chicago:20230930T140000
DTSTAMP:20260425T204422
CREATED:20230328T012811Z
LAST-MODIFIED:20230328T012811Z
UID:10002192-1696064400-1696082400@www.springcreekoaks.org
SUMMARY:SCO Tennis Camp CH2
DESCRIPTION:
URL:https://www.springcreekoaks.org/reservations/sco-tennis-camp-ch2-3/2023-09-30/
LOCATION:Clubhouse 2\, 6002 Bur Oak Dr\, Spring\, 77379\, United States
CATEGORIES:Clubhouses
GEO:30.037539;-95.5070911
X-APPLE-STRUCTURED-LOCATION;VALUE=URI;X-ADDRESS=Clubhouse 2 6002 Bur Oak Dr Spring 77379 United States;X-APPLE-RADIUS=500;X-TITLE=6002 Bur Oak Dr:geo:-95.5070911,30.037539
END:VEVENT
BEGIN:VEVENT
DTSTART;VALUE=DATE:20231001
DTEND;VALUE=DATE:20231002
DTSTAMP:20260425T204422
CREATED:20230923T011439Z
LAST-MODIFIED:20230923T011439Z
UID:10006310-1696118400-1696204799@www.springcreekoaks.org
SUMMARY:NCL Wildflowers CH2
DESCRIPTION:
URL:https://www.springcreekoaks.org/reservations/ncl-wildflowers-ch2-6/
LOCATION:Clubhouse 2\, 6002 Bur Oak Dr\, Spring\, 77379\, United States
CATEGORIES:Clubhouses
GEO:30.037539;-95.5070911
X-APPLE-STRUCTURED-LOCATION;VALUE=URI;X-ADDRESS=Clubhouse 2 6002 Bur Oak Dr Spring 77379 United States;X-APPLE-RADIUS=500;X-TITLE=6002 Bur Oak Dr:geo:-95.5070911,30.037539
END:VEVENT
BEGIN:VEVENT
DTSTART;TZID=America/Chicago:20231001T090000
DTEND;TZID=America/Chicago:20231001T140000
DTSTAMP:20260425T204422
CREATED:20230328T012811Z
LAST-MODIFIED:20230328T012811Z
UID:10002193-1696150800-1696168800@www.springcreekoaks.org
SUMMARY:SCO Tennis Camp CH2
DESCRIPTION:
URL:https://www.springcreekoaks.org/reservations/sco-tennis-camp-ch2-3/2023-10-01/
LOCATION:Clubhouse 2\, 6002 Bur Oak Dr\, Spring\, 77379\, United States
CATEGORIES:Clubhouses
GEO:30.037539;-95.5070911
X-APPLE-STRUCTURED-LOCATION;VALUE=URI;X-ADDRESS=Clubhouse 2 6002 Bur Oak Dr Spring 77379 United States;X-APPLE-RADIUS=500;X-TITLE=6002 Bur Oak Dr:geo:-95.5070911,30.037539
END:VEVENT
BEGIN:VEVENT
DTSTART;TZID=America/Chicago:20231001T180000
DTEND;TZID=America/Chicago:20231001T220000
DTSTAMP:20260425T204422
CREATED:20231001T214446Z
LAST-MODIFIED:20231001T233701Z
UID:10003969-1696183200-1696197600@www.springcreekoaks.org
SUMMARY:Ch 1 courts 2 and 3\, Johnston
DESCRIPTION:
URL:https://www.springcreekoaks.org/reservations/ch-1-court-3-johnston/
CATEGORIES:Tennis
END:VEVENT
BEGIN:VEVENT
DTSTART;TZID=America/Chicago:20231002T080000
DTEND;TZID=America/Chicago:20231002T120000
DTSTAMP:20260425T204422
CREATED:20230916T184045Z
LAST-MODIFIED:20230916T184045Z
UID:10006230-1696233600-1696248000@www.springcreekoaks.org
SUMMARY:CH 2 court 3\, Lopez
DESCRIPTION:
URL:https://www.springcreekoaks.org/reservations/ch-2-court-3-lopez-38/
CATEGORIES:Tennis
END:VEVENT
BEGIN:VEVENT
DTSTART;TZID=America/Chicago:20231002T083000
DTEND;TZID=America/Chicago:20231002T100000
DTSTAMP:20260425T204422
CREATED:20230814T130951Z
LAST-MODIFIED:20230814T130951Z
UID:10003572-1696235400-1696240800@www.springcreekoaks.org
SUMMARY:Kuehnle courts 3-4\, Ladies open drill\, tennis pro Danny
DESCRIPTION:
URL:https://www.springcreekoaks.org/reservations/kuehnle-courts-3-4-ladies-open-drill-tennis-pro-danny/2023-10-02/
CATEGORIES:Tennis
END:VEVENT
BEGIN:VEVENT
DTSTART;TZID=America/Chicago:20231002T090000
DTEND;TZID=America/Chicago:20231002T140000
DTSTAMP:20260425T204422
CREATED:20230328T012811Z
LAST-MODIFIED:20230328T012811Z
UID:10002194-1696237200-1696255200@www.springcreekoaks.org
SUMMARY:SCO Tennis Camp CH2
DESCRIPTION:
URL:https://www.springcreekoaks.org/reservations/sco-tennis-camp-ch2-3/2023-10-02/
LOCATION:Clubhouse 2\, 6002 Bur Oak Dr\, Spring\, 77379\, United States
CATEGORIES:Clubhouses
GEO:30.037539;-95.5070911
X-APPLE-STRUCTURED-LOCATION;VALUE=URI;X-ADDRESS=Clubhouse 2 6002 Bur Oak Dr Spring 77379 United States;X-APPLE-RADIUS=500;X-TITLE=6002 Bur Oak Dr:geo:-95.5070911,30.037539
END:VEVENT
BEGIN:VEVENT
DTSTART;TZID=America/Chicago:20231002T100000
DTEND;TZID=America/Chicago:20231002T110000
DTSTAMP:20260425T204422
CREATED:20230814T131112Z
LAST-MODIFIED:20230814T131112Z
UID:10005825-1696240800-1696244400@www.springcreekoaks.org
SUMMARY:Kuehnle courts 3-4\, Intermediate Home School class
DESCRIPTION:
URL:https://www.springcreekoaks.org/reservations/kuehnle-courts-3-4-intermediate-home-school-class/2023-10-02/
CATEGORIES:Tennis
END:VEVENT
BEGIN:VEVENT
DTSTART;TZID=America/Chicago:20231002T160000
DTEND;TZID=America/Chicago:20231002T200000
DTSTAMP:20260425T204422
CREATED:20230703T125231Z
LAST-MODIFIED:20230703T125231Z
UID:10005734-1696262400-1696276800@www.springcreekoaks.org
SUMMARY:Field 1 - Texas Havoc - 10U
DESCRIPTION:
URL:https://www.springcreekoaks.org/reservations/field-1-texas-havoc-10u/2023-10-02/
LOCATION:Baseball Field 1\, United States
CATEGORIES:Baseball Fields
END:VEVENT
END:VCALENDAR