BEGIN:VCALENDAR
VERSION:2.0
PRODID:-//Spring Creek Oaks - ECPv6.15.20//NONSGML v1.0//EN
CALSCALE:GREGORIAN
METHOD:PUBLISH
X-WR-CALNAME:Spring Creek Oaks
X-ORIGINAL-URL:https://www.springcreekoaks.org
X-WR-CALDESC:Events for Spring Creek Oaks
REFRESH-INTERVAL;VALUE=DURATION:PT1H
X-Robots-Tag:noindex
X-PUBLISHED-TTL:PT1H
BEGIN:VTIMEZONE
TZID:America/Chicago
BEGIN:DAYLIGHT
TZOFFSETFROM:-0600
TZOFFSETTO:-0500
TZNAME:CDT
DTSTART:20200308T080000
END:DAYLIGHT
BEGIN:STANDARD
TZOFFSETFROM:-0500
TZOFFSETTO:-0600
TZNAME:CST
DTSTART:20201101T070000
END:STANDARD
BEGIN:DAYLIGHT
TZOFFSETFROM:-0600
TZOFFSETTO:-0500
TZNAME:CDT
DTSTART:20210314T080000
END:DAYLIGHT
BEGIN:STANDARD
TZOFFSETFROM:-0500
TZOFFSETTO:-0600
TZNAME:CST
DTSTART:20211107T070000
END:STANDARD
BEGIN:DAYLIGHT
TZOFFSETFROM:-0600
TZOFFSETTO:-0500
TZNAME:CDT
DTSTART:20220313T080000
END:DAYLIGHT
BEGIN:STANDARD
TZOFFSETFROM:-0500
TZOFFSETTO:-0600
TZNAME:CST
DTSTART:20221106T070000
END:STANDARD
END:VTIMEZONE
BEGIN:VEVENT
DTSTART;VALUE=DATE:20211125
DTEND;VALUE=DATE:20211126
DTSTAMP:20260423T005105
CREATED:20211108T022747Z
LAST-MODIFIED:20211108T022747Z
UID:10004018-1637798400-1637884799@www.springcreekoaks.org
SUMMARY:Syzdek CH1
DESCRIPTION:
URL:https://www.springcreekoaks.org/reservations/syzdek-ch1/
LOCATION:Clubhouse 1\, 17111 Misty Creek\, Spring\, TX\, 77379\, United States
CATEGORIES:Clubhouses
GEO:30.0346602;-95.5117522
X-APPLE-STRUCTURED-LOCATION;VALUE=URI;X-ADDRESS=Clubhouse 1 17111 Misty Creek Spring TX 77379 United States;X-APPLE-RADIUS=500;X-TITLE=17111 Misty Creek:geo:-95.5117522,30.0346602
END:VEVENT
BEGIN:VEVENT
DTSTART;TZID=America/Chicago:20211124T180000
DTEND;TZID=America/Chicago:20211124T200000
DTSTAMP:20260423T005105
CREATED:20210824T133805Z
LAST-MODIFIED:20210824T133806Z
UID:10003778-1637776800-1637784000@www.springcreekoaks.org
SUMMARY:10U LIONS (Flag Football) Coach Stansifer
DESCRIPTION:
URL:https://www.springcreekoaks.org/reservations/10u-lions-flag-football-coach-stansifer-2/2021-11-24/
LOCATION:Small Soccer Field (CH 2)
CATEGORIES:Soccer Fields
END:VEVENT
BEGIN:VEVENT
DTSTART;TZID=America/Chicago:20211124T180000
DTEND;TZID=America/Chicago:20211124T200000
DTSTAMP:20260423T005105
CREATED:20200805T160749Z
LAST-MODIFIED:20200805T161100Z
UID:10001358-1637776800-1637784000@www.springcreekoaks.org
SUMMARY:CIFUENTES (Big Soccer Field)
DESCRIPTION:
URL:https://www.springcreekoaks.org/reservations/cifuentes-open-play-big-soccer-field/2021-11-24/
CATEGORIES:Soccer Fields
END:VEVENT
BEGIN:VEVENT
DTSTART;TZID=America/Chicago:20211124T160000
DTEND;TZID=America/Chicago:20211124T190000
DTSTAMP:20260423T005105
CREATED:20240109T180921Z
LAST-MODIFIED:20240109T180921Z
UID:10003924-1637769600-1637780400@www.springcreekoaks.org
SUMMARY:CH 2 courts 1-3\, Tennis Pro Danny
DESCRIPTION:
URL:https://www.springcreekoaks.org/reservations/ch-2-courts-1-3-tennis-pro-danny/2021-11-24/
CATEGORIES:Tennis
END:VEVENT
BEGIN:VEVENT
DTSTART;TZID=America/Chicago:20211124T090000
DTEND;TZID=America/Chicago:20211124T120000
DTSTAMP:20260423T005105
CREATED:20211120T135534Z
LAST-MODIFIED:20211120T135534Z
UID:10004041-1637744400-1637755200@www.springcreekoaks.org
SUMMARY:Ch 2 courts 1-2\, Camp
DESCRIPTION:
URL:https://www.springcreekoaks.org/reservations/ch-2-courts-1-2-camp-2/2021-11-24/
CATEGORIES:Tennis
END:VEVENT
BEGIN:VEVENT
DTSTART;TZID=America/Chicago:20211124T080000
DTEND;TZID=America/Chicago:20211124T120000
DTSTAMP:20260423T005105
CREATED:20210914T223912Z
LAST-MODIFIED:20210914T223912Z
UID:10003844-1637740800-1637755200@www.springcreekoaks.org
SUMMARY:CH 1 court 1\, Tennis Pro Danny
DESCRIPTION:
URL:https://www.springcreekoaks.org/reservations/ch-1-court-1-tennis-pro-danny-3/2021-11-24/
CATEGORIES:Tennis
END:VEVENT
BEGIN:VEVENT
DTSTART;TZID=America/Chicago:20211124T080000
DTEND;TZID=America/Chicago:20211124T120000
DTSTAMP:20260423T005105
CREATED:20210512T162316Z
LAST-MODIFIED:20210512T162316Z
UID:10003272-1637740800-1637755200@www.springcreekoaks.org
SUMMARY:CH 1 courts 2-3 (pickleball)\, Hudson
DESCRIPTION:
URL:https://www.springcreekoaks.org/reservations/ch-1-courts-2-3-pickleball-hudson/2021-11-24/
CATEGORIES:Tennis
END:VEVENT
BEGIN:VEVENT
DTSTART;TZID=America/Chicago:20211123T160000
DTEND;TZID=America/Chicago:20211123T190000
DTSTAMP:20260423T005105
CREATED:20210914T224140Z
LAST-MODIFIED:20210914T224140Z
UID:10003893-1637683200-1637694000@www.springcreekoaks.org
SUMMARY:CH 2 courts 1-3\, Tennis Pro Danny
DESCRIPTION:
URL:https://www.springcreekoaks.org/reservations/ch-2-courts-1-3-tennis-pro-danny/2021-11-23/
CATEGORIES:Tennis
END:VEVENT
BEGIN:VEVENT
DTSTART;TZID=America/Chicago:20211123T080000
DTEND;TZID=America/Chicago:20211123T120000
DTSTAMP:20260423T005105
CREATED:20210914T223604Z
LAST-MODIFIED:20210914T223604Z
UID:10003818-1637654400-1637668800@www.springcreekoaks.org
SUMMARY:CH 1 court 1\, Tennis Pro Danny
DESCRIPTION:
URL:https://www.springcreekoaks.org/reservations/ch-1-court-1-tennis-pro-danny/2021-11-23/
CATEGORIES:Tennis
END:VEVENT
BEGIN:VEVENT
DTSTART;TZID=America/Chicago:20211123T080000
DTEND;TZID=America/Chicago:20211123T090000
DTSTAMP:20260423T005105
CREATED:20210811T141524Z
LAST-MODIFIED:20210811T141524Z
UID:10003671-1637654400-1637658000@www.springcreekoaks.org
SUMMARY:CH 2 court 6\, Mason
DESCRIPTION:
URL:https://www.springcreekoaks.org/reservations/ch-2-court-6-mason-11/2021-11-23/
CATEGORIES:Tennis
END:VEVENT
BEGIN:VEVENT
DTSTART;TZID=America/Chicago:20211122T160000
DTEND;TZID=America/Chicago:20211122T190000
DTSTAMP:20260423T005105
CREATED:20240109T180920Z
LAST-MODIFIED:20240109T180920Z
UID:10003908-1637596800-1637607600@www.springcreekoaks.org
SUMMARY:CH 2 courts 1-3\, Tennis Pro Danny
DESCRIPTION:
URL:https://www.springcreekoaks.org/reservations/ch-2-courts-1-3-tennis-pro-danny/2021-11-22/
CATEGORIES:Tennis
END:VEVENT
BEGIN:VEVENT
DTSTART;TZID=America/Chicago:20211122T083000
DTEND;TZID=America/Chicago:20211122T120000
DTSTAMP:20260423T005105
CREATED:20211120T003449Z
LAST-MODIFIED:20211120T003449Z
UID:10004033-1637569800-1637582400@www.springcreekoaks.org
SUMMARY:CH 1 court 6\, Mason
DESCRIPTION:
URL:https://www.springcreekoaks.org/reservations/ch-1-court-6-mason/
CATEGORIES:Tennis
END:VEVENT
BEGIN:VEVENT
DTSTART;TZID=America/Chicago:20211122T080000
DTEND;TZID=America/Chicago:20211122T120000
DTSTAMP:20260423T005105
CREATED:20210914T223709Z
LAST-MODIFIED:20210914T223709Z
UID:10003830-1637568000-1637582400@www.springcreekoaks.org
SUMMARY:CH 1 court 1\, Tennis Pro Danny
DESCRIPTION:
URL:https://www.springcreekoaks.org/reservations/ch-1-court-1-tennis-pro-danny-2/2021-11-22/
CATEGORIES:Tennis
END:VEVENT
BEGIN:VEVENT
DTSTART;VALUE=DATE:20211121
DTEND;VALUE=DATE:20211122
DTSTAMP:20260423T005105
CREATED:20210909T011728Z
LAST-MODIFIED:20210909T011728Z
UID:10003802-1637452800-1637539199@www.springcreekoaks.org
SUMMARY:Bancroft CH2
DESCRIPTION:
URL:https://www.springcreekoaks.org/reservations/bancroft-ch2/
LOCATION:Clubhouse 2\, 6002 Bur Oak Dr\, Spring\, 77379\, United States
CATEGORIES:Clubhouses
GEO:30.037539;-95.5070911
X-APPLE-STRUCTURED-LOCATION;VALUE=URI;X-ADDRESS=Clubhouse 2 6002 Bur Oak Dr Spring 77379 United States;X-APPLE-RADIUS=500;X-TITLE=6002 Bur Oak Dr:geo:-95.5070911,30.037539
END:VEVENT
BEGIN:VEVENT
DTSTART;TZID=America/Chicago:20211120T090000
DTEND;TZID=America/Chicago:20211120T120000
DTSTAMP:20260423T005105
CREATED:20211120T135241Z
LAST-MODIFIED:20211120T135241Z
UID:10004034-1637398800-1637409600@www.springcreekoaks.org
SUMMARY:Ch 2 court 1\, Camp
DESCRIPTION:
URL:https://www.springcreekoaks.org/reservations/ch-2-court-1-camp-4/2021-11-20/
CATEGORIES:Tennis
END:VEVENT
BEGIN:VEVENT
DTSTART;TZID=America/Chicago:20211120T080000
DTEND;TZID=America/Chicago:20211120T103000
DTSTAMP:20260423T005105
CREATED:20200805T161253Z
LAST-MODIFIED:20200805T161253Z
UID:10001117-1637395200-1637404200@www.springcreekoaks.org
SUMMARY:LLERENA (Big Soccer Field)
DESCRIPTION:
URL:https://www.springcreekoaks.org/reservations/llerena-big-soccer-field/2021-11-20/
CATEGORIES:Soccer Fields
END:VEVENT
BEGIN:VEVENT
DTSTART;VALUE=DATE:20211120
DTEND;VALUE=DATE:20211121
DTSTAMP:20260423T005105
CREATED:20210817T230610Z
LAST-MODIFIED:20210817T230610Z
UID:10003626-1637366400-1637452799@www.springcreekoaks.org
SUMMARY:Jiminez CH2
DESCRIPTION:
URL:https://www.springcreekoaks.org/reservations/jiminez-ch2/
LOCATION:Clubhouse 2\, 6002 Bur Oak Dr\, Spring\, 77379\, United States
CATEGORIES:Clubhouses
GEO:30.037539;-95.5070911
X-APPLE-STRUCTURED-LOCATION;VALUE=URI;X-ADDRESS=Clubhouse 2 6002 Bur Oak Dr Spring 77379 United States;X-APPLE-RADIUS=500;X-TITLE=6002 Bur Oak Dr:geo:-95.5070911,30.037539
END:VEVENT
BEGIN:VEVENT
DTSTART;TZID=America/Chicago:20211119T160000
DTEND;TZID=America/Chicago:20211119T190000
DTSTAMP:20260423T005105
CREATED:20240109T180922Z
LAST-MODIFIED:20240109T180922Z
UID:10003955-1637337600-1637348400@www.springcreekoaks.org
SUMMARY:CH 2 courts 1-3\, Tennis Pro Danny
DESCRIPTION:
URL:https://www.springcreekoaks.org/reservations/ch-2-courts-1-3-tennis-pro-danny/2021-11-19/
CATEGORIES:Tennis
END:VEVENT
BEGIN:VEVENT
DTSTART;TZID=America/Chicago:20211119T083000
DTEND;TZID=America/Chicago:20211119T120000
DTSTAMP:20260423T005105
CREATED:20210818T183547Z
LAST-MODIFIED:20210903T022650Z
UID:10003749-1637310600-1637323200@www.springcreekoaks.org
SUMMARY:CH 2 courts 1-4\, JR B-3
DESCRIPTION:
URL:https://www.springcreekoaks.org/reservations/ch-2-courts-1-4-jr-b-3-2021-09-24/2021-11-19/
CATEGORIES:Tennis
END:VEVENT
BEGIN:VEVENT
DTSTART;TZID=America/Chicago:20211119T080000
DTEND;TZID=America/Chicago:20211119T120000
DTSTAMP:20260423T005105
CREATED:20240109T180915Z
LAST-MODIFIED:20240109T180915Z
UID:10003875-1637308800-1637323200@www.springcreekoaks.org
SUMMARY:CH 1 court 1\, Tennis Pro Danny
DESCRIPTION:
URL:https://www.springcreekoaks.org/reservations/ch-1-court-1-tennis-pro-danny-3/2021-11-19/
CATEGORIES:Tennis
END:VEVENT
BEGIN:VEVENT
DTSTART;TZID=America/Chicago:20211119T080000
DTEND;TZID=America/Chicago:20211119T090000
DTSTAMP:20260423T005105
CREATED:20210811T141409Z
LAST-MODIFIED:20210811T141409Z
UID:10003609-1637308800-1637312400@www.springcreekoaks.org
SUMMARY:CH 2 court 6\, Mason
DESCRIPTION:
URL:https://www.springcreekoaks.org/reservations/ch-2-court-6-mason-10/2021-11-19/
CATEGORIES:Tennis
END:VEVENT
BEGIN:VEVENT
DTSTART;TZID=America/Chicago:20211118T190000
DTEND;TZID=America/Chicago:20211118T230000
DTSTAMP:20260423T005105
CREATED:20210908T231854Z
LAST-MODIFIED:20210908T231854Z
UID:10003795-1637262000-1637276400@www.springcreekoaks.org
SUMMARY:CH 2 courts 1-6\, Men's league C team
DESCRIPTION:
URL:https://www.springcreekoaks.org/reservations/ch-2-courts-1-6-mens-league-c-team-3/2021-11-18/
CATEGORIES:Tennis
END:VEVENT
BEGIN:VEVENT
DTSTART;TZID=America/Chicago:20211118T160000
DTEND;TZID=America/Chicago:20211118T190000
DTSTAMP:20260423T005105
CREATED:20240109T180921Z
LAST-MODIFIED:20240109T180921Z
UID:10003939-1637251200-1637262000@www.springcreekoaks.org
SUMMARY:CH 2 courts 1-3\, Tennis Pro Danny
DESCRIPTION:
URL:https://www.springcreekoaks.org/reservations/ch-2-courts-1-3-tennis-pro-danny/2021-11-18/
CATEGORIES:Tennis
END:VEVENT
BEGIN:VEVENT
DTSTART;TZID=America/Chicago:20211118T083000
DTEND;TZID=America/Chicago:20211118T120000
DTSTAMP:20260423T005106
CREATED:20210815T200145Z
LAST-MODIFIED:20210815T200145Z
UID:10003726-1637224200-1637236800@www.springcreekoaks.org
SUMMARY:Kuehnle courts 1-4\, NW A1
DESCRIPTION:
URL:https://www.springcreekoaks.org/reservations/kuehnle-courts-1-4-nw-a1/2021-11-18/
CATEGORIES:Tennis
END:VEVENT
BEGIN:VEVENT
DTSTART;TZID=America/Chicago:20211118T083000
DTEND;TZID=America/Chicago:20211118T120000
DTSTAMP:20260423T005106
CREATED:20210812T105352Z
LAST-MODIFIED:20210812T105352Z
UID:10003697-1637224200-1637236800@www.springcreekoaks.org
SUMMARY:CH 2 courts 1-4\, NWTL Mason
DESCRIPTION:
URL:https://www.springcreekoaks.org/reservations/ch-2-courts-1-4-nwtl-mason/2021-11-18/
CATEGORIES:Tennis
END:VEVENT
BEGIN:VEVENT
DTSTART;TZID=America/Chicago:20211118T080000
DTEND;TZID=America/Chicago:20211118T120000
DTSTAMP:20260423T005106
CREATED:20240109T180915Z
LAST-MODIFIED:20240109T180915Z
UID:10003859-1637222400-1637236800@www.springcreekoaks.org
SUMMARY:CH 1 court 1\, Tennis Pro Danny
DESCRIPTION:
URL:https://www.springcreekoaks.org/reservations/ch-1-court-1-tennis-pro-danny-3/2021-11-18/
CATEGORIES:Tennis
END:VEVENT
BEGIN:VEVENT
DTSTART;TZID=America/Chicago:20211117T180000
DTEND;TZID=America/Chicago:20211117T200000
DTSTAMP:20260423T005106
CREATED:20210824T133805Z
LAST-MODIFIED:20210824T133806Z
UID:10003777-1637172000-1637179200@www.springcreekoaks.org
SUMMARY:10U LIONS (Flag Football) Coach Stansifer
DESCRIPTION:
URL:https://www.springcreekoaks.org/reservations/10u-lions-flag-football-coach-stansifer-2/2021-11-17/
LOCATION:Small Soccer Field (CH 2)
CATEGORIES:Soccer Fields
END:VEVENT
BEGIN:VEVENT
DTSTART;TZID=America/Chicago:20211117T180000
DTEND;TZID=America/Chicago:20211117T200000
DTSTAMP:20260423T005106
CREATED:20200805T160749Z
LAST-MODIFIED:20200805T161100Z
UID:10001357-1637172000-1637179200@www.springcreekoaks.org
SUMMARY:CIFUENTES (Big Soccer Field)
DESCRIPTION:
URL:https://www.springcreekoaks.org/reservations/cifuentes-open-play-big-soccer-field/2021-11-17/
CATEGORIES:Soccer Fields
END:VEVENT
BEGIN:VEVENT
DTSTART;TZID=America/Chicago:20211117T160000
DTEND;TZID=America/Chicago:20211117T190000
DTSTAMP:20260423T005106
CREATED:20240109T180921Z
LAST-MODIFIED:20240109T180921Z
UID:10003923-1637164800-1637175600@www.springcreekoaks.org
SUMMARY:CH 2 courts 1-3\, Tennis Pro Danny
DESCRIPTION:
URL:https://www.springcreekoaks.org/reservations/ch-2-courts-1-3-tennis-pro-danny/2021-11-17/
CATEGORIES:Tennis
END:VEVENT
BEGIN:VEVENT
DTSTART;TZID=America/Chicago:20211117T083000
DTEND;TZID=America/Chicago:20211117T120000
DTSTAMP:20260423T005106
CREATED:20211116T211838Z
LAST-MODIFIED:20211116T211838Z
UID:10004029-1637137800-1637150400@www.springcreekoaks.org
SUMMARY:CH 2 court 6\, Mason rain makeup
DESCRIPTION:
URL:https://www.springcreekoaks.org/reservations/ch-2-court-6-mason-rain-makeup-2/
CATEGORIES:Tennis
END:VEVENT
END:VCALENDAR