BEGIN:VCALENDAR
VERSION:2.0
PRODID:-//Spring Creek Oaks - ECPv6.15.20//NONSGML v1.0//EN
CALSCALE:GREGORIAN
METHOD:PUBLISH
X-ORIGINAL-URL:https://www.springcreekoaks.org
X-WR-CALDESC:Events for Spring Creek Oaks
REFRESH-INTERVAL;VALUE=DURATION:PT1H
X-Robots-Tag:noindex
X-PUBLISHED-TTL:PT1H
BEGIN:VTIMEZONE
TZID:America/Chicago
BEGIN:DAYLIGHT
TZOFFSETFROM:-0600
TZOFFSETTO:-0500
TZNAME:CDT
DTSTART:20230312T080000
END:DAYLIGHT
BEGIN:STANDARD
TZOFFSETFROM:-0500
TZOFFSETTO:-0600
TZNAME:CST
DTSTART:20231105T070000
END:STANDARD
BEGIN:DAYLIGHT
TZOFFSETFROM:-0600
TZOFFSETTO:-0500
TZNAME:CDT
DTSTART:20240310T080000
END:DAYLIGHT
BEGIN:STANDARD
TZOFFSETFROM:-0500
TZOFFSETTO:-0600
TZNAME:CST
DTSTART:20241103T070000
END:STANDARD
BEGIN:DAYLIGHT
TZOFFSETFROM:-0600
TZOFFSETTO:-0500
TZNAME:CDT
DTSTART:20250309T080000
END:DAYLIGHT
BEGIN:STANDARD
TZOFFSETFROM:-0500
TZOFFSETTO:-0600
TZNAME:CST
DTSTART:20251102T070000
END:STANDARD
END:VTIMEZONE
BEGIN:VEVENT
DTSTART;TZID=America/Chicago:20240221T090000
DTEND;TZID=America/Chicago:20240221T113000
DTSTAMP:20260421T214125
CREATED:20231205T012455Z
LAST-MODIFIED:20240107T024742Z
UID:10004063-1708506000-1708515000@www.springcreekoaks.org
SUMMARY:CH 1 courts 2-3\, Hudson
DESCRIPTION:
URL:https://www.springcreekoaks.org/reservations/ch-1-courts-2-3-hudson-2/2024-02-21/
CATEGORIES:Tennis
END:VEVENT
BEGIN:VEVENT
DTSTART;TZID=America/Chicago:20240221T100000
DTEND;TZID=America/Chicago:20240221T110000
DTSTAMP:20260421T214125
CREATED:20240115T175343Z
LAST-MODIFIED:20240416T023303Z
UID:10006874-1708509600-1708513200@www.springcreekoaks.org
SUMMARY:Kuehnle courts 3-4\, Coach Danny
DESCRIPTION:
URL:https://www.springcreekoaks.org/reservations/kuehnle-courts-3-4-coach-danny-5/2024-02-21/
CATEGORIES:Tennis
END:VEVENT
BEGIN:VEVENT
DTSTART;TZID=America/Chicago:20240221T153000
DTEND;TZID=America/Chicago:20240221T173000
DTSTAMP:20260421T214125
CREATED:20240129T004849Z
LAST-MODIFIED:20240129T004849Z
UID:10007480-1708529400-1708536600@www.springcreekoaks.org
SUMMARY:CH 2 courts 1-3\, NCS practice
DESCRIPTION:
URL:https://www.springcreekoaks.org/reservations/ch-2-courts-1-3-ncs-practice-3/2024-02-21/
CATEGORIES:Tennis
END:VEVENT
BEGIN:VEVENT
DTSTART;TZID=America/Chicago:20240221T160000
DTEND;TZID=America/Chicago:20240221T200000
DTSTAMP:20260421T214125
CREATED:20240117T135025Z
LAST-MODIFIED:20240117T135536Z
UID:10007153-1708531200-1708545600@www.springcreekoaks.org
SUMMARY:Field 2 - Orioles - 11U
DESCRIPTION:
URL:https://www.springcreekoaks.org/reservations/field-2-orioles-11u-2/2024-02-21/
LOCATION:Baseball Field 2\, United States
CATEGORIES:Baseball Fields
END:VEVENT
BEGIN:VEVENT
DTSTART;TZID=America/Chicago:20240221T160000
DTEND;TZID=America/Chicago:20240221T200000
DTSTAMP:20260421T214125
CREATED:20240201T124730Z
LAST-MODIFIED:20240424T115718Z
UID:10007653-1708531200-1708545600@www.springcreekoaks.org
SUMMARY:Field 1 - Jaguars - 14U
DESCRIPTION:
URL:https://www.springcreekoaks.org/reservations/field-1-jaguars-14u/2024-02-21/
LOCATION:Baseball Field 1\, United States
CATEGORIES:Baseball Fields
END:VEVENT
BEGIN:VEVENT
DTSTART;TZID=America/Chicago:20240221T170000
DTEND;TZID=America/Chicago:20240221T190000
DTSTAMP:20260421T214125
CREATED:20240115T175440Z
LAST-MODIFIED:20240115T180134Z
UID:10006946-1708534800-1708542000@www.springcreekoaks.org
SUMMARY:Kuehnle courts 3-4\, Coach Danny
DESCRIPTION:
URL:https://www.springcreekoaks.org/reservations/kuehnle-courts-3-4-coach-danny-6/2024-02-21/
CATEGORIES:Tennis
END:VEVENT
BEGIN:VEVENT
DTSTART;TZID=America/Chicago:20240221T180000
DTEND;TZID=America/Chicago:20240221T220000
DTSTAMP:20260421T214125
CREATED:20220808T175634Z
LAST-MODIFIED:20220808T175634Z
UID:10004340-1708538400-1708552800@www.springcreekoaks.org
SUMMARY:SCO Book Club CH2
DESCRIPTION:
URL:https://www.springcreekoaks.org/reservations/sco-book-club-ch2-2/2024-02-21/
CATEGORIES:Clubhouses
END:VEVENT
BEGIN:VEVENT
DTSTART;TZID=America/Chicago:20240222T083000
DTEND;TZID=America/Chicago:20240222T120000
DTSTAMP:20260421T214125
CREATED:20231126T144446Z
LAST-MODIFIED:20231126T144859Z
UID:10003322-1708590600-1708603200@www.springcreekoaks.org
SUMMARY:CH 1 courts 2-3\, Palmer
DESCRIPTION:
URL:https://www.springcreekoaks.org/reservations/ch-1-courts-2-3-palmer/2024-02-22/
CATEGORIES:Tennis
END:VEVENT
BEGIN:VEVENT
DTSTART;TZID=America/Chicago:20240222T083000
DTEND;TZID=America/Chicago:20240222T120000
DTSTAMP:20260421T214125
CREATED:20240118T190533Z
LAST-MODIFIED:20240118T190533Z
UID:10007464-1708590600-1708603200@www.springcreekoaks.org
SUMMARY:Kuehnle courts 1-4\, NW league A1
DESCRIPTION:
URL:https://www.springcreekoaks.org/reservations/kuehnle-courts-1-4-nw-league-a1/2024-02-22/
CATEGORIES:Tennis
END:VEVENT
BEGIN:VEVENT
DTSTART;TZID=America/Chicago:20240222T090000
DTEND;TZID=America/Chicago:20240222T110000
DTSTAMP:20260421T214125
CREATED:20240118T193238Z
LAST-MODIFIED:20240118T193239Z
UID:10007018-1708592400-1708599600@www.springcreekoaks.org
SUMMARY:CH 2 courts 1-3\, Coach Danny
DESCRIPTION:
URL:https://www.springcreekoaks.org/reservations/kuehnle-courts-3-4-coach-danny-7-2/
CATEGORIES:Tennis
END:VEVENT
BEGIN:VEVENT
DTSTART;TZID=America/Chicago:20240222T153000
DTEND;TZID=America/Chicago:20240222T173000
DTSTAMP:20260421T214125
CREATED:20240105T162258Z
LAST-MODIFIED:20240105T162258Z
UID:10006365-1708615800-1708623000@www.springcreekoaks.org
SUMMARY:CH 2 courts 1-3\, NCS practice
DESCRIPTION:
URL:https://www.springcreekoaks.org/reservations/ch-2-courts-1-3-ncs-practice-2/
CATEGORIES:Tennis
END:VEVENT
BEGIN:VEVENT
DTSTART;TZID=America/Chicago:20240222T160000
DTEND;TZID=America/Chicago:20240222T200000
DTSTAMP:20260421T214125
CREATED:20240117T135415Z
LAST-MODIFIED:20240117T135415Z
UID:10007355-1708617600-1708632000@www.springcreekoaks.org
SUMMARY:Field 1 - Young Guns - 12U
DESCRIPTION:
URL:https://www.springcreekoaks.org/reservations/field-1-young-guns-12u/2024-02-22/
LOCATION:Baseball Field 1\, United States
CATEGORIES:Baseball Fields
END:VEVENT
BEGIN:VEVENT
DTSTART;TZID=America/Chicago:20240222T160000
DTEND;TZID=America/Chicago:20240222T200000
DTSTAMP:20260421T214125
CREATED:20240117T135753Z
LAST-MODIFIED:20240117T140132Z
UID:10007401-1708617600-1708632000@www.springcreekoaks.org
SUMMARY:Field 3 - Hot Rod - 7U
DESCRIPTION:
URL:https://www.springcreekoaks.org/reservations/field-3-hot-rod-7u/2024-02-22/
LOCATION:Baseball Field 3\, United States
CATEGORIES:Baseball Fields
END:VEVENT
BEGIN:VEVENT
DTSTART;TZID=America/Chicago:20240222T160000
DTEND;TZID=America/Chicago:20240222T200000
DTSTAMP:20260421T214125
CREATED:20240201T124313Z
LAST-MODIFIED:20240424T115922Z
UID:10007523-1708617600-1708632000@www.springcreekoaks.org
SUMMARY:Field 4 - River Bandits - 6U
DESCRIPTION:
URL:https://www.springcreekoaks.org/reservations/field-4-river-bandits-6u/2024-02-22/
LOCATION:Baseball Field 4\, United States
CATEGORIES:Baseball Fields
END:VEVENT
BEGIN:VEVENT
DTSTART;TZID=America/Chicago:20240222T160000
DTEND;TZID=America/Chicago:20240222T200000
DTSTAMP:20260421T214125
CREATED:20240201T200320Z
LAST-MODIFIED:20240424T120009Z
UID:10007846-1708617600-1708632000@www.springcreekoaks.org
SUMMARY:Field 2 - Blue Rocks - 7U
DESCRIPTION:
URL:https://www.springcreekoaks.org/reservations/field-2-blue-rocks-7u/2024-02-22/
LOCATION:Baseball Field 2\, United States
CATEGORIES:Baseball Fields
END:VEVENT
BEGIN:VEVENT
DTSTART;TZID=America/Chicago:20240222T180000
DTEND;TZID=America/Chicago:20240222T200000
DTSTAMP:20260421T214125
CREATED:20240114T192349Z
LAST-MODIFIED:20240114T192548Z
UID:10006582-1708624800-1708632000@www.springcreekoaks.org
SUMMARY:YMSL CH2
DESCRIPTION:
URL:https://www.springcreekoaks.org/reservations/ymsl-ch2-2/
LOCATION:Clubhouse 2\, 6002 Bur Oak Dr\, Spring\, 77379\, United States
CATEGORIES:Clubhouses
GEO:30.037539;-95.5070911
X-APPLE-STRUCTURED-LOCATION;VALUE=URI;X-ADDRESS=Clubhouse 2 6002 Bur Oak Dr Spring 77379 United States;X-APPLE-RADIUS=500;X-TITLE=6002 Bur Oak Dr:geo:-95.5070911,30.037539
END:VEVENT
BEGIN:VEVENT
DTSTART;TZID=America/Chicago:20240222T190000
DTEND;TZID=America/Chicago:20240222T220000
DTSTAMP:20260421T214125
CREATED:20240113T021559Z
LAST-MODIFIED:20240131T152936Z
UID:10006528-1708628400-1708639200@www.springcreekoaks.org
SUMMARY:CH 2 PB courts 3-4\, P. Guzman
DESCRIPTION:
URL:https://www.springcreekoaks.org/reservations/ch-1-courts-2-3-p-guzman/2024-02-22/
CATEGORIES:Tennis
END:VEVENT
BEGIN:VEVENT
DTSTART;TZID=America/Chicago:20240223T083000
DTEND;TZID=America/Chicago:20240223T120000
DTSTAMP:20260421T214125
CREATED:20240117T020953Z
LAST-MODIFIED:20240117T020953Z
UID:10007140-1708677000-1708689600@www.springcreekoaks.org
SUMMARY:CH 2 courts 1-4\, JR B3
DESCRIPTION:
URL:https://www.springcreekoaks.org/reservations/ch-2-courts-1-4-jr-b3-3/2024-02-23/
CATEGORIES:Tennis
END:VEVENT
BEGIN:VEVENT
DTSTART;TZID=America/Chicago:20240223T160000
DTEND;TZID=America/Chicago:20240223T200000
DTSTAMP:20260421T214125
CREATED:20240117T135855Z
LAST-MODIFIED:20240117T135855Z
UID:10007427-1708704000-1708718400@www.springcreekoaks.org
SUMMARY:Field 1 - Skeeters - 10U
DESCRIPTION:
URL:https://www.springcreekoaks.org/reservations/field-1-skeeters-10u/2024-02-23/
LOCATION:Baseball Field 1\, United States
CATEGORIES:Baseball Fields
END:VEVENT
BEGIN:VEVENT
DTSTART;TZID=America/Chicago:20240223T180000
DTEND;TZID=America/Chicago:20240223T190000
DTSTAMP:20260421T214125
CREATED:20240115T175843Z
LAST-MODIFIED:20240118T192404Z
UID:10007110-1708711200-1708714800@www.springcreekoaks.org
SUMMARY:Kuehnle courts 3-4\, Coach Danny
DESCRIPTION:
URL:https://www.springcreekoaks.org/reservations/kuehnle-courts-3-4-coach-danny-9/2024-02-23/
CATEGORIES:Tennis
END:VEVENT
BEGIN:VEVENT
DTSTART;VALUE=DATE:20240224
DTEND;VALUE=DATE:20240225
DTSTAMP:20260421T214125
CREATED:20240118T032955Z
LAST-MODIFIED:20240118T032955Z
UID:10007460-1708732800-1708819199@www.springcreekoaks.org
SUMMARY:Plunk CH2!
DESCRIPTION:
URL:https://www.springcreekoaks.org/reservations/plunk-ch2/
LOCATION:Clubhouse 2\, 6002 Bur Oak Dr\, Spring\, 77379\, United States
CATEGORIES:Clubhouses
GEO:30.037539;-95.5070911
X-APPLE-STRUCTURED-LOCATION;VALUE=URI;X-ADDRESS=Clubhouse 2 6002 Bur Oak Dr Spring 77379 United States;X-APPLE-RADIUS=500;X-TITLE=6002 Bur Oak Dr:geo:-95.5070911,30.037539
END:VEVENT
BEGIN:VEVENT
DTSTART;VALUE=DATE:20240224
DTEND;VALUE=DATE:20240225
DTSTAMP:20260421T214125
CREATED:20240119T002115Z
LAST-MODIFIED:20240119T002115Z
UID:10007475-1708732800-1708819199@www.springcreekoaks.org
SUMMARY:Vierling CH1
DESCRIPTION:
URL:https://www.springcreekoaks.org/reservations/vierling-ch1/
LOCATION:Clubhouse 1\, 17111 Misty Creek\, Spring\, TX\, 77379\, United States
CATEGORIES:Clubhouses
GEO:30.0346602;-95.5117522
X-APPLE-STRUCTURED-LOCATION;VALUE=URI;X-ADDRESS=Clubhouse 1 17111 Misty Creek Spring TX 77379 United States;X-APPLE-RADIUS=500;X-TITLE=17111 Misty Creek:geo:-95.5117522,30.0346602
END:VEVENT
BEGIN:VEVENT
DTSTART;TZID=America/Chicago:20240224T080000
DTEND;TZID=America/Chicago:20240224T110000
DTSTAMP:20260421T214125
CREATED:20240117T135955Z
LAST-MODIFIED:20240117T135955Z
UID:10007449-1708761600-1708772400@www.springcreekoaks.org
SUMMARY:Field 1 - Coyotes - 12U
DESCRIPTION:
URL:https://www.springcreekoaks.org/reservations/field-1-coyotes-12u-3/2024-02-24/
LOCATION:Baseball Field 1\, United States
CATEGORIES:Baseball Fields
END:VEVENT
BEGIN:VEVENT
DTSTART;TZID=America/Chicago:20240224T083000
DTEND;TZID=America/Chicago:20240224T120000
DTSTAMP:20260421T214125
CREATED:20231126T144446Z
LAST-MODIFIED:20231126T144859Z
UID:10003323-1708763400-1708776000@www.springcreekoaks.org
SUMMARY:CH 1 courts 2-3\, Palmer
DESCRIPTION:
URL:https://www.springcreekoaks.org/reservations/ch-1-courts-2-3-palmer/2024-02-24/
CATEGORIES:Tennis
END:VEVENT
BEGIN:VEVENT
DTSTART;VALUE=DATE:20240225
DTEND;VALUE=DATE:20240226
DTSTAMP:20260421T214125
CREATED:20240110T022850Z
LAST-MODIFIED:20240110T022850Z
UID:10006372-1708819200-1708905599@www.springcreekoaks.org
SUMMARY:DS REC CH2
DESCRIPTION:
URL:https://www.springcreekoaks.org/reservations/ds-rec-ch2-3/
LOCATION:Clubhouse 2\, 6002 Bur Oak Dr\, Spring\, 77379\, United States
CATEGORIES:Clubhouses
GEO:30.037539;-95.5070911
X-APPLE-STRUCTURED-LOCATION;VALUE=URI;X-ADDRESS=Clubhouse 2 6002 Bur Oak Dr Spring 77379 United States;X-APPLE-RADIUS=500;X-TITLE=6002 Bur Oak Dr:geo:-95.5070911,30.037539
END:VEVENT
BEGIN:VEVENT
DTSTART;TZID=America/Chicago:20240225T110000
DTEND;TZID=America/Chicago:20240225T150000
DTSTAMP:20260421T214125
CREATED:20240219T120310Z
LAST-MODIFIED:20240424T115624Z
UID:10007984-1708858800-1708873200@www.springcreekoaks.org
SUMMARY:Field 1 - Foster - 12U
DESCRIPTION:
URL:https://www.springcreekoaks.org/reservations/field-1-foster-12u/2024-02-25/
LOCATION:Baseball Field 1\, United States
CATEGORIES:Baseball Fields
END:VEVENT
BEGIN:VEVENT
DTSTART;TZID=America/Chicago:20240225T160000
DTEND;TZID=America/Chicago:20240225T200000
DTSTAMP:20260421T214125
CREATED:20240201T124730Z
LAST-MODIFIED:20240424T115718Z
UID:10007654-1708876800-1708891200@www.springcreekoaks.org
SUMMARY:Field 1 - Jaguars - 14U
DESCRIPTION:
URL:https://www.springcreekoaks.org/reservations/field-1-jaguars-14u/2024-02-25/
LOCATION:Baseball Field 1\, United States
CATEGORIES:Baseball Fields
END:VEVENT
BEGIN:VEVENT
DTSTART;TZID=America/Chicago:20240226T083000
DTEND;TZID=America/Chicago:20240226T110000
DTSTAMP:20260421T214125
CREATED:20240115T174755Z
LAST-MODIFIED:20240115T180718Z
UID:10006588-1708936200-1708945200@www.springcreekoaks.org
SUMMARY:Kuehnle courts 3-4\, Coach Danny
DESCRIPTION:
URL:https://www.springcreekoaks.org/reservations/kuehnle-courts-3-4-coach-danny/2024-02-26/
CATEGORIES:Tennis
END:VEVENT
BEGIN:VEVENT
DTSTART;TZID=America/Chicago:20240226T153000
DTEND;TZID=America/Chicago:20240226T173000
DTSTAMP:20260421T214125
CREATED:20240129T181937Z
LAST-MODIFIED:20240129T181937Z
UID:10007489-1708961400-1708968600@www.springcreekoaks.org
SUMMARY:CH 2 courts 1-3\, NCS practice
DESCRIPTION:
URL:https://www.springcreekoaks.org/reservations/ch-2-courts-1-3-ncs-practice-4/2024-02-26/
CATEGORIES:Tennis
END:VEVENT
BEGIN:VEVENT
DTSTART;TZID=America/Chicago:20240226T160000
DTEND;TZID=America/Chicago:20240226T200000
DTSTAMP:20260421T214125
CREATED:20240117T135025Z
LAST-MODIFIED:20240117T135536Z
UID:10007154-1708963200-1708977600@www.springcreekoaks.org
SUMMARY:Field 2 - Orioles - 11U
DESCRIPTION:
URL:https://www.springcreekoaks.org/reservations/field-2-orioles-11u-2/2024-02-26/
LOCATION:Baseball Field 2\, United States
CATEGORIES:Baseball Fields
END:VEVENT
END:VCALENDAR