BEGIN:VCALENDAR
VERSION:2.0
PRODID:-//Spring Creek Oaks - ECPv6.15.20//NONSGML v1.0//EN
CALSCALE:GREGORIAN
METHOD:PUBLISH
X-ORIGINAL-URL:https://www.springcreekoaks.org
X-WR-CALDESC:Events for Spring Creek Oaks
REFRESH-INTERVAL;VALUE=DURATION:PT1H
X-Robots-Tag:noindex
X-PUBLISHED-TTL:PT1H
BEGIN:VTIMEZONE
TZID:America/Chicago
BEGIN:DAYLIGHT
TZOFFSETFROM:-0600
TZOFFSETTO:-0500
TZNAME:CDT
DTSTART:20220313T080000
END:DAYLIGHT
BEGIN:STANDARD
TZOFFSETFROM:-0500
TZOFFSETTO:-0600
TZNAME:CST
DTSTART:20221106T070000
END:STANDARD
BEGIN:DAYLIGHT
TZOFFSETFROM:-0600
TZOFFSETTO:-0500
TZNAME:CDT
DTSTART:20230312T080000
END:DAYLIGHT
BEGIN:STANDARD
TZOFFSETFROM:-0500
TZOFFSETTO:-0600
TZNAME:CST
DTSTART:20231105T070000
END:STANDARD
BEGIN:DAYLIGHT
TZOFFSETFROM:-0600
TZOFFSETTO:-0500
TZNAME:CDT
DTSTART:20240310T080000
END:DAYLIGHT
BEGIN:STANDARD
TZOFFSETFROM:-0500
TZOFFSETTO:-0600
TZNAME:CST
DTSTART:20241103T070000
END:STANDARD
END:VTIMEZONE
BEGIN:VEVENT
DTSTART;TZID=America/Chicago:20231217T090000
DTEND;TZID=America/Chicago:20231217T140000
DTSTAMP:20260423T061146
CREATED:20230328T012811Z
LAST-MODIFIED:20230328T012811Z
UID:10002270-1702803600-1702821600@www.springcreekoaks.org
SUMMARY:SCO Tennis Camp CH2
DESCRIPTION:
URL:https://www.springcreekoaks.org/reservations/sco-tennis-camp-ch2-3/2023-12-17/
LOCATION:Clubhouse 2\, 6002 Bur Oak Dr\, Spring\, 77379\, United States
CATEGORIES:Clubhouses
GEO:30.037539;-95.5070911
X-APPLE-STRUCTURED-LOCATION;VALUE=URI;X-ADDRESS=Clubhouse 2 6002 Bur Oak Dr Spring 77379 United States;X-APPLE-RADIUS=500;X-TITLE=6002 Bur Oak Dr:geo:-95.5070911,30.037539
END:VEVENT
BEGIN:VEVENT
DTSTART;TZID=America/Chicago:20231218T083000
DTEND;TZID=America/Chicago:20231218T100000
DTSTAMP:20260423T061146
CREATED:20230814T130951Z
LAST-MODIFIED:20230814T130951Z
UID:10003583-1702888200-1702893600@www.springcreekoaks.org
SUMMARY:Kuehnle courts 3-4\, Ladies open drill\, tennis pro Danny
DESCRIPTION:
URL:https://www.springcreekoaks.org/reservations/kuehnle-courts-3-4-ladies-open-drill-tennis-pro-danny/2023-12-18/
CATEGORIES:Tennis
END:VEVENT
BEGIN:VEVENT
DTSTART;TZID=America/Chicago:20231218T083000
DTEND;TZID=America/Chicago:20231218T110000
DTSTAMP:20260423T061146
CREATED:20231207T195402Z
LAST-MODIFIED:20231218T162504Z
UID:10004052-1702888200-1702897200@www.springcreekoaks.org
SUMMARY:CH 2 courts 1-6\, Coach Danny Winter Camp
DESCRIPTION:
URL:https://www.springcreekoaks.org/reservations/ch-2-courts-1-3-coach-danny-winter-camp/2023-12-18/
CATEGORIES:Tennis
END:VEVENT
BEGIN:VEVENT
DTSTART;TZID=America/Chicago:20231218T090000
DTEND;TZID=America/Chicago:20231218T140000
DTSTAMP:20260423T061146
CREATED:20230328T012811Z
LAST-MODIFIED:20230328T012811Z
UID:10002271-1702890000-1702908000@www.springcreekoaks.org
SUMMARY:SCO Tennis Camp CH2
DESCRIPTION:
URL:https://www.springcreekoaks.org/reservations/sco-tennis-camp-ch2-3/2023-12-18/
LOCATION:Clubhouse 2\, 6002 Bur Oak Dr\, Spring\, 77379\, United States
CATEGORIES:Clubhouses
GEO:30.037539;-95.5070911
X-APPLE-STRUCTURED-LOCATION;VALUE=URI;X-ADDRESS=Clubhouse 2 6002 Bur Oak Dr Spring 77379 United States;X-APPLE-RADIUS=500;X-TITLE=6002 Bur Oak Dr:geo:-95.5070911,30.037539
END:VEVENT
BEGIN:VEVENT
DTSTART;TZID=America/Chicago:20231218T100000
DTEND;TZID=America/Chicago:20231218T110000
DTSTAMP:20260423T061146
CREATED:20230814T131112Z
LAST-MODIFIED:20230814T131112Z
UID:10005836-1702893600-1702897200@www.springcreekoaks.org
SUMMARY:Kuehnle courts 3-4\, Intermediate Home School class
DESCRIPTION:
URL:https://www.springcreekoaks.org/reservations/kuehnle-courts-3-4-intermediate-home-school-class/2023-12-18/
CATEGORIES:Tennis
END:VEVENT
BEGIN:VEVENT
DTSTART;TZID=America/Chicago:20231218T170000
DTEND;TZID=America/Chicago:20231218T180000
DTSTAMP:20260423T061146
CREATED:20230814T131224Z
LAST-MODIFIED:20230814T131224Z
UID:10005855-1702918800-1702922400@www.springcreekoaks.org
SUMMARY:Kuehnle courts 3-4\, Orange ball class
DESCRIPTION:
URL:https://www.springcreekoaks.org/reservations/kuehnle-courts-3-4-orange-ball-class/2023-12-18/
CATEGORIES:Tennis
END:VEVENT
BEGIN:VEVENT
DTSTART;TZID=America/Chicago:20231218T180000
DTEND;TZID=America/Chicago:20231218T190000
DTSTAMP:20260423T061146
CREATED:20230814T131344Z
LAST-MODIFIED:20230814T131344Z
UID:10005874-1702922400-1702926000@www.springcreekoaks.org
SUMMARY:Kuehnle courts 3-4\, Yellow ball class
DESCRIPTION:
URL:https://www.springcreekoaks.org/reservations/kuehnle-courts-3-4-yellow-ball-class/2023-12-18/
CATEGORIES:Tennis
END:VEVENT
BEGIN:VEVENT
DTSTART;TZID=America/Chicago:20231218T180000
DTEND;TZID=America/Chicago:20231218T220000
DTSTAMP:20260423T061146
CREATED:20231023T134030Z
LAST-MODIFIED:20231023T134208Z
UID:10003689-1702922400-1702936800@www.springcreekoaks.org
SUMMARY:CH 1 courts 2-3\, Monday night pickleball\, Blackburn
DESCRIPTION:
URL:https://www.springcreekoaks.org/reservations/ch-1-courts-2-3-monday-night-pickleball-blackburn/2023-12-18/
CATEGORIES:Tennis
END:VEVENT
BEGIN:VEVENT
DTSTART;TZID=America/Chicago:20231218T190000
DTEND;TZID=America/Chicago:20231218T200000
DTSTAMP:20260423T061146
CREATED:20230814T131523Z
LAST-MODIFIED:20230814T131523Z
UID:10005893-1702926000-1702929600@www.springcreekoaks.org
SUMMARY:Kuehnle courts 3-4\, Adult drop-in drill\, all levels
DESCRIPTION:
URL:https://www.springcreekoaks.org/reservations/kuehnle-courts-3-4-adult-drop-in-drill-all-levels/2023-12-18/
CATEGORIES:Tennis
END:VEVENT
BEGIN:VEVENT
DTSTART;TZID=America/Chicago:20231219T083000
DTEND;TZID=America/Chicago:20231219T110000
DTSTAMP:20260423T061146
CREATED:20231207T195402Z
LAST-MODIFIED:20231218T162504Z
UID:10004053-1702974600-1702983600@www.springcreekoaks.org
SUMMARY:CH 2 courts 1-6\, Coach Danny Winter Camp
DESCRIPTION:
URL:https://www.springcreekoaks.org/reservations/ch-2-courts-1-3-coach-danny-winter-camp/2023-12-19/
CATEGORIES:Tennis
END:VEVENT
BEGIN:VEVENT
DTSTART;TZID=America/Chicago:20231219T083000
DTEND;TZID=America/Chicago:20231219T110000
DTSTAMP:20260423T061146
CREATED:20231215T123322Z
LAST-MODIFIED:20231218T162152Z
UID:10006358-1702974600-1702983600@www.springcreekoaks.org
SUMMARY:Kuehnle court 2\, Lopez
DESCRIPTION:
URL:https://www.springcreekoaks.org/reservations/ch-2-court-3-lopez-40/
CATEGORIES:Tennis
END:VEVENT
BEGIN:VEVENT
DTSTART;TZID=America/Chicago:20231219T090000
DTEND;TZID=America/Chicago:20231219T100000
DTSTAMP:20260423T061146
CREATED:20230814T131725Z
LAST-MODIFIED:20230814T131725Z
UID:10005912-1702976400-1702980000@www.springcreekoaks.org
SUMMARY:Kuehnle courts 3-4\, beginner Homeschool class
DESCRIPTION:
URL:https://www.springcreekoaks.org/reservations/kuehnle-courts-3-4-beginner-homeschool-class/2023-12-19/
CATEGORIES:Tennis
END:VEVENT
BEGIN:VEVENT
DTSTART;TZID=America/Chicago:20231219T090000
DTEND;TZID=America/Chicago:20231219T120000
DTSTAMP:20260423T061146
CREATED:20230819T184258Z
LAST-MODIFIED:20230907T224414Z
UID:10006122-1702976400-1702987200@www.springcreekoaks.org
SUMMARY:CH 1 courts 2-3\, Palmer
DESCRIPTION:
URL:https://www.springcreekoaks.org/reservations/ch-1-courts-2-3-pickleball-meet-and-greet-6/2023-12-19/
CATEGORIES:Tennis
END:VEVENT
BEGIN:VEVENT
DTSTART;TZID=America/Chicago:20231219T090000
DTEND;TZID=America/Chicago:20231219T120000
DTSTAMP:20260423T061146
CREATED:20230907T224932Z
LAST-MODIFIED:20230907T224932Z
UID:10006273-1702976400-1702987200@www.springcreekoaks.org
SUMMARY:CH 1 court 1\, Pickleball meet and greet
DESCRIPTION:
URL:https://www.springcreekoaks.org/reservations/ch-1-court-1-pickleball-meet-and-greet-2/2023-12-19/
CATEGORIES:Tennis
END:VEVENT
BEGIN:VEVENT
DTSTART;TZID=America/Chicago:20231219T090000
DTEND;TZID=America/Chicago:20231219T140000
DTSTAMP:20260423T061146
CREATED:20230328T012811Z
LAST-MODIFIED:20230328T012811Z
UID:10002272-1702976400-1702994400@www.springcreekoaks.org
SUMMARY:SCO Tennis Camp CH2
DESCRIPTION:
URL:https://www.springcreekoaks.org/reservations/sco-tennis-camp-ch2-3/2023-12-19/
LOCATION:Clubhouse 2\, 6002 Bur Oak Dr\, Spring\, 77379\, United States
CATEGORIES:Clubhouses
GEO:30.037539;-95.5070911
X-APPLE-STRUCTURED-LOCATION;VALUE=URI;X-ADDRESS=Clubhouse 2 6002 Bur Oak Dr Spring 77379 United States;X-APPLE-RADIUS=500;X-TITLE=6002 Bur Oak Dr:geo:-95.5070911,30.037539
END:VEVENT
BEGIN:VEVENT
DTSTART;TZID=America/Chicago:20231219T100000
DTEND;TZID=America/Chicago:20231219T110000
DTSTAMP:20260423T061146
CREATED:20230814T131902Z
LAST-MODIFIED:20230814T131902Z
UID:10005931-1702980000-1702983600@www.springcreekoaks.org
SUMMARY:Kuehnle courts 3-4\, intermediate homeschool class
DESCRIPTION:
URL:https://www.springcreekoaks.org/reservations/kuehnle-courts-3-4-intermediate-homeschool-class/2023-12-19/
CATEGORIES:Tennis
END:VEVENT
BEGIN:VEVENT
DTSTART;TZID=America/Chicago:20231219T160000
DTEND;TZID=America/Chicago:20231219T170000
DTSTAMP:20260423T061146
CREATED:20230814T132041Z
LAST-MODIFIED:20230814T132041Z
UID:10005950-1703001600-1703005200@www.springcreekoaks.org
SUMMARY:Kuehnle courts 3-4\, Red ball class
DESCRIPTION:
URL:https://www.springcreekoaks.org/reservations/kuehnle-courts-3-4-red-ball-class/2023-12-19/
CATEGORIES:Tennis
END:VEVENT
BEGIN:VEVENT
DTSTART;TZID=America/Chicago:20231219T170000
DTEND;TZID=America/Chicago:20231219T180000
DTSTAMP:20260423T061146
CREATED:20230814T132206Z
LAST-MODIFIED:20230814T132206Z
UID:10005969-1703005200-1703008800@www.springcreekoaks.org
SUMMARY:Kuehnle courts 3-4\, Green ball class
DESCRIPTION:
URL:https://www.springcreekoaks.org/reservations/kuehnle-courts-3-4-green-ball-class/2023-12-19/
CATEGORIES:Tennis
END:VEVENT
BEGIN:VEVENT
DTSTART;TZID=America/Chicago:20231219T180000
DTEND;TZID=America/Chicago:20231219T193000
DTSTAMP:20260423T061146
CREATED:20230814T132345Z
LAST-MODIFIED:20230814T132345Z
UID:10005988-1703008800-1703014200@www.springcreekoaks.org
SUMMARY:Kuehnle courts 3-4\, Yellow ball class
DESCRIPTION:
URL:https://www.springcreekoaks.org/reservations/kuehnle-courts-3-4-yellow-ball-class-2/2023-12-19/
CATEGORIES:Tennis
END:VEVENT
BEGIN:VEVENT
DTSTART;TZID=America/Chicago:20231219T180000
DTEND;TZID=America/Chicago:20231219T220000
DTSTAMP:20260423T061146
CREATED:20230830T121940Z
LAST-MODIFIED:20230915T171226Z
UID:10006222-1703008800-1703023200@www.springcreekoaks.org
SUMMARY:CH 1\, courts 2-3\, Junek
DESCRIPTION:
URL:https://www.springcreekoaks.org/reservations/ch-1-courts-2-3-junek/2023-12-19/
CATEGORIES:Tennis
END:VEVENT
BEGIN:VEVENT
DTSTART;TZID=America/Chicago:20231220T083000
DTEND;TZID=America/Chicago:20231220T110000
DTSTAMP:20260423T061146
CREATED:20231207T195402Z
LAST-MODIFIED:20231218T162504Z
UID:10004054-1703061000-1703070000@www.springcreekoaks.org
SUMMARY:CH 2 courts 1-6\, Coach Danny Winter Camp
DESCRIPTION:
URL:https://www.springcreekoaks.org/reservations/ch-2-courts-1-3-coach-danny-winter-camp/2023-12-20/
CATEGORIES:Tennis
END:VEVENT
BEGIN:VEVENT
DTSTART;TZID=America/Chicago:20231220T090000
DTEND;TZID=America/Chicago:20231220T100000
DTSTAMP:20260423T061146
CREATED:20230814T132524Z
LAST-MODIFIED:20230814T132524Z
UID:10006007-1703062800-1703066400@www.springcreekoaks.org
SUMMARY:Kuehnle courts 3-4\, intermediate homeschool class
DESCRIPTION:
URL:https://www.springcreekoaks.org/reservations/kuehnle-courts-3-4-intermediate-homeschool-class-2/2023-12-20/
CATEGORIES:Tennis
END:VEVENT
BEGIN:VEVENT
DTSTART;TZID=America/Chicago:20231220T090000
DTEND;TZID=America/Chicago:20231220T113000
DTSTAMP:20260423T061146
CREATED:20231218T204119Z
LAST-MODIFIED:20231218T204119Z
UID:10003656-1703062800-1703071800@www.springcreekoaks.org
SUMMARY:Kuehnle court 2\, Hudson
DESCRIPTION:
URL:https://www.springcreekoaks.org/reservations/kuehnle-court-2-hudson-7/
CATEGORIES:Tennis
END:VEVENT
BEGIN:VEVENT
DTSTART;TZID=America/Chicago:20231220T090000
DTEND;TZID=America/Chicago:20231220T140000
DTSTAMP:20260423T061146
CREATED:20230328T012811Z
LAST-MODIFIED:20230328T012811Z
UID:10002273-1703062800-1703080800@www.springcreekoaks.org
SUMMARY:SCO Tennis Camp CH2
DESCRIPTION:
URL:https://www.springcreekoaks.org/reservations/sco-tennis-camp-ch2-3/2023-12-20/
LOCATION:Clubhouse 2\, 6002 Bur Oak Dr\, Spring\, 77379\, United States
CATEGORIES:Clubhouses
GEO:30.037539;-95.5070911
X-APPLE-STRUCTURED-LOCATION;VALUE=URI;X-ADDRESS=Clubhouse 2 6002 Bur Oak Dr Spring 77379 United States;X-APPLE-RADIUS=500;X-TITLE=6002 Bur Oak Dr:geo:-95.5070911,30.037539
END:VEVENT
BEGIN:VEVENT
DTSTART;TZID=America/Chicago:20231220T170000
DTEND;TZID=America/Chicago:20231220T180000
DTSTAMP:20260423T061146
CREATED:20230814T132653Z
LAST-MODIFIED:20230814T132653Z
UID:10006026-1703091600-1703095200@www.springcreekoaks.org
SUMMARY:Kuehnle courts 3-4\, Orange ball class
DESCRIPTION:
URL:https://www.springcreekoaks.org/reservations/kuehnle-courts-3-4-orange-ball-class-2/2023-12-20/
CATEGORIES:Tennis
END:VEVENT
BEGIN:VEVENT
DTSTART;TZID=America/Chicago:20231220T173000
DTEND;TZID=America/Chicago:20231220T193000
DTSTAMP:20260423T061146
CREATED:20231012T150149Z
LAST-MODIFIED:20231013T150253Z
UID:10006336-1703093400-1703100600@www.springcreekoaks.org
SUMMARY:Christensen
DESCRIPTION:
URL:https://www.springcreekoaks.org/reservations/christensen/2023-12-20/
LOCATION:Small Soccer Field (CH 2)
CATEGORIES:Soccer Fields
END:VEVENT
BEGIN:VEVENT
DTSTART;TZID=America/Chicago:20231220T180000
DTEND;TZID=America/Chicago:20231220T190000
DTSTAMP:20260423T061146
CREATED:20230814T132829Z
LAST-MODIFIED:20230814T132829Z
UID:10006045-1703095200-1703098800@www.springcreekoaks.org
SUMMARY:Kuehnle courts 3-4\, Yellow ball class
DESCRIPTION:
URL:https://www.springcreekoaks.org/reservations/kuehnle-courts-3-4-yellow-ball-class-3/2023-12-20/
CATEGORIES:Tennis
END:VEVENT
BEGIN:VEVENT
DTSTART;TZID=America/Chicago:20231220T180000
DTEND;TZID=America/Chicago:20231220T200000
DTSTAMP:20260423T061146
CREATED:20200805T160749Z
LAST-MODIFIED:20200805T161100Z
UID:10001466-1703095200-1703102400@www.springcreekoaks.org
SUMMARY:CIFUENTES (Big Soccer Field)
DESCRIPTION:
URL:https://www.springcreekoaks.org/reservations/cifuentes-open-play-big-soccer-field/2023-12-20/
CATEGORIES:Soccer Fields
END:VEVENT
BEGIN:VEVENT
DTSTART;TZID=America/Chicago:20231220T180000
DTEND;TZID=America/Chicago:20231220T220000
DTSTAMP:20260423T061146
CREATED:20220808T175634Z
LAST-MODIFIED:20220808T175634Z
UID:10004338-1703095200-1703109600@www.springcreekoaks.org
SUMMARY:SCO Book Club CH2
DESCRIPTION:
URL:https://www.springcreekoaks.org/reservations/sco-book-club-ch2-2/2023-12-20/
CATEGORIES:Clubhouses
END:VEVENT
BEGIN:VEVENT
DTSTART;TZID=America/Chicago:20231221T083000
DTEND;TZID=America/Chicago:20231221T110000
DTSTAMP:20260423T061146
CREATED:20231207T195402Z
LAST-MODIFIED:20231218T162504Z
UID:10004055-1703147400-1703156400@www.springcreekoaks.org
SUMMARY:CH 2 courts 1-6\, Coach Danny Winter Camp
DESCRIPTION:
URL:https://www.springcreekoaks.org/reservations/ch-2-courts-1-3-coach-danny-winter-camp/2023-12-21/
CATEGORIES:Tennis
END:VEVENT
END:VCALENDAR