BEGIN:VCALENDAR
VERSION:2.0
PRODID:-//Spring Creek Oaks - ECPv6.15.20//NONSGML v1.0//EN
CALSCALE:GREGORIAN
METHOD:PUBLISH
X-ORIGINAL-URL:https://www.springcreekoaks.org
X-WR-CALDESC:Events for Spring Creek Oaks
REFRESH-INTERVAL;VALUE=DURATION:PT1H
X-Robots-Tag:noindex
X-PUBLISHED-TTL:PT1H
BEGIN:VTIMEZONE
TZID:America/Chicago
BEGIN:DAYLIGHT
TZOFFSETFROM:-0600
TZOFFSETTO:-0500
TZNAME:CDT
DTSTART:20220313T080000
END:DAYLIGHT
BEGIN:STANDARD
TZOFFSETFROM:-0500
TZOFFSETTO:-0600
TZNAME:CST
DTSTART:20221106T070000
END:STANDARD
BEGIN:DAYLIGHT
TZOFFSETFROM:-0600
TZOFFSETTO:-0500
TZNAME:CDT
DTSTART:20230312T080000
END:DAYLIGHT
BEGIN:STANDARD
TZOFFSETFROM:-0500
TZOFFSETTO:-0600
TZNAME:CST
DTSTART:20231105T070000
END:STANDARD
BEGIN:DAYLIGHT
TZOFFSETFROM:-0600
TZOFFSETTO:-0500
TZNAME:CDT
DTSTART:20240310T080000
END:DAYLIGHT
BEGIN:STANDARD
TZOFFSETFROM:-0500
TZOFFSETTO:-0600
TZNAME:CST
DTSTART:20241103T070000
END:STANDARD
END:VTIMEZONE
BEGIN:VEVENT
DTSTART;TZID=America/Chicago:20231129T090000
DTEND;TZID=America/Chicago:20231129T100000
DTSTAMP:20260424T090425
CREATED:20230814T132524Z
LAST-MODIFIED:20230814T132524Z
UID:10006004-1701248400-1701252000@www.springcreekoaks.org
SUMMARY:Kuehnle courts 3-4\, intermediate homeschool class
DESCRIPTION:
URL:https://www.springcreekoaks.org/reservations/kuehnle-courts-3-4-intermediate-homeschool-class-2/2023-11-29/
CATEGORIES:Tennis
END:VEVENT
BEGIN:VEVENT
DTSTART;TZID=America/Chicago:20231129T090000
DTEND;TZID=America/Chicago:20231129T120000
DTSTAMP:20260424T090426
CREATED:20221227T222834Z
LAST-MODIFIED:20221227T222834Z
UID:10005255-1701248400-1701259200@www.springcreekoaks.org
SUMMARY:CH 1 courts 2-3\, Hudson
DESCRIPTION:
URL:https://www.springcreekoaks.org/reservations/ch-1-courts-2-3-hudson/2023-11-29/
CATEGORIES:Tennis
END:VEVENT
BEGIN:VEVENT
DTSTART;TZID=America/Chicago:20231129T090000
DTEND;TZID=America/Chicago:20231129T140000
DTSTAMP:20260424T090426
CREATED:20230328T012811Z
LAST-MODIFIED:20230328T012811Z
UID:10002252-1701248400-1701266400@www.springcreekoaks.org
SUMMARY:SCO Tennis Camp CH2
DESCRIPTION:
URL:https://www.springcreekoaks.org/reservations/sco-tennis-camp-ch2-3/2023-11-29/
LOCATION:Clubhouse 2\, 6002 Bur Oak Dr\, Spring\, 77379\, United States
CATEGORIES:Clubhouses
GEO:30.037539;-95.5070911
X-APPLE-STRUCTURED-LOCATION;VALUE=URI;X-ADDRESS=Clubhouse 2 6002 Bur Oak Dr Spring 77379 United States;X-APPLE-RADIUS=500;X-TITLE=6002 Bur Oak Dr:geo:-95.5070911,30.037539
END:VEVENT
BEGIN:VEVENT
DTSTART;TZID=America/Chicago:20231129T170000
DTEND;TZID=America/Chicago:20231129T180000
DTSTAMP:20260424T090426
CREATED:20230814T132653Z
LAST-MODIFIED:20230814T132653Z
UID:10006023-1701277200-1701280800@www.springcreekoaks.org
SUMMARY:Kuehnle courts 3-4\, Orange ball class
DESCRIPTION:
URL:https://www.springcreekoaks.org/reservations/kuehnle-courts-3-4-orange-ball-class-2/2023-11-29/
CATEGORIES:Tennis
END:VEVENT
BEGIN:VEVENT
DTSTART;TZID=America/Chicago:20231129T173000
DTEND;TZID=America/Chicago:20231129T193000
DTSTAMP:20260424T090426
CREATED:20231012T150149Z
LAST-MODIFIED:20231013T150253Z
UID:10006330-1701279000-1701286200@www.springcreekoaks.org
SUMMARY:Christensen
DESCRIPTION:
URL:https://www.springcreekoaks.org/reservations/christensen/2023-11-29/
LOCATION:Small Soccer Field (CH 2)
CATEGORIES:Soccer Fields
END:VEVENT
BEGIN:VEVENT
DTSTART;TZID=America/Chicago:20231129T180000
DTEND;TZID=America/Chicago:20231129T190000
DTSTAMP:20260424T090426
CREATED:20230814T132829Z
LAST-MODIFIED:20230814T132829Z
UID:10006042-1701280800-1701284400@www.springcreekoaks.org
SUMMARY:Kuehnle courts 3-4\, Yellow ball class
DESCRIPTION:
URL:https://www.springcreekoaks.org/reservations/kuehnle-courts-3-4-yellow-ball-class-3/2023-11-29/
CATEGORIES:Tennis
END:VEVENT
BEGIN:VEVENT
DTSTART;TZID=America/Chicago:20231129T180000
DTEND;TZID=America/Chicago:20231129T200000
DTSTAMP:20260424T090426
CREATED:20200805T160749Z
LAST-MODIFIED:20200805T161100Z
UID:10001463-1701280800-1701288000@www.springcreekoaks.org
SUMMARY:CIFUENTES (Big Soccer Field)
DESCRIPTION:
URL:https://www.springcreekoaks.org/reservations/cifuentes-open-play-big-soccer-field/2023-11-29/
CATEGORIES:Soccer Fields
END:VEVENT
BEGIN:VEVENT
DTSTART;TZID=America/Chicago:20231129T190000
DTEND;TZID=America/Chicago:20231129T220000
DTSTAMP:20260424T090426
CREATED:20231129T013521Z
LAST-MODIFIED:20231129T013521Z
UID:10006352-1701284400-1701295200@www.springcreekoaks.org
SUMMARY:CH 2 courts 1-3\, NHTA A2 rain makeup
DESCRIPTION:
URL:https://www.springcreekoaks.org/reservations/ch-2-courts-1-3-nhta-a2-rain-makeup-2/
CATEGORIES:Tennis
END:VEVENT
BEGIN:VEVENT
DTSTART;TZID=America/Chicago:20231130T083000
DTEND;TZID=America/Chicago:20231130T120000
DTSTAMP:20260424T090426
CREATED:20230823T105904Z
LAST-MODIFIED:20230823T105904Z
UID:10006167-1701333000-1701345600@www.springcreekoaks.org
SUMMARY:CH 2 courts 1-4\, NW champ
DESCRIPTION:
URL:https://www.springcreekoaks.org/reservations/ch-2-courts-1-4-nw-champ-8/2023-11-30/
CATEGORIES:Tennis
END:VEVENT
BEGIN:VEVENT
DTSTART;TZID=America/Chicago:20231130T090000
DTEND;TZID=America/Chicago:20231130T110000
DTSTAMP:20260424T090426
CREATED:20230821T190739Z
LAST-MODIFIED:20230821T190739Z
UID:10006152-1701334800-1701342000@www.springcreekoaks.org
SUMMARY:Kuehnle courts 3-4\, Homeschool classes
DESCRIPTION:
URL:https://www.springcreekoaks.org/reservations/kuehnle-courts-3-4-homeschool-classes-2/2023-11-30/
CATEGORIES:Tennis
END:VEVENT
BEGIN:VEVENT
DTSTART;TZID=America/Chicago:20231130T090000
DTEND;TZID=America/Chicago:20231130T120000
DTSTAMP:20260424T090426
CREATED:20230819T184409Z
LAST-MODIFIED:20230907T224257Z
UID:10006136-1701334800-1701345600@www.springcreekoaks.org
SUMMARY:CH 1 courts 2-3\, Palmer
DESCRIPTION:
URL:https://www.springcreekoaks.org/reservations/ch-1-courts-2-3-pickleball-meet-and-greet-7/2023-11-30/
CATEGORIES:Tennis
END:VEVENT
BEGIN:VEVENT
DTSTART;TZID=America/Chicago:20231130T090000
DTEND;TZID=America/Chicago:20231130T120000
DTSTAMP:20260424T090426
CREATED:20230907T225043Z
LAST-MODIFIED:20230907T225043Z
UID:10006286-1701334800-1701345600@www.springcreekoaks.org
SUMMARY:CH 1 court 1\, Pickleball meet and greet
DESCRIPTION:
URL:https://www.springcreekoaks.org/reservations/ch-1-court-1-pickleball-meet-and-greet-3/2023-11-30/
CATEGORIES:Tennis
END:VEVENT
BEGIN:VEVENT
DTSTART;TZID=America/Chicago:20231130T090000
DTEND;TZID=America/Chicago:20231130T140000
DTSTAMP:20260424T090426
CREATED:20230328T012811Z
LAST-MODIFIED:20230328T012811Z
UID:10002253-1701334800-1701352800@www.springcreekoaks.org
SUMMARY:SCO Tennis Camp CH2
DESCRIPTION:
URL:https://www.springcreekoaks.org/reservations/sco-tennis-camp-ch2-3/2023-11-30/
LOCATION:Clubhouse 2\, 6002 Bur Oak Dr\, Spring\, 77379\, United States
CATEGORIES:Clubhouses
GEO:30.037539;-95.5070911
X-APPLE-STRUCTURED-LOCATION;VALUE=URI;X-ADDRESS=Clubhouse 2 6002 Bur Oak Dr Spring 77379 United States;X-APPLE-RADIUS=500;X-TITLE=6002 Bur Oak Dr:geo:-95.5070911,30.037539
END:VEVENT
BEGIN:VEVENT
DTSTART;TZID=America/Chicago:20231130T170000
DTEND;TZID=America/Chicago:20231130T180000
DTSTAMP:20260424T090426
CREATED:20230814T132947Z
LAST-MODIFIED:20230814T132947Z
UID:10006061-1701363600-1701367200@www.springcreekoaks.org
SUMMARY:Kuehnle courts 3-4\, Orange ball class
DESCRIPTION:
URL:https://www.springcreekoaks.org/reservations/kuehnle-courts-3-4-orange-ball-class-3/2023-11-30/
CATEGORIES:Tennis
END:VEVENT
BEGIN:VEVENT
DTSTART;TZID=America/Chicago:20231130T173000
DTEND;TZID=America/Chicago:20231130T193000
DTSTAMP:20260424T090426
CREATED:20231012T150149Z
LAST-MODIFIED:20231013T150253Z
UID:10006331-1701365400-1701372600@www.springcreekoaks.org
SUMMARY:Christensen
DESCRIPTION:
URL:https://www.springcreekoaks.org/reservations/christensen/2023-11-30/
LOCATION:Small Soccer Field (CH 2)
CATEGORIES:Soccer Fields
END:VEVENT
BEGIN:VEVENT
DTSTART;TZID=America/Chicago:20231130T180000
DTEND;TZID=America/Chicago:20231130T193000
DTSTAMP:20260424T090426
CREATED:20230814T133101Z
LAST-MODIFIED:20230814T133101Z
UID:10006080-1701367200-1701372600@www.springcreekoaks.org
SUMMARY:Kuehnle courts 3-4\, Yellow ball class
DESCRIPTION:
URL:https://www.springcreekoaks.org/reservations/kuehnle-courts-3-4-yellow-ball-class-4/2023-11-30/
CATEGORIES:Tennis
END:VEVENT
BEGIN:VEVENT
DTSTART;TZID=America/Chicago:20231130T193000
DTEND;TZID=America/Chicago:20231130T220000
DTSTAMP:20260424T090426
CREATED:20230911T200317Z
LAST-MODIFIED:20230911T200317Z
UID:10003648-1701372600-1701381600@www.springcreekoaks.org
SUMMARY:CH 1 courts 2-3 (Pickleball)\, Guzman
DESCRIPTION:
URL:https://www.springcreekoaks.org/reservations/ch-1-courts-2-3-pickleball-guzman/2023-11-30/
CATEGORIES:Tennis
END:VEVENT
BEGIN:VEVENT
DTSTART;TZID=America/Chicago:20231201T083000
DTEND;TZID=America/Chicago:20231201T120000
DTSTAMP:20260424T090426
CREATED:20231113T165025Z
LAST-MODIFIED:20231113T165025Z
UID:10003698-1701419400-1701432000@www.springcreekoaks.org
SUMMARY:CH 2 courts 1-4\, JR Open 1 rain makeup
DESCRIPTION:
URL:https://www.springcreekoaks.org/reservations/ch-2-courts-1-4-jr-open-1-rain-makeup/
CATEGORIES:Tennis
END:VEVENT
BEGIN:VEVENT
DTSTART;TZID=America/Chicago:20231201T090000
DTEND;TZID=America/Chicago:20231201T140000
DTSTAMP:20260424T090426
CREATED:20230328T012811Z
LAST-MODIFIED:20230328T012811Z
UID:10002254-1701421200-1701439200@www.springcreekoaks.org
SUMMARY:SCO Tennis Camp CH2
DESCRIPTION:
URL:https://www.springcreekoaks.org/reservations/sco-tennis-camp-ch2-3/2023-12-01/
LOCATION:Clubhouse 2\, 6002 Bur Oak Dr\, Spring\, 77379\, United States
CATEGORIES:Clubhouses
GEO:30.037539;-95.5070911
X-APPLE-STRUCTURED-LOCATION;VALUE=URI;X-ADDRESS=Clubhouse 2 6002 Bur Oak Dr Spring 77379 United States;X-APPLE-RADIUS=500;X-TITLE=6002 Bur Oak Dr:geo:-95.5070911,30.037539
END:VEVENT
BEGIN:VEVENT
DTSTART;TZID=America/Chicago:20231201T180000
DTEND;TZID=America/Chicago:20231201T190000
DTSTAMP:20260424T090426
CREATED:20230814T133222Z
LAST-MODIFIED:20230814T133222Z
UID:10006099-1701453600-1701457200@www.springcreekoaks.org
SUMMARY:Kuehnle courts 3-4\, Yellow ball class
DESCRIPTION:
URL:https://www.springcreekoaks.org/reservations/kuehnle-courts-3-4-yellow-ball-class-5/2023-12-01/
CATEGORIES:Tennis
END:VEVENT
BEGIN:VEVENT
DTSTART;TZID=America/Chicago:20231202T080000
DTEND;TZID=America/Chicago:20231202T100000
DTSTAMP:20260424T090426
CREATED:20220407T142613Z
LAST-MODIFIED:20231115T201658Z
UID:10004631-1701504000-1701511200@www.springcreekoaks.org
SUMMARY:SCO weekly pickup game (LLERENA)
DESCRIPTION:All SCO residents are invited to play and have some fun.
URL:https://www.springcreekoaks.org/reservations/llerenas-soccer-practice/2023-12-02/
LOCATION:Large Soccer Field (Bilma)\, United States
CATEGORIES:Soccer Fields
END:VEVENT
BEGIN:VEVENT
DTSTART;TZID=America/Chicago:20231202T080000
DTEND;TZID=America/Chicago:20231202T150000
DTSTAMP:20260424T090426
CREATED:20231113T164908Z
LAST-MODIFIED:20231113T164908Z
UID:10006345-1701504000-1701529200@www.springcreekoaks.org
SUMMARY:CH 2 courts 1-6\, Coach Danny
DESCRIPTION:
URL:https://www.springcreekoaks.org/reservations/ch-2-courts-1-6-coach-danny/
CATEGORIES:Tennis
END:VEVENT
BEGIN:VEVENT
DTSTART;TZID=America/Chicago:20231202T090000
DTEND;TZID=America/Chicago:20231202T120000
DTSTAMP:20260424T090426
CREATED:20230819T184138Z
LAST-MODIFIED:20230907T224528Z
UID:10003418-1701507600-1701518400@www.springcreekoaks.org
SUMMARY:CH 1 courts 2-3\, Palmer
DESCRIPTION:
URL:https://www.springcreekoaks.org/reservations/ch-1-courts-2-3-pickleball-meet-and-greet-5/2023-12-02/
CATEGORIES:Tennis
END:VEVENT
BEGIN:VEVENT
DTSTART;TZID=America/Chicago:20231202T090000
DTEND;TZID=America/Chicago:20231202T120000
DTSTAMP:20260424T090426
CREATED:20230907T224820Z
LAST-MODIFIED:20230907T224820Z
UID:10006254-1701507600-1701518400@www.springcreekoaks.org
SUMMARY:CH 1 court 1\, Pickleball meet and greet
DESCRIPTION:
URL:https://www.springcreekoaks.org/reservations/ch-1-court-1-pickleball-meet-and-greet/2023-12-02/
CATEGORIES:Tennis
END:VEVENT
BEGIN:VEVENT
DTSTART;TZID=America/Chicago:20231202T090000
DTEND;TZID=America/Chicago:20231202T140000
DTSTAMP:20260424T090426
CREATED:20230328T012811Z
LAST-MODIFIED:20230328T012811Z
UID:10002255-1701507600-1701525600@www.springcreekoaks.org
SUMMARY:SCO Tennis Camp CH2
DESCRIPTION:
URL:https://www.springcreekoaks.org/reservations/sco-tennis-camp-ch2-3/2023-12-02/
LOCATION:Clubhouse 2\, 6002 Bur Oak Dr\, Spring\, 77379\, United States
CATEGORIES:Clubhouses
GEO:30.037539;-95.5070911
X-APPLE-STRUCTURED-LOCATION;VALUE=URI;X-ADDRESS=Clubhouse 2 6002 Bur Oak Dr Spring 77379 United States;X-APPLE-RADIUS=500;X-TITLE=6002 Bur Oak Dr:geo:-95.5070911,30.037539
END:VEVENT
BEGIN:VEVENT
DTSTART;TZID=America/Chicago:20231202T120000
DTEND;TZID=America/Chicago:20231202T170000
DTSTAMP:20260424T090426
CREATED:20221203T231700Z
LAST-MODIFIED:20221203T231700Z
UID:10001794-1701518400-1701536400@www.springcreekoaks.org
SUMMARY:Chernyack CH2
DESCRIPTION:
URL:https://www.springcreekoaks.org/reservations/chernyack-ch2/
LOCATION:Clubhouse 2\, 6002 Bur Oak Dr\, Spring\, 77379\, United States
CATEGORIES:Clubhouses
GEO:30.037539;-95.5070911
X-APPLE-STRUCTURED-LOCATION;VALUE=URI;X-ADDRESS=Clubhouse 2 6002 Bur Oak Dr Spring 77379 United States;X-APPLE-RADIUS=500;X-TITLE=6002 Bur Oak Dr:geo:-95.5070911,30.037539
END:VEVENT
BEGIN:VEVENT
DTSTART;TZID=America/Chicago:20231203T090000
DTEND;TZID=America/Chicago:20231203T140000
DTSTAMP:20260424T090426
CREATED:20230328T012811Z
LAST-MODIFIED:20230328T012811Z
UID:10002256-1701594000-1701612000@www.springcreekoaks.org
SUMMARY:SCO Tennis Camp CH2
DESCRIPTION:
URL:https://www.springcreekoaks.org/reservations/sco-tennis-camp-ch2-3/2023-12-03/
LOCATION:Clubhouse 2\, 6002 Bur Oak Dr\, Spring\, 77379\, United States
CATEGORIES:Clubhouses
GEO:30.037539;-95.5070911
X-APPLE-STRUCTURED-LOCATION;VALUE=URI;X-ADDRESS=Clubhouse 2 6002 Bur Oak Dr Spring 77379 United States;X-APPLE-RADIUS=500;X-TITLE=6002 Bur Oak Dr:geo:-95.5070911,30.037539
END:VEVENT
BEGIN:VEVENT
DTSTART;TZID=America/Chicago:20231204T083000
DTEND;TZID=America/Chicago:20231204T100000
DTSTAMP:20260424T090426
CREATED:20230814T130951Z
LAST-MODIFIED:20230814T130951Z
UID:10003581-1701678600-1701684000@www.springcreekoaks.org
SUMMARY:Kuehnle courts 3-4\, Ladies open drill\, tennis pro Danny
DESCRIPTION:
URL:https://www.springcreekoaks.org/reservations/kuehnle-courts-3-4-ladies-open-drill-tennis-pro-danny/2023-12-04/
CATEGORIES:Tennis
END:VEVENT
BEGIN:VEVENT
DTSTART;TZID=America/Chicago:20231204T083000
DTEND;TZID=America/Chicago:20231204T103000
DTSTAMP:20260424T090426
CREATED:20231205T011806Z
LAST-MODIFIED:20231205T011806Z
UID:10004050-1701678600-1701685800@www.springcreekoaks.org
SUMMARY:CH 2 court 6\, Lopez
DESCRIPTION:
URL:https://www.springcreekoaks.org/reservations/ch-2-court-6-lopez-8/
CATEGORIES:Tennis
END:VEVENT
BEGIN:VEVENT
DTSTART;TZID=America/Chicago:20231204T083000
DTEND;TZID=America/Chicago:20231204T120000
DTSTAMP:20260424T090426
CREATED:20231115T203441Z
LAST-MODIFIED:20231130T042738Z
UID:10006351-1701678600-1701691200@www.springcreekoaks.org
SUMMARY:CH 2 courts 1-2\, rain makeup\, Karpiuk
DESCRIPTION:
URL:https://www.springcreekoaks.org/reservations/kuehnle-courts-1-2-rain-makeup-carpiuk/
CATEGORIES:Tennis
END:VEVENT
END:VCALENDAR