BEGIN:VCALENDAR
VERSION:2.0
PRODID:-//Spring Creek Oaks - ECPv6.15.20//NONSGML v1.0//EN
CALSCALE:GREGORIAN
METHOD:PUBLISH
X-ORIGINAL-URL:https://www.springcreekoaks.org
X-WR-CALDESC:Events for Spring Creek Oaks
REFRESH-INTERVAL;VALUE=DURATION:PT1H
X-Robots-Tag:noindex
X-PUBLISHED-TTL:PT1H
BEGIN:VTIMEZONE
TZID:America/Chicago
BEGIN:DAYLIGHT
TZOFFSETFROM:-0600
TZOFFSETTO:-0500
TZNAME:CDT
DTSTART:20220313T080000
END:DAYLIGHT
BEGIN:STANDARD
TZOFFSETFROM:-0500
TZOFFSETTO:-0600
TZNAME:CST
DTSTART:20221106T070000
END:STANDARD
BEGIN:DAYLIGHT
TZOFFSETFROM:-0600
TZOFFSETTO:-0500
TZNAME:CDT
DTSTART:20230312T080000
END:DAYLIGHT
BEGIN:STANDARD
TZOFFSETFROM:-0500
TZOFFSETTO:-0600
TZNAME:CST
DTSTART:20231105T070000
END:STANDARD
BEGIN:DAYLIGHT
TZOFFSETFROM:-0600
TZOFFSETTO:-0500
TZNAME:CDT
DTSTART:20240310T080000
END:DAYLIGHT
BEGIN:STANDARD
TZOFFSETFROM:-0500
TZOFFSETTO:-0600
TZNAME:CST
DTSTART:20241103T070000
END:STANDARD
END:VTIMEZONE
BEGIN:VEVENT
DTSTART;TZID=America/Chicago:20231123T070000
DTEND;TZID=America/Chicago:20231123T120000
DTSTAMP:20260423T161621
CREATED:20231009T154814Z
LAST-MODIFIED:20231115T125640Z
UID:10000410-1700722800-1700740800@www.springcreekoaks.org
SUMMARY:Guzmann (BILMA Field)
DESCRIPTION:
URL:https://www.springcreekoaks.org/reservations/guzmann/
LOCATION:Large Soccer Field (Bilma)\, United States
CATEGORIES:Soccer Fields
END:VEVENT
BEGIN:VEVENT
DTSTART;TZID=America/Chicago:20231123T080000
DTEND;TZID=America/Chicago:20231123T123000
DTSTAMP:20260423T161621
CREATED:20231115T125120Z
LAST-MODIFIED:20231115T125806Z
UID:10006347-1700726400-1700742600@www.springcreekoaks.org
SUMMARY:Hart (Pool Field)
DESCRIPTION:
URL:https://www.springcreekoaks.org/reservations/hart-2/
LOCATION:Small Soccer Field (CH 2)
CATEGORIES:Soccer Fields
END:VEVENT
BEGIN:VEVENT
DTSTART;TZID=America/Chicago:20231123T080000
DTEND;TZID=America/Chicago:20231123T123000
DTSTAMP:20260423T161621
CREATED:20231115T125155Z
LAST-MODIFIED:20231115T125155Z
UID:10001046-1700726400-1700742600@www.springcreekoaks.org
SUMMARY:Hart - Field 4
DESCRIPTION:
URL:https://www.springcreekoaks.org/reservations/hart-field-4/
LOCATION:Baseball Field 4\, United States
CATEGORIES:Baseball Fields
END:VEVENT
BEGIN:VEVENT
DTSTART;TZID=America/Chicago:20231123T090000
DTEND;TZID=America/Chicago:20231123T110000
DTSTAMP:20260423T161621
CREATED:20230821T190739Z
LAST-MODIFIED:20230821T190739Z
UID:10006151-1700730000-1700737200@www.springcreekoaks.org
SUMMARY:Kuehnle courts 3-4\, Homeschool classes
DESCRIPTION:
URL:https://www.springcreekoaks.org/reservations/kuehnle-courts-3-4-homeschool-classes-2/2023-11-23/
CATEGORIES:Tennis
END:VEVENT
BEGIN:VEVENT
DTSTART;TZID=America/Chicago:20231123T090000
DTEND;TZID=America/Chicago:20231123T120000
DTSTAMP:20260423T161621
CREATED:20230819T184409Z
LAST-MODIFIED:20230907T224257Z
UID:10006135-1700730000-1700740800@www.springcreekoaks.org
SUMMARY:CH 1 courts 2-3\, Palmer
DESCRIPTION:
URL:https://www.springcreekoaks.org/reservations/ch-1-courts-2-3-pickleball-meet-and-greet-7/2023-11-23/
CATEGORIES:Tennis
END:VEVENT
BEGIN:VEVENT
DTSTART;TZID=America/Chicago:20231123T090000
DTEND;TZID=America/Chicago:20231123T120000
DTSTAMP:20260423T161621
CREATED:20230907T225043Z
LAST-MODIFIED:20230907T225043Z
UID:10006285-1700730000-1700740800@www.springcreekoaks.org
SUMMARY:CH 1 court 1\, Pickleball meet and greet
DESCRIPTION:
URL:https://www.springcreekoaks.org/reservations/ch-1-court-1-pickleball-meet-and-greet-3/2023-11-23/
CATEGORIES:Tennis
END:VEVENT
BEGIN:VEVENT
DTSTART;TZID=America/Chicago:20231123T090000
DTEND;TZID=America/Chicago:20231123T140000
DTSTAMP:20260423T161621
CREATED:20230328T012811Z
LAST-MODIFIED:20230328T012811Z
UID:10002246-1700730000-1700748000@www.springcreekoaks.org
SUMMARY:SCO Tennis Camp CH2
DESCRIPTION:
URL:https://www.springcreekoaks.org/reservations/sco-tennis-camp-ch2-3/2023-11-23/
LOCATION:Clubhouse 2\, 6002 Bur Oak Dr\, Spring\, 77379\, United States
CATEGORIES:Clubhouses
GEO:30.037539;-95.5070911
X-APPLE-STRUCTURED-LOCATION;VALUE=URI;X-ADDRESS=Clubhouse 2 6002 Bur Oak Dr Spring 77379 United States;X-APPLE-RADIUS=500;X-TITLE=6002 Bur Oak Dr:geo:-95.5070911,30.037539
END:VEVENT
BEGIN:VEVENT
DTSTART;TZID=America/Chicago:20231123T170000
DTEND;TZID=America/Chicago:20231123T180000
DTSTAMP:20260423T161621
CREATED:20230814T132947Z
LAST-MODIFIED:20230814T132947Z
UID:10006060-1700758800-1700762400@www.springcreekoaks.org
SUMMARY:Kuehnle courts 3-4\, Orange ball class
DESCRIPTION:
URL:https://www.springcreekoaks.org/reservations/kuehnle-courts-3-4-orange-ball-class-3/2023-11-23/
CATEGORIES:Tennis
END:VEVENT
BEGIN:VEVENT
DTSTART;TZID=America/Chicago:20231123T173000
DTEND;TZID=America/Chicago:20231123T193000
DTSTAMP:20260423T161621
CREATED:20231012T150149Z
LAST-MODIFIED:20231013T150253Z
UID:10006329-1700760600-1700767800@www.springcreekoaks.org
SUMMARY:Christensen
DESCRIPTION:
URL:https://www.springcreekoaks.org/reservations/christensen/2023-11-23/
LOCATION:Small Soccer Field (CH 2)
CATEGORIES:Soccer Fields
END:VEVENT
BEGIN:VEVENT
DTSTART;TZID=America/Chicago:20231123T180000
DTEND;TZID=America/Chicago:20231123T193000
DTSTAMP:20260423T161621
CREATED:20230814T133101Z
LAST-MODIFIED:20230814T133101Z
UID:10006079-1700762400-1700767800@www.springcreekoaks.org
SUMMARY:Kuehnle courts 3-4\, Yellow ball class
DESCRIPTION:
URL:https://www.springcreekoaks.org/reservations/kuehnle-courts-3-4-yellow-ball-class-4/2023-11-23/
CATEGORIES:Tennis
END:VEVENT
BEGIN:VEVENT
DTSTART;TZID=America/Chicago:20231123T193000
DTEND;TZID=America/Chicago:20231123T220000
DTSTAMP:20260423T161621
CREATED:20230911T200317Z
LAST-MODIFIED:20230911T200317Z
UID:10003647-1700767800-1700776800@www.springcreekoaks.org
SUMMARY:CH 1 courts 2-3 (Pickleball)\, Guzman
DESCRIPTION:
URL:https://www.springcreekoaks.org/reservations/ch-1-courts-2-3-pickleball-guzman/2023-11-23/
CATEGORIES:Tennis
END:VEVENT
BEGIN:VEVENT
DTSTART;VALUE=DATE:20231124
DTEND;VALUE=DATE:20231125
DTSTAMP:20260423T161621
CREATED:20230911T162503Z
LAST-MODIFIED:20230911T162503Z
UID:10006306-1700784000-1700870399@www.springcreekoaks.org
SUMMARY:Zoeller CH1
DESCRIPTION:
URL:https://www.springcreekoaks.org/reservations/zoeller-ch1/
LOCATION:Clubhouse 1\, 17111 Misty Creek\, Spring\, TX\, 77379\, United States
CATEGORIES:Clubhouses
GEO:30.0346602;-95.5117522
X-APPLE-STRUCTURED-LOCATION;VALUE=URI;X-ADDRESS=Clubhouse 1 17111 Misty Creek Spring TX 77379 United States;X-APPLE-RADIUS=500;X-TITLE=17111 Misty Creek:geo:-95.5117522,30.0346602
END:VEVENT
BEGIN:VEVENT
DTSTART;TZID=America/Chicago:20231124T090000
DTEND;TZID=America/Chicago:20231124T140000
DTSTAMP:20260423T161621
CREATED:20230328T012811Z
LAST-MODIFIED:20230328T012811Z
UID:10002247-1700816400-1700834400@www.springcreekoaks.org
SUMMARY:SCO Tennis Camp CH2
DESCRIPTION:
URL:https://www.springcreekoaks.org/reservations/sco-tennis-camp-ch2-3/2023-11-24/
LOCATION:Clubhouse 2\, 6002 Bur Oak Dr\, Spring\, 77379\, United States
CATEGORIES:Clubhouses
GEO:30.037539;-95.5070911
X-APPLE-STRUCTURED-LOCATION;VALUE=URI;X-ADDRESS=Clubhouse 2 6002 Bur Oak Dr Spring 77379 United States;X-APPLE-RADIUS=500;X-TITLE=6002 Bur Oak Dr:geo:-95.5070911,30.037539
END:VEVENT
BEGIN:VEVENT
DTSTART;TZID=America/Chicago:20231124T150000
DTEND;TZID=America/Chicago:20231124T170000
DTSTAMP:20260423T161621
CREATED:20231116T031440Z
LAST-MODIFIED:20231116T031440Z
UID:10006350-1700838000-1700845200@www.springcreekoaks.org
SUMMARY:CH 1 courts 2-3\, L. Cook
DESCRIPTION:
URL:https://www.springcreekoaks.org/reservations/ch-1-courts-2-3-l-cook/
CATEGORIES:Tennis
END:VEVENT
BEGIN:VEVENT
DTSTART;TZID=America/Chicago:20231124T180000
DTEND;TZID=America/Chicago:20231124T190000
DTSTAMP:20260423T161621
CREATED:20230814T133222Z
LAST-MODIFIED:20230814T133222Z
UID:10006098-1700848800-1700852400@www.springcreekoaks.org
SUMMARY:Kuehnle courts 3-4\, Yellow ball class
DESCRIPTION:
URL:https://www.springcreekoaks.org/reservations/kuehnle-courts-3-4-yellow-ball-class-5/2023-11-24/
CATEGORIES:Tennis
END:VEVENT
BEGIN:VEVENT
DTSTART;TZID=America/Chicago:20231125T080000
DTEND;TZID=America/Chicago:20231125T100000
DTSTAMP:20260423T161621
CREATED:20220407T142613Z
LAST-MODIFIED:20231115T201658Z
UID:10004630-1700899200-1700906400@www.springcreekoaks.org
SUMMARY:SCO weekly pickup game (LLERENA)
DESCRIPTION:All SCO residents are invited to play and have some fun.
URL:https://www.springcreekoaks.org/reservations/llerenas-soccer-practice/2023-11-25/
LOCATION:Large Soccer Field (Bilma)\, United States
CATEGORIES:Soccer Fields
END:VEVENT
BEGIN:VEVENT
DTSTART;TZID=America/Chicago:20231125T090000
DTEND;TZID=America/Chicago:20231125T120000
DTSTAMP:20260423T161621
CREATED:20230819T184138Z
LAST-MODIFIED:20230907T224528Z
UID:10003417-1700902800-1700913600@www.springcreekoaks.org
SUMMARY:CH 1 courts 2-3\, Palmer
DESCRIPTION:
URL:https://www.springcreekoaks.org/reservations/ch-1-courts-2-3-pickleball-meet-and-greet-5/2023-11-25/
CATEGORIES:Tennis
END:VEVENT
BEGIN:VEVENT
DTSTART;TZID=America/Chicago:20231125T090000
DTEND;TZID=America/Chicago:20231125T120000
DTSTAMP:20260423T161621
CREATED:20230907T224820Z
LAST-MODIFIED:20230907T224820Z
UID:10006253-1700902800-1700913600@www.springcreekoaks.org
SUMMARY:CH 1 court 1\, Pickleball meet and greet
DESCRIPTION:
URL:https://www.springcreekoaks.org/reservations/ch-1-court-1-pickleball-meet-and-greet/2023-11-25/
CATEGORIES:Tennis
END:VEVENT
BEGIN:VEVENT
DTSTART;TZID=America/Chicago:20231125T090000
DTEND;TZID=America/Chicago:20231125T140000
DTSTAMP:20260423T161621
CREATED:20230328T012811Z
LAST-MODIFIED:20230328T012811Z
UID:10002248-1700902800-1700920800@www.springcreekoaks.org
SUMMARY:SCO Tennis Camp CH2
DESCRIPTION:
URL:https://www.springcreekoaks.org/reservations/sco-tennis-camp-ch2-3/2023-11-25/
LOCATION:Clubhouse 2\, 6002 Bur Oak Dr\, Spring\, 77379\, United States
CATEGORIES:Clubhouses
GEO:30.037539;-95.5070911
X-APPLE-STRUCTURED-LOCATION;VALUE=URI;X-ADDRESS=Clubhouse 2 6002 Bur Oak Dr Spring 77379 United States;X-APPLE-RADIUS=500;X-TITLE=6002 Bur Oak Dr:geo:-95.5070911,30.037539
END:VEVENT
BEGIN:VEVENT
DTSTART;TZID=America/Chicago:20231126T090000
DTEND;TZID=America/Chicago:20231126T140000
DTSTAMP:20260423T161621
CREATED:20230328T012811Z
LAST-MODIFIED:20230328T012811Z
UID:10002249-1700989200-1701007200@www.springcreekoaks.org
SUMMARY:SCO Tennis Camp CH2
DESCRIPTION:
URL:https://www.springcreekoaks.org/reservations/sco-tennis-camp-ch2-3/2023-11-26/
LOCATION:Clubhouse 2\, 6002 Bur Oak Dr\, Spring\, 77379\, United States
CATEGORIES:Clubhouses
GEO:30.037539;-95.5070911
X-APPLE-STRUCTURED-LOCATION;VALUE=URI;X-ADDRESS=Clubhouse 2 6002 Bur Oak Dr Spring 77379 United States;X-APPLE-RADIUS=500;X-TITLE=6002 Bur Oak Dr:geo:-95.5070911,30.037539
END:VEVENT
BEGIN:VEVENT
DTSTART;TZID=America/Chicago:20231127T083000
DTEND;TZID=America/Chicago:20231127T100000
DTSTAMP:20260423T161621
CREATED:20230814T130951Z
LAST-MODIFIED:20230814T130951Z
UID:10003580-1701073800-1701079200@www.springcreekoaks.org
SUMMARY:Kuehnle courts 3-4\, Ladies open drill\, tennis pro Danny
DESCRIPTION:
URL:https://www.springcreekoaks.org/reservations/kuehnle-courts-3-4-ladies-open-drill-tennis-pro-danny/2023-11-27/
CATEGORIES:Tennis
END:VEVENT
BEGIN:VEVENT
DTSTART;TZID=America/Chicago:20231127T083000
DTEND;TZID=America/Chicago:20231127T120000
DTSTAMP:20260423T161621
CREATED:20231115T203330Z
LAST-MODIFIED:20231115T203330Z
UID:10002840-1701073800-1701086400@www.springcreekoaks.org
SUMMARY:CH 2 courts 1-2\, rain makeup Carpiuk
DESCRIPTION:
URL:https://www.springcreekoaks.org/reservations/ch-2-courts-1-2-rain-makeup-carpiuk/
CATEGORIES:Tennis
END:VEVENT
BEGIN:VEVENT
DTSTART;TZID=America/Chicago:20231127T090000
DTEND;TZID=America/Chicago:20231127T140000
DTSTAMP:20260423T161621
CREATED:20230328T012811Z
LAST-MODIFIED:20230328T012811Z
UID:10002250-1701075600-1701093600@www.springcreekoaks.org
SUMMARY:SCO Tennis Camp CH2
DESCRIPTION:
URL:https://www.springcreekoaks.org/reservations/sco-tennis-camp-ch2-3/2023-11-27/
LOCATION:Clubhouse 2\, 6002 Bur Oak Dr\, Spring\, 77379\, United States
CATEGORIES:Clubhouses
GEO:30.037539;-95.5070911
X-APPLE-STRUCTURED-LOCATION;VALUE=URI;X-ADDRESS=Clubhouse 2 6002 Bur Oak Dr Spring 77379 United States;X-APPLE-RADIUS=500;X-TITLE=6002 Bur Oak Dr:geo:-95.5070911,30.037539
END:VEVENT
BEGIN:VEVENT
DTSTART;TZID=America/Chicago:20231127T100000
DTEND;TZID=America/Chicago:20231127T110000
DTSTAMP:20260423T161621
CREATED:20230814T131112Z
LAST-MODIFIED:20230814T131112Z
UID:10005833-1701079200-1701082800@www.springcreekoaks.org
SUMMARY:Kuehnle courts 3-4\, Intermediate Home School class
DESCRIPTION:
URL:https://www.springcreekoaks.org/reservations/kuehnle-courts-3-4-intermediate-home-school-class/2023-11-27/
CATEGORIES:Tennis
END:VEVENT
BEGIN:VEVENT
DTSTART;TZID=America/Chicago:20231127T170000
DTEND;TZID=America/Chicago:20231127T180000
DTSTAMP:20260423T161621
CREATED:20230814T131224Z
LAST-MODIFIED:20230814T131224Z
UID:10005852-1701104400-1701108000@www.springcreekoaks.org
SUMMARY:Kuehnle courts 3-4\, Orange ball class
DESCRIPTION:
URL:https://www.springcreekoaks.org/reservations/kuehnle-courts-3-4-orange-ball-class/2023-11-27/
CATEGORIES:Tennis
END:VEVENT
BEGIN:VEVENT
DTSTART;TZID=America/Chicago:20231127T180000
DTEND;TZID=America/Chicago:20231127T190000
DTSTAMP:20260423T161621
CREATED:20230814T131344Z
LAST-MODIFIED:20230814T131344Z
UID:10005871-1701108000-1701111600@www.springcreekoaks.org
SUMMARY:Kuehnle courts 3-4\, Yellow ball class
DESCRIPTION:
URL:https://www.springcreekoaks.org/reservations/kuehnle-courts-3-4-yellow-ball-class/2023-11-27/
CATEGORIES:Tennis
END:VEVENT
BEGIN:VEVENT
DTSTART;TZID=America/Chicago:20231127T180000
DTEND;TZID=America/Chicago:20231127T220000
DTSTAMP:20260423T161621
CREATED:20231023T134030Z
LAST-MODIFIED:20231023T134208Z
UID:10003686-1701108000-1701122400@www.springcreekoaks.org
SUMMARY:CH 1 courts 2-3\, Monday night pickleball\, Blackburn
DESCRIPTION:
URL:https://www.springcreekoaks.org/reservations/ch-1-courts-2-3-monday-night-pickleball-blackburn/2023-11-27/
CATEGORIES:Tennis
END:VEVENT
BEGIN:VEVENT
DTSTART;TZID=America/Chicago:20231127T190000
DTEND;TZID=America/Chicago:20231127T200000
DTSTAMP:20260423T161621
CREATED:20230814T131523Z
LAST-MODIFIED:20230814T131523Z
UID:10005890-1701111600-1701115200@www.springcreekoaks.org
SUMMARY:Kuehnle courts 3-4\, Adult drop-in drill\, all levels
DESCRIPTION:
URL:https://www.springcreekoaks.org/reservations/kuehnle-courts-3-4-adult-drop-in-drill-all-levels/2023-11-27/
CATEGORIES:Tennis
END:VEVENT
BEGIN:VEVENT
DTSTART;TZID=America/Chicago:20231127T190000
DTEND;TZID=America/Chicago:20231127T220000
DTSTAMP:20260423T161621
CREATED:20230926T171824Z
LAST-MODIFIED:20230926T171824Z
UID:10001289-1701111600-1701122400@www.springcreekoaks.org
SUMMARY:CH 2 courts 1-6\, NHTA A1 rain makeup
DESCRIPTION:
URL:https://www.springcreekoaks.org/reservations/ch-2-courts-1-6-nhta-a1-rain-makeup/
CATEGORIES:Tennis
END:VEVENT
BEGIN:VEVENT
DTSTART;TZID=America/Chicago:20231128T090000
DTEND;TZID=America/Chicago:20231128T100000
DTSTAMP:20260423T161621
CREATED:20230814T131725Z
LAST-MODIFIED:20230814T131725Z
UID:10005909-1701162000-1701165600@www.springcreekoaks.org
SUMMARY:Kuehnle courts 3-4\, beginner Homeschool class
DESCRIPTION:
URL:https://www.springcreekoaks.org/reservations/kuehnle-courts-3-4-beginner-homeschool-class/2023-11-28/
CATEGORIES:Tennis
END:VEVENT
END:VCALENDAR