BEGIN:VCALENDAR
VERSION:2.0
PRODID:-//Spring Creek Oaks - ECPv6.15.20//NONSGML v1.0//EN
CALSCALE:GREGORIAN
METHOD:PUBLISH
X-ORIGINAL-URL:https://www.springcreekoaks.org
X-WR-CALDESC:Events for Spring Creek Oaks
REFRESH-INTERVAL;VALUE=DURATION:PT1H
X-Robots-Tag:noindex
X-PUBLISHED-TTL:PT1H
BEGIN:VTIMEZONE
TZID:America/Chicago
BEGIN:DAYLIGHT
TZOFFSETFROM:-0600
TZOFFSETTO:-0500
TZNAME:CDT
DTSTART:20220313T080000
END:DAYLIGHT
BEGIN:STANDARD
TZOFFSETFROM:-0500
TZOFFSETTO:-0600
TZNAME:CST
DTSTART:20221106T070000
END:STANDARD
BEGIN:DAYLIGHT
TZOFFSETFROM:-0600
TZOFFSETTO:-0500
TZNAME:CDT
DTSTART:20230312T080000
END:DAYLIGHT
BEGIN:STANDARD
TZOFFSETFROM:-0500
TZOFFSETTO:-0600
TZNAME:CST
DTSTART:20231105T070000
END:STANDARD
BEGIN:DAYLIGHT
TZOFFSETFROM:-0600
TZOFFSETTO:-0500
TZNAME:CDT
DTSTART:20240310T080000
END:DAYLIGHT
BEGIN:STANDARD
TZOFFSETFROM:-0500
TZOFFSETTO:-0600
TZNAME:CST
DTSTART:20241103T070000
END:STANDARD
END:VTIMEZONE
BEGIN:VEVENT
DTSTART;VALUE=DATE:20231119
DTEND;VALUE=DATE:20231120
DTSTAMP:20260423T184839
CREATED:20230908T215614Z
LAST-MODIFIED:20230908T215614Z
UID:10003681-1700352000-1700438399@www.springcreekoaks.org
SUMMARY:Bowman/Klein CH2
DESCRIPTION:
URL:https://www.springcreekoaks.org/reservations/bowman-klein-ch2-4/
LOCATION:Clubhouse 2\, 6002 Bur Oak Dr\, Spring\, 77379\, United States
CATEGORIES:Clubhouses
GEO:30.037539;-95.5070911
X-APPLE-STRUCTURED-LOCATION;VALUE=URI;X-ADDRESS=Clubhouse 2 6002 Bur Oak Dr Spring 77379 United States;X-APPLE-RADIUS=500;X-TITLE=6002 Bur Oak Dr:geo:-95.5070911,30.037539
END:VEVENT
BEGIN:VEVENT
DTSTART;TZID=America/Chicago:20231119T090000
DTEND;TZID=America/Chicago:20231119T140000
DTSTAMP:20260423T184839
CREATED:20230328T012811Z
LAST-MODIFIED:20230328T012811Z
UID:10002242-1700384400-1700402400@www.springcreekoaks.org
SUMMARY:SCO Tennis Camp CH2
DESCRIPTION:
URL:https://www.springcreekoaks.org/reservations/sco-tennis-camp-ch2-3/2023-11-19/
LOCATION:Clubhouse 2\, 6002 Bur Oak Dr\, Spring\, 77379\, United States
CATEGORIES:Clubhouses
GEO:30.037539;-95.5070911
X-APPLE-STRUCTURED-LOCATION;VALUE=URI;X-ADDRESS=Clubhouse 2 6002 Bur Oak Dr Spring 77379 United States;X-APPLE-RADIUS=500;X-TITLE=6002 Bur Oak Dr:geo:-95.5070911,30.037539
END:VEVENT
BEGIN:VEVENT
DTSTART;TZID=America/Chicago:20231120T083000
DTEND;TZID=America/Chicago:20231120T100000
DTSTAMP:20260423T184839
CREATED:20230814T130951Z
LAST-MODIFIED:20230814T130951Z
UID:10003579-1700469000-1700474400@www.springcreekoaks.org
SUMMARY:Kuehnle courts 3-4\, Ladies open drill\, tennis pro Danny
DESCRIPTION:
URL:https://www.springcreekoaks.org/reservations/kuehnle-courts-3-4-ladies-open-drill-tennis-pro-danny/2023-11-20/
CATEGORIES:Tennis
END:VEVENT
BEGIN:VEVENT
DTSTART;TZID=America/Chicago:20231120T090000
DTEND;TZID=America/Chicago:20231120T140000
DTSTAMP:20260423T184839
CREATED:20230328T012811Z
LAST-MODIFIED:20230328T012811Z
UID:10002243-1700470800-1700488800@www.springcreekoaks.org
SUMMARY:SCO Tennis Camp CH2
DESCRIPTION:
URL:https://www.springcreekoaks.org/reservations/sco-tennis-camp-ch2-3/2023-11-20/
LOCATION:Clubhouse 2\, 6002 Bur Oak Dr\, Spring\, 77379\, United States
CATEGORIES:Clubhouses
GEO:30.037539;-95.5070911
X-APPLE-STRUCTURED-LOCATION;VALUE=URI;X-ADDRESS=Clubhouse 2 6002 Bur Oak Dr Spring 77379 United States;X-APPLE-RADIUS=500;X-TITLE=6002 Bur Oak Dr:geo:-95.5070911,30.037539
END:VEVENT
BEGIN:VEVENT
DTSTART;TZID=America/Chicago:20231120T100000
DTEND;TZID=America/Chicago:20231120T110000
DTSTAMP:20260423T184839
CREATED:20230814T131112Z
LAST-MODIFIED:20230814T131112Z
UID:10005832-1700474400-1700478000@www.springcreekoaks.org
SUMMARY:Kuehnle courts 3-4\, Intermediate Home School class
DESCRIPTION:
URL:https://www.springcreekoaks.org/reservations/kuehnle-courts-3-4-intermediate-home-school-class/2023-11-20/
CATEGORIES:Tennis
END:VEVENT
BEGIN:VEVENT
DTSTART;TZID=America/Chicago:20231120T170000
DTEND;TZID=America/Chicago:20231120T180000
DTSTAMP:20260423T184839
CREATED:20230814T131224Z
LAST-MODIFIED:20230814T131224Z
UID:10005851-1700499600-1700503200@www.springcreekoaks.org
SUMMARY:Kuehnle courts 3-4\, Orange ball class
DESCRIPTION:
URL:https://www.springcreekoaks.org/reservations/kuehnle-courts-3-4-orange-ball-class/2023-11-20/
CATEGORIES:Tennis
END:VEVENT
BEGIN:VEVENT
DTSTART;TZID=America/Chicago:20231120T180000
DTEND;TZID=America/Chicago:20231120T190000
DTSTAMP:20260423T184839
CREATED:20230814T131344Z
LAST-MODIFIED:20230814T131344Z
UID:10005870-1700503200-1700506800@www.springcreekoaks.org
SUMMARY:Kuehnle courts 3-4\, Yellow ball class
DESCRIPTION:
URL:https://www.springcreekoaks.org/reservations/kuehnle-courts-3-4-yellow-ball-class/2023-11-20/
CATEGORIES:Tennis
END:VEVENT
BEGIN:VEVENT
DTSTART;TZID=America/Chicago:20231120T180000
DTEND;TZID=America/Chicago:20231120T220000
DTSTAMP:20260423T184839
CREATED:20231023T134030Z
LAST-MODIFIED:20231023T134208Z
UID:10003685-1700503200-1700517600@www.springcreekoaks.org
SUMMARY:CH 1 courts 2-3\, Monday night pickleball\, Blackburn
DESCRIPTION:
URL:https://www.springcreekoaks.org/reservations/ch-1-courts-2-3-monday-night-pickleball-blackburn/2023-11-20/
CATEGORIES:Tennis
END:VEVENT
BEGIN:VEVENT
DTSTART;TZID=America/Chicago:20231120T190000
DTEND;TZID=America/Chicago:20231120T200000
DTSTAMP:20260423T184839
CREATED:20230814T131523Z
LAST-MODIFIED:20230814T131523Z
UID:10005889-1700506800-1700510400@www.springcreekoaks.org
SUMMARY:Kuehnle courts 3-4\, Adult drop-in drill\, all levels
DESCRIPTION:
URL:https://www.springcreekoaks.org/reservations/kuehnle-courts-3-4-adult-drop-in-drill-all-levels/2023-11-20/
CATEGORIES:Tennis
END:VEVENT
BEGIN:VEVENT
DTSTART;TZID=America/Chicago:20231121T090000
DTEND;TZID=America/Chicago:20231121T100000
DTSTAMP:20260423T184839
CREATED:20230814T131725Z
LAST-MODIFIED:20230814T131725Z
UID:10005908-1700557200-1700560800@www.springcreekoaks.org
SUMMARY:Kuehnle courts 3-4\, beginner Homeschool class
DESCRIPTION:
URL:https://www.springcreekoaks.org/reservations/kuehnle-courts-3-4-beginner-homeschool-class/2023-11-21/
CATEGORIES:Tennis
END:VEVENT
BEGIN:VEVENT
DTSTART;TZID=America/Chicago:20231121T090000
DTEND;TZID=America/Chicago:20231121T120000
DTSTAMP:20260423T184839
CREATED:20230819T184258Z
LAST-MODIFIED:20230907T224414Z
UID:10006118-1700557200-1700568000@www.springcreekoaks.org
SUMMARY:CH 1 courts 2-3\, Palmer
DESCRIPTION:
URL:https://www.springcreekoaks.org/reservations/ch-1-courts-2-3-pickleball-meet-and-greet-6/2023-11-21/
CATEGORIES:Tennis
END:VEVENT
BEGIN:VEVENT
DTSTART;TZID=America/Chicago:20231121T090000
DTEND;TZID=America/Chicago:20231121T120000
DTSTAMP:20260423T184839
CREATED:20230907T224932Z
LAST-MODIFIED:20230907T224932Z
UID:10006269-1700557200-1700568000@www.springcreekoaks.org
SUMMARY:CH 1 court 1\, Pickleball meet and greet
DESCRIPTION:
URL:https://www.springcreekoaks.org/reservations/ch-1-court-1-pickleball-meet-and-greet-2/2023-11-21/
CATEGORIES:Tennis
END:VEVENT
BEGIN:VEVENT
DTSTART;TZID=America/Chicago:20231121T090000
DTEND;TZID=America/Chicago:20231121T140000
DTSTAMP:20260423T184839
CREATED:20230328T012811Z
LAST-MODIFIED:20230328T012811Z
UID:10002244-1700557200-1700575200@www.springcreekoaks.org
SUMMARY:SCO Tennis Camp CH2
DESCRIPTION:
URL:https://www.springcreekoaks.org/reservations/sco-tennis-camp-ch2-3/2023-11-21/
LOCATION:Clubhouse 2\, 6002 Bur Oak Dr\, Spring\, 77379\, United States
CATEGORIES:Clubhouses
GEO:30.037539;-95.5070911
X-APPLE-STRUCTURED-LOCATION;VALUE=URI;X-ADDRESS=Clubhouse 2 6002 Bur Oak Dr Spring 77379 United States;X-APPLE-RADIUS=500;X-TITLE=6002 Bur Oak Dr:geo:-95.5070911,30.037539
END:VEVENT
BEGIN:VEVENT
DTSTART;TZID=America/Chicago:20231121T100000
DTEND;TZID=America/Chicago:20231121T110000
DTSTAMP:20260423T184839
CREATED:20230814T131902Z
LAST-MODIFIED:20230814T131902Z
UID:10005927-1700560800-1700564400@www.springcreekoaks.org
SUMMARY:Kuehnle courts 3-4\, intermediate homeschool class
DESCRIPTION:
URL:https://www.springcreekoaks.org/reservations/kuehnle-courts-3-4-intermediate-homeschool-class/2023-11-21/
CATEGORIES:Tennis
END:VEVENT
BEGIN:VEVENT
DTSTART;TZID=America/Chicago:20231121T160000
DTEND;TZID=America/Chicago:20231121T170000
DTSTAMP:20260423T184839
CREATED:20230814T132041Z
LAST-MODIFIED:20230814T132041Z
UID:10005946-1700582400-1700586000@www.springcreekoaks.org
SUMMARY:Kuehnle courts 3-4\, Red ball class
DESCRIPTION:
URL:https://www.springcreekoaks.org/reservations/kuehnle-courts-3-4-red-ball-class/2023-11-21/
CATEGORIES:Tennis
END:VEVENT
BEGIN:VEVENT
DTSTART;TZID=America/Chicago:20231121T170000
DTEND;TZID=America/Chicago:20231121T180000
DTSTAMP:20260423T184839
CREATED:20230814T132206Z
LAST-MODIFIED:20230814T132206Z
UID:10005965-1700586000-1700589600@www.springcreekoaks.org
SUMMARY:Kuehnle courts 3-4\, Green ball class
DESCRIPTION:
URL:https://www.springcreekoaks.org/reservations/kuehnle-courts-3-4-green-ball-class/2023-11-21/
CATEGORIES:Tennis
END:VEVENT
BEGIN:VEVENT
DTSTART;TZID=America/Chicago:20231121T180000
DTEND;TZID=America/Chicago:20231121T193000
DTSTAMP:20260423T184839
CREATED:20230814T132345Z
LAST-MODIFIED:20230814T132345Z
UID:10005984-1700589600-1700595000@www.springcreekoaks.org
SUMMARY:Kuehnle courts 3-4\, Yellow ball class
DESCRIPTION:
URL:https://www.springcreekoaks.org/reservations/kuehnle-courts-3-4-yellow-ball-class-2/2023-11-21/
CATEGORIES:Tennis
END:VEVENT
BEGIN:VEVENT
DTSTART;TZID=America/Chicago:20231121T180000
DTEND;TZID=America/Chicago:20231121T220000
DTSTAMP:20260423T184839
CREATED:20230830T121940Z
LAST-MODIFIED:20230915T171226Z
UID:10006218-1700589600-1700604000@www.springcreekoaks.org
SUMMARY:CH 1\, courts 2-3\, Junek
DESCRIPTION:
URL:https://www.springcreekoaks.org/reservations/ch-1-courts-2-3-junek/2023-11-21/
CATEGORIES:Tennis
END:VEVENT
BEGIN:VEVENT
DTSTART;TZID=America/Chicago:20231121T190000
DTEND;TZID=America/Chicago:20231121T220000
DTSTAMP:20260423T184839
CREATED:20231121T142256Z
LAST-MODIFIED:20231121T142256Z
UID:10006353-1700593200-1700604000@www.springcreekoaks.org
SUMMARY:CH 2 courts 1-3\, ladies Monday night league rain makeup
DESCRIPTION:
URL:https://www.springcreekoaks.org/reservations/ch-2-courts-1-3-ladies-monday-night-league-rain-makeup/
CATEGORIES:Tennis
END:VEVENT
BEGIN:VEVENT
DTSTART;TZID=America/Chicago:20231122T090000
DTEND;TZID=America/Chicago:20231122T100000
DTSTAMP:20260423T184839
CREATED:20230814T132524Z
LAST-MODIFIED:20230814T132524Z
UID:10006003-1700643600-1700647200@www.springcreekoaks.org
SUMMARY:Kuehnle courts 3-4\, intermediate homeschool class
DESCRIPTION:
URL:https://www.springcreekoaks.org/reservations/kuehnle-courts-3-4-intermediate-homeschool-class-2/2023-11-22/
CATEGORIES:Tennis
END:VEVENT
BEGIN:VEVENT
DTSTART;TZID=America/Chicago:20231122T090000
DTEND;TZID=America/Chicago:20231122T120000
DTSTAMP:20260423T184839
CREATED:20221227T222834Z
LAST-MODIFIED:20221227T222834Z
UID:10005254-1700643600-1700654400@www.springcreekoaks.org
SUMMARY:CH 1 courts 2-3\, Hudson
DESCRIPTION:
URL:https://www.springcreekoaks.org/reservations/ch-1-courts-2-3-hudson/2023-11-22/
CATEGORIES:Tennis
END:VEVENT
BEGIN:VEVENT
DTSTART;TZID=America/Chicago:20231122T090000
DTEND;TZID=America/Chicago:20231122T140000
DTSTAMP:20260423T184839
CREATED:20230328T012811Z
LAST-MODIFIED:20230328T012811Z
UID:10002245-1700643600-1700661600@www.springcreekoaks.org
SUMMARY:SCO Tennis Camp CH2
DESCRIPTION:
URL:https://www.springcreekoaks.org/reservations/sco-tennis-camp-ch2-3/2023-11-22/
LOCATION:Clubhouse 2\, 6002 Bur Oak Dr\, Spring\, 77379\, United States
CATEGORIES:Clubhouses
GEO:30.037539;-95.5070911
X-APPLE-STRUCTURED-LOCATION;VALUE=URI;X-ADDRESS=Clubhouse 2 6002 Bur Oak Dr Spring 77379 United States;X-APPLE-RADIUS=500;X-TITLE=6002 Bur Oak Dr:geo:-95.5070911,30.037539
END:VEVENT
BEGIN:VEVENT
DTSTART;TZID=America/Chicago:20231122T170000
DTEND;TZID=America/Chicago:20231122T180000
DTSTAMP:20260423T184839
CREATED:20230814T132653Z
LAST-MODIFIED:20230814T132653Z
UID:10006022-1700672400-1700676000@www.springcreekoaks.org
SUMMARY:Kuehnle courts 3-4\, Orange ball class
DESCRIPTION:
URL:https://www.springcreekoaks.org/reservations/kuehnle-courts-3-4-orange-ball-class-2/2023-11-22/
CATEGORIES:Tennis
END:VEVENT
BEGIN:VEVENT
DTSTART;TZID=America/Chicago:20231122T173000
DTEND;TZID=America/Chicago:20231122T193000
DTSTAMP:20260423T184839
CREATED:20231012T150149Z
LAST-MODIFIED:20231013T150253Z
UID:10006328-1700674200-1700681400@www.springcreekoaks.org
SUMMARY:Christensen
DESCRIPTION:
URL:https://www.springcreekoaks.org/reservations/christensen/2023-11-22/
LOCATION:Small Soccer Field (CH 2)
CATEGORIES:Soccer Fields
END:VEVENT
BEGIN:VEVENT
DTSTART;TZID=America/Chicago:20231122T180000
DTEND;TZID=America/Chicago:20231122T190000
DTSTAMP:20260423T184839
CREATED:20230814T132829Z
LAST-MODIFIED:20230814T132829Z
UID:10006041-1700676000-1700679600@www.springcreekoaks.org
SUMMARY:Kuehnle courts 3-4\, Yellow ball class
DESCRIPTION:
URL:https://www.springcreekoaks.org/reservations/kuehnle-courts-3-4-yellow-ball-class-3/2023-11-22/
CATEGORIES:Tennis
END:VEVENT
BEGIN:VEVENT
DTSTART;TZID=America/Chicago:20231122T180000
DTEND;TZID=America/Chicago:20231122T200000
DTSTAMP:20260423T184839
CREATED:20200805T160749Z
LAST-MODIFIED:20200805T161100Z
UID:10001462-1700676000-1700683200@www.springcreekoaks.org
SUMMARY:CIFUENTES (Big Soccer Field)
DESCRIPTION:
URL:https://www.springcreekoaks.org/reservations/cifuentes-open-play-big-soccer-field/2023-11-22/
CATEGORIES:Soccer Fields
END:VEVENT
BEGIN:VEVENT
DTSTART;TZID=America/Chicago:20231123T070000
DTEND;TZID=America/Chicago:20231123T120000
DTSTAMP:20260423T184839
CREATED:20231009T154814Z
LAST-MODIFIED:20231115T125640Z
UID:10000410-1700722800-1700740800@www.springcreekoaks.org
SUMMARY:Guzmann (BILMA Field)
DESCRIPTION:
URL:https://www.springcreekoaks.org/reservations/guzmann/
LOCATION:Large Soccer Field (Bilma)\, United States
CATEGORIES:Soccer Fields
END:VEVENT
BEGIN:VEVENT
DTSTART;TZID=America/Chicago:20231123T080000
DTEND;TZID=America/Chicago:20231123T123000
DTSTAMP:20260423T184839
CREATED:20231115T125120Z
LAST-MODIFIED:20231115T125806Z
UID:10006347-1700726400-1700742600@www.springcreekoaks.org
SUMMARY:Hart (Pool Field)
DESCRIPTION:
URL:https://www.springcreekoaks.org/reservations/hart-2/
LOCATION:Small Soccer Field (CH 2)
CATEGORIES:Soccer Fields
END:VEVENT
BEGIN:VEVENT
DTSTART;TZID=America/Chicago:20231123T080000
DTEND;TZID=America/Chicago:20231123T123000
DTSTAMP:20260423T184839
CREATED:20231115T125155Z
LAST-MODIFIED:20231115T125155Z
UID:10001046-1700726400-1700742600@www.springcreekoaks.org
SUMMARY:Hart - Field 4
DESCRIPTION:
URL:https://www.springcreekoaks.org/reservations/hart-field-4/
LOCATION:Baseball Field 4\, United States
CATEGORIES:Baseball Fields
END:VEVENT
BEGIN:VEVENT
DTSTART;TZID=America/Chicago:20231123T090000
DTEND;TZID=America/Chicago:20231123T110000
DTSTAMP:20260423T184839
CREATED:20230821T190739Z
LAST-MODIFIED:20230821T190739Z
UID:10006151-1700730000-1700737200@www.springcreekoaks.org
SUMMARY:Kuehnle courts 3-4\, Homeschool classes
DESCRIPTION:
URL:https://www.springcreekoaks.org/reservations/kuehnle-courts-3-4-homeschool-classes-2/2023-11-23/
CATEGORIES:Tennis
END:VEVENT
END:VCALENDAR