BEGIN:VCALENDAR
VERSION:2.0
PRODID:-//Spring Creek Oaks - ECPv6.15.20//NONSGML v1.0//EN
CALSCALE:GREGORIAN
METHOD:PUBLISH
X-ORIGINAL-URL:https://www.springcreekoaks.org
X-WR-CALDESC:Events for Spring Creek Oaks
REFRESH-INTERVAL;VALUE=DURATION:PT1H
X-Robots-Tag:noindex
X-PUBLISHED-TTL:PT1H
BEGIN:VTIMEZONE
TZID:America/Chicago
BEGIN:DAYLIGHT
TZOFFSETFROM:-0600
TZOFFSETTO:-0500
TZNAME:CDT
DTSTART:20220313T080000
END:DAYLIGHT
BEGIN:STANDARD
TZOFFSETFROM:-0500
TZOFFSETTO:-0600
TZNAME:CST
DTSTART:20221106T070000
END:STANDARD
BEGIN:DAYLIGHT
TZOFFSETFROM:-0600
TZOFFSETTO:-0500
TZNAME:CDT
DTSTART:20230312T080000
END:DAYLIGHT
BEGIN:STANDARD
TZOFFSETFROM:-0500
TZOFFSETTO:-0600
TZNAME:CST
DTSTART:20231105T070000
END:STANDARD
BEGIN:DAYLIGHT
TZOFFSETFROM:-0600
TZOFFSETTO:-0500
TZNAME:CDT
DTSTART:20240310T080000
END:DAYLIGHT
BEGIN:STANDARD
TZOFFSETFROM:-0500
TZOFFSETTO:-0600
TZNAME:CST
DTSTART:20241103T070000
END:STANDARD
END:VTIMEZONE
BEGIN:VEVENT
DTSTART;TZID=America/Chicago:20231109T090000
DTEND;TZID=America/Chicago:20231109T110000
DTSTAMP:20260423T184952
CREATED:20230821T190739Z
LAST-MODIFIED:20230821T190739Z
UID:10006149-1699520400-1699527600@www.springcreekoaks.org
SUMMARY:Kuehnle courts 3-4\, Homeschool classes
DESCRIPTION:
URL:https://www.springcreekoaks.org/reservations/kuehnle-courts-3-4-homeschool-classes-2/2023-11-09/
CATEGORIES:Tennis
END:VEVENT
BEGIN:VEVENT
DTSTART;TZID=America/Chicago:20231109T090000
DTEND;TZID=America/Chicago:20231109T120000
DTSTAMP:20260423T184952
CREATED:20230819T184409Z
LAST-MODIFIED:20230907T224257Z
UID:10006133-1699520400-1699531200@www.springcreekoaks.org
SUMMARY:CH 1 courts 2-3\, Palmer
DESCRIPTION:
URL:https://www.springcreekoaks.org/reservations/ch-1-courts-2-3-pickleball-meet-and-greet-7/2023-11-09/
CATEGORIES:Tennis
END:VEVENT
BEGIN:VEVENT
DTSTART;TZID=America/Chicago:20231109T090000
DTEND;TZID=America/Chicago:20231109T120000
DTSTAMP:20260423T184952
CREATED:20230907T225043Z
LAST-MODIFIED:20230907T225043Z
UID:10006283-1699520400-1699531200@www.springcreekoaks.org
SUMMARY:CH 1 court 1\, Pickleball meet and greet
DESCRIPTION:
URL:https://www.springcreekoaks.org/reservations/ch-1-court-1-pickleball-meet-and-greet-3/2023-11-09/
CATEGORIES:Tennis
END:VEVENT
BEGIN:VEVENT
DTSTART;TZID=America/Chicago:20231109T090000
DTEND;TZID=America/Chicago:20231109T140000
DTSTAMP:20260423T184952
CREATED:20230328T012811Z
LAST-MODIFIED:20230328T012811Z
UID:10002232-1699520400-1699538400@www.springcreekoaks.org
SUMMARY:SCO Tennis Camp CH2
DESCRIPTION:
URL:https://www.springcreekoaks.org/reservations/sco-tennis-camp-ch2-3/2023-11-09/
LOCATION:Clubhouse 2\, 6002 Bur Oak Dr\, Spring\, 77379\, United States
CATEGORIES:Clubhouses
GEO:30.037539;-95.5070911
X-APPLE-STRUCTURED-LOCATION;VALUE=URI;X-ADDRESS=Clubhouse 2 6002 Bur Oak Dr Spring 77379 United States;X-APPLE-RADIUS=500;X-TITLE=6002 Bur Oak Dr:geo:-95.5070911,30.037539
END:VEVENT
BEGIN:VEVENT
DTSTART;TZID=America/Chicago:20231109T160000
DTEND;TZID=America/Chicago:20231109T200000
DTSTAMP:20260423T184952
CREATED:20230703T125024Z
LAST-MODIFIED:20230703T125024Z
UID:10003537-1699545600-1699560000@www.springcreekoaks.org
SUMMARY:Field 2 - Texas Havoc - 12U
DESCRIPTION:
URL:https://www.springcreekoaks.org/reservations/field-2-texas-havoc-12u/2023-11-09/
LOCATION:Baseball Field 2\, United States
CATEGORIES:Baseball Fields
END:VEVENT
BEGIN:VEVENT
DTSTART;TZID=America/Chicago:20231109T160000
DTEND;TZID=America/Chicago:20231109T200000
DTSTAMP:20260423T184952
CREATED:20230711T214850Z
LAST-MODIFIED:20230711T214850Z
UID:10001244-1699545600-1699560000@www.springcreekoaks.org
SUMMARY:Field 4 - Eagles - 9U
DESCRIPTION:
URL:https://www.springcreekoaks.org/reservations/field-4-eagles-9u/2023-11-09/
LOCATION:Baseball Field 4\, United States
CATEGORIES:Baseball Fields
END:VEVENT
BEGIN:VEVENT
DTSTART;TZID=America/Chicago:20231109T160000
DTEND;TZID=America/Chicago:20231109T200000
DTSTAMP:20260423T184952
CREATED:20230726T111506Z
LAST-MODIFIED:20230726T111506Z
UID:10001278-1699545600-1699560000@www.springcreekoaks.org
SUMMARY:Field 3 - Young Guns - 12U
DESCRIPTION:
URL:https://www.springcreekoaks.org/reservations/field-3-young-guns-12u/2023-11-09/
LOCATION:Baseball Field 3\, United States
CATEGORIES:Baseball Fields
END:VEVENT
BEGIN:VEVENT
DTSTART;TZID=America/Chicago:20231109T160000
DTEND;TZID=America/Chicago:20231109T200000
DTSTAMP:20260423T184952
CREATED:20230801T112237Z
LAST-MODIFIED:20230801T112237Z
UID:10005813-1699545600-1699560000@www.springcreekoaks.org
SUMMARY:Field 1 - Coyotes - 12U
DESCRIPTION:
URL:https://www.springcreekoaks.org/reservations/field-1-coyotes-12u-2/2023-11-09/
LOCATION:Baseball Field 1\, United States
CATEGORIES:Baseball Fields
END:VEVENT
BEGIN:VEVENT
DTSTART;TZID=America/Chicago:20231109T170000
DTEND;TZID=America/Chicago:20231109T180000
DTSTAMP:20260423T184952
CREATED:20230814T132947Z
LAST-MODIFIED:20230814T132947Z
UID:10006058-1699549200-1699552800@www.springcreekoaks.org
SUMMARY:Kuehnle courts 3-4\, Orange ball class
DESCRIPTION:
URL:https://www.springcreekoaks.org/reservations/kuehnle-courts-3-4-orange-ball-class-3/2023-11-09/
CATEGORIES:Tennis
END:VEVENT
BEGIN:VEVENT
DTSTART;TZID=America/Chicago:20231109T173000
DTEND;TZID=America/Chicago:20231109T193000
DTSTAMP:20260423T184952
CREATED:20231012T150149Z
LAST-MODIFIED:20231013T150253Z
UID:10006325-1699551000-1699558200@www.springcreekoaks.org
SUMMARY:Christensen
DESCRIPTION:
URL:https://www.springcreekoaks.org/reservations/christensen/2023-11-09/
LOCATION:Small Soccer Field (CH 2)
CATEGORIES:Soccer Fields
END:VEVENT
BEGIN:VEVENT
DTSTART;TZID=America/Chicago:20231109T180000
DTEND;TZID=America/Chicago:20231109T193000
DTSTAMP:20260423T184952
CREATED:20230814T133101Z
LAST-MODIFIED:20230814T133101Z
UID:10006077-1699552800-1699558200@www.springcreekoaks.org
SUMMARY:Kuehnle courts 3-4\, Yellow ball class
DESCRIPTION:
URL:https://www.springcreekoaks.org/reservations/kuehnle-courts-3-4-yellow-ball-class-4/2023-11-09/
CATEGORIES:Tennis
END:VEVENT
BEGIN:VEVENT
DTSTART;TZID=America/Chicago:20231109T190000
DTEND;TZID=America/Chicago:20231109T223000
DTSTAMP:20260423T184952
CREATED:20230909T134422Z
LAST-MODIFIED:20230909T134422Z
UID:10003680-1699556400-1699569000@www.springcreekoaks.org
SUMMARY:CH 2 courts 1-6\, Men’s league C team
DESCRIPTION:
URL:https://www.springcreekoaks.org/reservations/ch-2-courts-1-6-mens-league-c-team-5/2023-11-09/
CATEGORIES:Tennis
END:VEVENT
BEGIN:VEVENT
DTSTART;TZID=America/Chicago:20231109T193000
DTEND;TZID=America/Chicago:20231109T220000
DTSTAMP:20260423T184952
CREATED:20230911T200317Z
LAST-MODIFIED:20230911T200317Z
UID:10003645-1699558200-1699567200@www.springcreekoaks.org
SUMMARY:CH 1 courts 2-3 (Pickleball)\, Guzman
DESCRIPTION:
URL:https://www.springcreekoaks.org/reservations/ch-1-courts-2-3-pickleball-guzman/2023-11-09/
CATEGORIES:Tennis
END:VEVENT
BEGIN:VEVENT
DTSTART;TZID=America/Chicago:20231110T083000
DTEND;TZID=America/Chicago:20231110T120000
DTSTAMP:20260423T184952
CREATED:20230823T110731Z
LAST-MODIFIED:20230824T003257Z
UID:10006179-1699605000-1699617600@www.springcreekoaks.org
SUMMARY:Kuehnle courts 1-4\, JR Open 1
DESCRIPTION:
URL:https://www.springcreekoaks.org/reservations/kuehnle-courts-1-4-jr-open-1/2023-11-10/
CATEGORIES:Tennis
END:VEVENT
BEGIN:VEVENT
DTSTART;TZID=America/Chicago:20231110T083000
DTEND;TZID=America/Chicago:20231110T120000
DTSTAMP:20260423T184952
CREATED:20230831T172429Z
LAST-MODIFIED:20230831T172429Z
UID:10006229-1699605000-1699617600@www.springcreekoaks.org
SUMMARY:CH 2 courts 1-4\, JR Open champ 2
DESCRIPTION:
URL:https://www.springcreekoaks.org/reservations/ch-2-courts-1-4-jr-open-champ-2-2/2023-11-10/
CATEGORIES:Tennis
END:VEVENT
BEGIN:VEVENT
DTSTART;TZID=America/Chicago:20231110T090000
DTEND;TZID=America/Chicago:20231110T140000
DTSTAMP:20260423T184952
CREATED:20230328T012811Z
LAST-MODIFIED:20230328T012811Z
UID:10002233-1699606800-1699624800@www.springcreekoaks.org
SUMMARY:SCO Tennis Camp CH2
DESCRIPTION:
URL:https://www.springcreekoaks.org/reservations/sco-tennis-camp-ch2-3/2023-11-10/
LOCATION:Clubhouse 2\, 6002 Bur Oak Dr\, Spring\, 77379\, United States
CATEGORIES:Clubhouses
GEO:30.037539;-95.5070911
X-APPLE-STRUCTURED-LOCATION;VALUE=URI;X-ADDRESS=Clubhouse 2 6002 Bur Oak Dr Spring 77379 United States;X-APPLE-RADIUS=500;X-TITLE=6002 Bur Oak Dr:geo:-95.5070911,30.037539
END:VEVENT
BEGIN:VEVENT
DTSTART;TZID=America/Chicago:20231110T180000
DTEND;TZID=America/Chicago:20231110T190000
DTSTAMP:20260423T184952
CREATED:20230814T133222Z
LAST-MODIFIED:20230814T133222Z
UID:10006096-1699639200-1699642800@www.springcreekoaks.org
SUMMARY:Kuehnle courts 3-4\, Yellow ball class
DESCRIPTION:
URL:https://www.springcreekoaks.org/reservations/kuehnle-courts-3-4-yellow-ball-class-5/2023-11-10/
CATEGORIES:Tennis
END:VEVENT
BEGIN:VEVENT
DTSTART;VALUE=DATE:20231111
DTEND;VALUE=DATE:20231112
DTSTAMP:20260423T184952
CREATED:20230922T015835Z
LAST-MODIFIED:20230922T015835Z
UID:10006309-1699660800-1699747199@www.springcreekoaks.org
SUMMARY:Cash CH2
DESCRIPTION:
URL:https://www.springcreekoaks.org/reservations/cash-ch2/
CATEGORIES:Clubhouses
END:VEVENT
BEGIN:VEVENT
DTSTART;VALUE=DATE:20231111
DTEND;VALUE=DATE:20231112
DTSTAMP:20260423T184952
CREATED:20230928T025732Z
LAST-MODIFIED:20230928T025732Z
UID:10006311-1699660800-1699747199@www.springcreekoaks.org
SUMMARY:Cash CH2
DESCRIPTION:
URL:https://www.springcreekoaks.org/reservations/cash-ch2-2/
LOCATION:Clubhouse 2\, 6002 Bur Oak Dr\, Spring\, 77379\, United States
CATEGORIES:Clubhouses
GEO:30.037539;-95.5070911
X-APPLE-STRUCTURED-LOCATION;VALUE=URI;X-ADDRESS=Clubhouse 2 6002 Bur Oak Dr Spring 77379 United States;X-APPLE-RADIUS=500;X-TITLE=6002 Bur Oak Dr:geo:-95.5070911,30.037539
END:VEVENT
BEGIN:VEVENT
DTSTART;VALUE=DATE:20231111
DTEND;VALUE=DATE:20231112
DTSTAMP:20260423T184952
CREATED:20231102T153813Z
LAST-MODIFIED:20231102T153813Z
UID:10006343-1699660800-1699747199@www.springcreekoaks.org
SUMMARY:Nettle CH1
DESCRIPTION:
URL:https://www.springcreekoaks.org/reservations/nettle-ch1/
LOCATION:Clubhouse 1\, 17111 Misty Creek\, Spring\, TX\, 77379\, United States
CATEGORIES:Clubhouses
GEO:30.0346602;-95.5117522
X-APPLE-STRUCTURED-LOCATION;VALUE=URI;X-ADDRESS=Clubhouse 1 17111 Misty Creek Spring TX 77379 United States;X-APPLE-RADIUS=500;X-TITLE=17111 Misty Creek:geo:-95.5117522,30.0346602
END:VEVENT
BEGIN:VEVENT
DTSTART;TZID=America/Chicago:20231111T080000
DTEND;TZID=America/Chicago:20231111T100000
DTSTAMP:20260423T184952
CREATED:20220407T142613Z
LAST-MODIFIED:20231115T201658Z
UID:10004628-1699689600-1699696800@www.springcreekoaks.org
SUMMARY:SCO weekly pickup game (LLERENA)
DESCRIPTION:All SCO residents are invited to play and have some fun.
URL:https://www.springcreekoaks.org/reservations/llerenas-soccer-practice/2023-11-11/
LOCATION:Large Soccer Field (Bilma)\, United States
CATEGORIES:Soccer Fields
END:VEVENT
BEGIN:VEVENT
DTSTART;TZID=America/Chicago:20231111T080000
DTEND;TZID=America/Chicago:20231111T110000
DTSTAMP:20260423T184952
CREATED:20230801T112011Z
LAST-MODIFIED:20230801T112011Z
UID:10003453-1699689600-1699700400@www.springcreekoaks.org
SUMMARY:Field 1 - Coyotes - 12U
DESCRIPTION:
URL:https://www.springcreekoaks.org/reservations/field-1-coyotes-12u/2023-11-11/
LOCATION:Baseball Field 1\, United States
CATEGORIES:Baseball Fields
END:VEVENT
BEGIN:VEVENT
DTSTART;TZID=America/Chicago:20231111T090000
DTEND;TZID=America/Chicago:20231111T120000
DTSTAMP:20260423T184952
CREATED:20230819T184138Z
LAST-MODIFIED:20230907T224528Z
UID:10003415-1699693200-1699704000@www.springcreekoaks.org
SUMMARY:CH 1 courts 2-3\, Palmer
DESCRIPTION:
URL:https://www.springcreekoaks.org/reservations/ch-1-courts-2-3-pickleball-meet-and-greet-5/2023-11-11/
CATEGORIES:Tennis
END:VEVENT
BEGIN:VEVENT
DTSTART;TZID=America/Chicago:20231111T090000
DTEND;TZID=America/Chicago:20231111T120000
DTSTAMP:20260423T184952
CREATED:20230907T224820Z
LAST-MODIFIED:20230907T224820Z
UID:10006251-1699693200-1699704000@www.springcreekoaks.org
SUMMARY:CH 1 court 1\, Pickleball meet and greet
DESCRIPTION:
URL:https://www.springcreekoaks.org/reservations/ch-1-court-1-pickleball-meet-and-greet/2023-11-11/
CATEGORIES:Tennis
END:VEVENT
BEGIN:VEVENT
DTSTART;TZID=America/Chicago:20231111T090000
DTEND;TZID=America/Chicago:20231111T140000
DTSTAMP:20260423T184952
CREATED:20230328T012811Z
LAST-MODIFIED:20230328T012811Z
UID:10002234-1699693200-1699711200@www.springcreekoaks.org
SUMMARY:SCO Tennis Camp CH2
DESCRIPTION:
URL:https://www.springcreekoaks.org/reservations/sco-tennis-camp-ch2-3/2023-11-11/
LOCATION:Clubhouse 2\, 6002 Bur Oak Dr\, Spring\, 77379\, United States
CATEGORIES:Clubhouses
GEO:30.037539;-95.5070911
X-APPLE-STRUCTURED-LOCATION;VALUE=URI;X-ADDRESS=Clubhouse 2 6002 Bur Oak Dr Spring 77379 United States;X-APPLE-RADIUS=500;X-TITLE=6002 Bur Oak Dr:geo:-95.5070911,30.037539
END:VEVENT
BEGIN:VEVENT
DTSTART;TZID=America/Chicago:20231112T090000
DTEND;TZID=America/Chicago:20231112T140000
DTSTAMP:20260423T184952
CREATED:20230328T012811Z
LAST-MODIFIED:20230328T012811Z
UID:10002235-1699779600-1699797600@www.springcreekoaks.org
SUMMARY:SCO Tennis Camp CH2
DESCRIPTION:
URL:https://www.springcreekoaks.org/reservations/sco-tennis-camp-ch2-3/2023-11-12/
LOCATION:Clubhouse 2\, 6002 Bur Oak Dr\, Spring\, 77379\, United States
CATEGORIES:Clubhouses
GEO:30.037539;-95.5070911
X-APPLE-STRUCTURED-LOCATION;VALUE=URI;X-ADDRESS=Clubhouse 2 6002 Bur Oak Dr Spring 77379 United States;X-APPLE-RADIUS=500;X-TITLE=6002 Bur Oak Dr:geo:-95.5070911,30.037539
END:VEVENT
BEGIN:VEVENT
DTSTART;TZID=America/Chicago:20231112T100000
DTEND;TZID=America/Chicago:20231112T120000
DTSTAMP:20260423T184952
CREATED:20231109T191034Z
LAST-MODIFIED:20231109T191034Z
UID:10003118-1699783200-1699790400@www.springcreekoaks.org
SUMMARY:CH 1 court 3\, Mason
DESCRIPTION:
URL:https://www.springcreekoaks.org/reservations/ch-1-court-3-mason-5/
CATEGORIES:Tennis
END:VEVENT
BEGIN:VEVENT
DTSTART;TZID=America/Chicago:20231112T130000
DTEND;TZID=America/Chicago:20231112T170000
DTSTAMP:20260423T184952
CREATED:20230923T010808Z
LAST-MODIFIED:20230923T010808Z
UID:10003966-1699794000-1699808400@www.springcreekoaks.org
SUMMARY:NCL 2028 CH2
DESCRIPTION:
URL:https://www.springcreekoaks.org/reservations/ncl-2028-ch2/
LOCATION:Clubhouse 2\, 6002 Bur Oak Dr\, Spring\, 77379\, United States
CATEGORIES:Clubhouses
GEO:30.037539;-95.5070911
X-APPLE-STRUCTURED-LOCATION;VALUE=URI;X-ADDRESS=Clubhouse 2 6002 Bur Oak Dr Spring 77379 United States;X-APPLE-RADIUS=500;X-TITLE=6002 Bur Oak Dr:geo:-95.5070911,30.037539
END:VEVENT
BEGIN:VEVENT
DTSTART;TZID=America/Chicago:20231113T083000
DTEND;TZID=America/Chicago:20231113T100000
DTSTAMP:20260423T184952
CREATED:20230814T130951Z
LAST-MODIFIED:20230814T130951Z
UID:10003578-1699864200-1699869600@www.springcreekoaks.org
SUMMARY:Kuehnle courts 3-4\, Ladies open drill\, tennis pro Danny
DESCRIPTION:
URL:https://www.springcreekoaks.org/reservations/kuehnle-courts-3-4-ladies-open-drill-tennis-pro-danny/2023-11-13/
CATEGORIES:Tennis
END:VEVENT
BEGIN:VEVENT
DTSTART;TZID=America/Chicago:20231113T090000
DTEND;TZID=America/Chicago:20231113T140000
DTSTAMP:20260423T184952
CREATED:20230328T012811Z
LAST-MODIFIED:20230328T012811Z
UID:10002236-1699866000-1699884000@www.springcreekoaks.org
SUMMARY:SCO Tennis Camp CH2
DESCRIPTION:
URL:https://www.springcreekoaks.org/reservations/sco-tennis-camp-ch2-3/2023-11-13/
LOCATION:Clubhouse 2\, 6002 Bur Oak Dr\, Spring\, 77379\, United States
CATEGORIES:Clubhouses
GEO:30.037539;-95.5070911
X-APPLE-STRUCTURED-LOCATION;VALUE=URI;X-ADDRESS=Clubhouse 2 6002 Bur Oak Dr Spring 77379 United States;X-APPLE-RADIUS=500;X-TITLE=6002 Bur Oak Dr:geo:-95.5070911,30.037539
END:VEVENT
END:VCALENDAR