BEGIN:VCALENDAR
VERSION:2.0
PRODID:-//Spring Creek Oaks - ECPv6.15.20//NONSGML v1.0//EN
CALSCALE:GREGORIAN
METHOD:PUBLISH
X-ORIGINAL-URL:https://www.springcreekoaks.org
X-WR-CALDESC:Events for Spring Creek Oaks
REFRESH-INTERVAL;VALUE=DURATION:PT1H
X-Robots-Tag:noindex
X-PUBLISHED-TTL:PT1H
BEGIN:VTIMEZONE
TZID:America/Chicago
BEGIN:DAYLIGHT
TZOFFSETFROM:-0600
TZOFFSETTO:-0500
TZNAME:CDT
DTSTART:20220313T080000
END:DAYLIGHT
BEGIN:STANDARD
TZOFFSETFROM:-0500
TZOFFSETTO:-0600
TZNAME:CST
DTSTART:20221106T070000
END:STANDARD
BEGIN:DAYLIGHT
TZOFFSETFROM:-0600
TZOFFSETTO:-0500
TZNAME:CDT
DTSTART:20230312T080000
END:DAYLIGHT
BEGIN:STANDARD
TZOFFSETFROM:-0500
TZOFFSETTO:-0600
TZNAME:CST
DTSTART:20231105T070000
END:STANDARD
BEGIN:DAYLIGHT
TZOFFSETFROM:-0600
TZOFFSETTO:-0500
TZNAME:CDT
DTSTART:20240310T080000
END:DAYLIGHT
BEGIN:STANDARD
TZOFFSETFROM:-0500
TZOFFSETTO:-0600
TZNAME:CST
DTSTART:20241103T070000
END:STANDARD
END:VTIMEZONE
BEGIN:VEVENT
DTSTART;TZID=America/Chicago:20231020T083000
DTEND;TZID=America/Chicago:20231020T120000
DTSTAMP:20260425T085006
CREATED:20230823T110257Z
LAST-MODIFIED:20230823T110257Z
UID:10006171-1697790600-1697803200@www.springcreekoaks.org
SUMMARY:Kuehnle courts 1-4\, JR B3
DESCRIPTION:
URL:https://www.springcreekoaks.org/reservations/kuehnle-courts-1-4-jr-b3-2/
LOCATION:TX
CATEGORIES:Tennis
END:VEVENT
BEGIN:VEVENT
DTSTART;TZID=America/Chicago:20231020T083000
DTEND;TZID=America/Chicago:20231020T120000
DTSTAMP:20260425T085006
CREATED:20230831T172429Z
LAST-MODIFIED:20230831T172429Z
UID:10006228-1697790600-1697803200@www.springcreekoaks.org
SUMMARY:CH 2 courts 1-4\, JR Open champ 2
DESCRIPTION:
URL:https://www.springcreekoaks.org/reservations/ch-2-courts-1-4-jr-open-champ-2-2/2023-10-20/
LOCATION:TX
CATEGORIES:Tennis
END:VEVENT
BEGIN:VEVENT
DTSTART;TZID=America/Chicago:20231020T090000
DTEND;TZID=America/Chicago:20231020T140000
DTSTAMP:20260425T085006
CREATED:20230328T012811Z
LAST-MODIFIED:20230328T012811Z
UID:10002212-1697792400-1697810400@www.springcreekoaks.org
SUMMARY:SCO Tennis Camp CH2
DESCRIPTION:
URL:https://www.springcreekoaks.org/reservations/sco-tennis-camp-ch2-3/2023-10-20/
LOCATION:Clubhouse 2\, 6002 Bur Oak Dr\, Spring\, 77379\, United States
CATEGORIES:Clubhouses
GEO:30.037539;-95.5070911
X-APPLE-STRUCTURED-LOCATION;VALUE=URI;X-ADDRESS=Clubhouse 2 6002 Bur Oak Dr Spring 77379 United States;X-APPLE-RADIUS=500;X-TITLE=6002 Bur Oak Dr:geo:-95.5070911,30.037539
END:VEVENT
BEGIN:VEVENT
DTSTART;TZID=America/Chicago:20231020T180000
DTEND;TZID=America/Chicago:20231020T190000
DTSTAMP:20260425T085006
CREATED:20230814T133222Z
LAST-MODIFIED:20230814T133222Z
UID:10006093-1697824800-1697828400@www.springcreekoaks.org
SUMMARY:Kuehnle courts 3-4\, Yellow ball class
DESCRIPTION:
URL:https://www.springcreekoaks.org/reservations/kuehnle-courts-3-4-yellow-ball-class-5/2023-10-20/
LOCATION:TX
CATEGORIES:Tennis
END:VEVENT
BEGIN:VEVENT
DTSTART;VALUE=DATE:20231021
DTEND;VALUE=DATE:20231022
DTSTAMP:20260425T085006
CREATED:20230819T180802Z
LAST-MODIFIED:20231018T003704Z
UID:10003432-1697846400-1697932799@www.springcreekoaks.org
SUMMARY:Kelm CH1
DESCRIPTION:
URL:https://www.springcreekoaks.org/reservations/palmer-ch1/
LOCATION:Clubhouse 1\, 17111 Misty Creek\, Spring\, TX\, 77379\, United States
CATEGORIES:Clubhouses
GEO:30.0346602;-95.5117522
X-APPLE-STRUCTURED-LOCATION;VALUE=URI;X-ADDRESS=Clubhouse 1 17111 Misty Creek Spring TX 77379 United States;X-APPLE-RADIUS=500;X-TITLE=17111 Misty Creek:geo:-95.5117522,30.0346602
END:VEVENT
BEGIN:VEVENT
DTSTART;VALUE=DATE:20231021
DTEND;VALUE=DATE:20231022
DTSTAMP:20260425T085006
CREATED:20230901T020051Z
LAST-MODIFIED:20230901T020051Z
UID:10006224-1697846400-1697932799@www.springcreekoaks.org
SUMMARY:Shepherd  CH2
DESCRIPTION:
URL:https://www.springcreekoaks.org/reservations/shepherd-ch2/
LOCATION:Clubhouse 2\, 6002 Bur Oak Dr\, Spring\, 77379\, United States
CATEGORIES:Clubhouses
GEO:30.037539;-95.5070911
X-APPLE-STRUCTURED-LOCATION;VALUE=URI;X-ADDRESS=Clubhouse 2 6002 Bur Oak Dr Spring 77379 United States;X-APPLE-RADIUS=500;X-TITLE=6002 Bur Oak Dr:geo:-95.5070911,30.037539
END:VEVENT
BEGIN:VEVENT
DTSTART;TZID=America/Chicago:20231021T080000
DTEND;TZID=America/Chicago:20231021T100000
DTSTAMP:20260425T085006
CREATED:20220407T142613Z
LAST-MODIFIED:20231115T201658Z
UID:10004625-1697875200-1697882400@www.springcreekoaks.org
SUMMARY:SCO weekly pickup game (LLERENA)
DESCRIPTION:All SCO residents are invited to play and have some fun.
URL:https://www.springcreekoaks.org/reservations/llerenas-soccer-practice/2023-10-21/
LOCATION:Large Soccer Field (Bilma)\, United States
CATEGORIES:Soccer Fields
END:VEVENT
BEGIN:VEVENT
DTSTART;TZID=America/Chicago:20231021T080000
DTEND;TZID=America/Chicago:20231021T110000
DTSTAMP:20260425T085006
CREATED:20230801T112011Z
LAST-MODIFIED:20230801T112011Z
UID:10003450-1697875200-1697886000@www.springcreekoaks.org
SUMMARY:Field 1 - Coyotes - 12U
DESCRIPTION:
URL:https://www.springcreekoaks.org/reservations/field-1-coyotes-12u/2023-10-21/
LOCATION:Baseball Field 1\, United States
CATEGORIES:Baseball Fields
END:VEVENT
BEGIN:VEVENT
DTSTART;TZID=America/Chicago:20231021T090000
DTEND;TZID=America/Chicago:20231021T120000
DTSTAMP:20260425T085006
CREATED:20230819T184138Z
LAST-MODIFIED:20230907T224528Z
UID:10003412-1697878800-1697889600@www.springcreekoaks.org
SUMMARY:CH 1 courts 2-3\, Palmer
DESCRIPTION:
URL:https://www.springcreekoaks.org/reservations/ch-1-courts-2-3-pickleball-meet-and-greet-5/2023-10-21/
LOCATION:TX
CATEGORIES:Tennis
END:VEVENT
BEGIN:VEVENT
DTSTART;TZID=America/Chicago:20231021T090000
DTEND;TZID=America/Chicago:20231021T120000
DTSTAMP:20260425T085006
CREATED:20230907T224820Z
LAST-MODIFIED:20230907T224820Z
UID:10006248-1697878800-1697889600@www.springcreekoaks.org
SUMMARY:CH 1 court 1\, Pickleball meet and greet
DESCRIPTION:
URL:https://www.springcreekoaks.org/reservations/ch-1-court-1-pickleball-meet-and-greet/2023-10-21/
LOCATION:TX
CATEGORIES:Tennis
END:VEVENT
BEGIN:VEVENT
DTSTART;TZID=America/Chicago:20231021T090000
DTEND;TZID=America/Chicago:20231021T140000
DTSTAMP:20260425T085006
CREATED:20230328T012811Z
LAST-MODIFIED:20230328T012811Z
UID:10002213-1697878800-1697896800@www.springcreekoaks.org
SUMMARY:SCO Tennis Camp CH2
DESCRIPTION:
URL:https://www.springcreekoaks.org/reservations/sco-tennis-camp-ch2-3/2023-10-21/
LOCATION:Clubhouse 2\, 6002 Bur Oak Dr\, Spring\, 77379\, United States
CATEGORIES:Clubhouses
GEO:30.037539;-95.5070911
X-APPLE-STRUCTURED-LOCATION;VALUE=URI;X-ADDRESS=Clubhouse 2 6002 Bur Oak Dr Spring 77379 United States;X-APPLE-RADIUS=500;X-TITLE=6002 Bur Oak Dr:geo:-95.5070911,30.037539
END:VEVENT
BEGIN:VEVENT
DTSTART;VALUE=DATE:20231022
DTEND;VALUE=DATE:20231023
DTSTAMP:20260425T085006
CREATED:20230719T160727Z
LAST-MODIFIED:20230719T160805Z
UID:10003294-1697932800-1698019199@www.springcreekoaks.org
SUMMARY:NCL Wildflowers CH2
DESCRIPTION:
URL:https://www.springcreekoaks.org/reservations/ncl-wildflowers-ch2-5/
LOCATION:Clubhouse 2\, 6002 Bur Oak Dr\, Spring\, 77379\, United States
CATEGORIES:Clubhouses
GEO:30.037539;-95.5070911
X-APPLE-STRUCTURED-LOCATION;VALUE=URI;X-ADDRESS=Clubhouse 2 6002 Bur Oak Dr Spring 77379 United States;X-APPLE-RADIUS=500;X-TITLE=6002 Bur Oak Dr:geo:-95.5070911,30.037539
END:VEVENT
BEGIN:VEVENT
DTSTART;TZID=America/Chicago:20231022T090000
DTEND;TZID=America/Chicago:20231022T140000
DTSTAMP:20260425T085006
CREATED:20230328T012811Z
LAST-MODIFIED:20230328T012811Z
UID:10002214-1697965200-1697983200@www.springcreekoaks.org
SUMMARY:SCO Tennis Camp CH2
DESCRIPTION:
URL:https://www.springcreekoaks.org/reservations/sco-tennis-camp-ch2-3/2023-10-22/
LOCATION:Clubhouse 2\, 6002 Bur Oak Dr\, Spring\, 77379\, United States
CATEGORIES:Clubhouses
GEO:30.037539;-95.5070911
X-APPLE-STRUCTURED-LOCATION;VALUE=URI;X-ADDRESS=Clubhouse 2 6002 Bur Oak Dr Spring 77379 United States;X-APPLE-RADIUS=500;X-TITLE=6002 Bur Oak Dr:geo:-95.5070911,30.037539
END:VEVENT
BEGIN:VEVENT
DTSTART;TZID=America/Chicago:20231023T083000
DTEND;TZID=America/Chicago:20231023T100000
DTSTAMP:20260425T085006
CREATED:20230814T130951Z
LAST-MODIFIED:20230814T130951Z
UID:10003575-1698049800-1698055200@www.springcreekoaks.org
SUMMARY:Kuehnle courts 3-4\, Ladies open drill\, tennis pro Danny
DESCRIPTION:
URL:https://www.springcreekoaks.org/reservations/kuehnle-courts-3-4-ladies-open-drill-tennis-pro-danny/2023-10-23/
LOCATION:TX
CATEGORIES:Tennis
END:VEVENT
BEGIN:VEVENT
DTSTART;TZID=America/Chicago:20231023T090000
DTEND;TZID=America/Chicago:20231023T140000
DTSTAMP:20260425T085006
CREATED:20230328T012811Z
LAST-MODIFIED:20230328T012811Z
UID:10002215-1698051600-1698069600@www.springcreekoaks.org
SUMMARY:SCO Tennis Camp CH2
DESCRIPTION:
URL:https://www.springcreekoaks.org/reservations/sco-tennis-camp-ch2-3/2023-10-23/
LOCATION:Clubhouse 2\, 6002 Bur Oak Dr\, Spring\, 77379\, United States
CATEGORIES:Clubhouses
GEO:30.037539;-95.5070911
X-APPLE-STRUCTURED-LOCATION;VALUE=URI;X-ADDRESS=Clubhouse 2 6002 Bur Oak Dr Spring 77379 United States;X-APPLE-RADIUS=500;X-TITLE=6002 Bur Oak Dr:geo:-95.5070911,30.037539
END:VEVENT
BEGIN:VEVENT
DTSTART;TZID=America/Chicago:20231023T100000
DTEND;TZID=America/Chicago:20231023T110000
DTSTAMP:20260425T085006
CREATED:20230814T131112Z
LAST-MODIFIED:20230814T131112Z
UID:10005828-1698055200-1698058800@www.springcreekoaks.org
SUMMARY:Kuehnle courts 3-4\, Intermediate Home School class
DESCRIPTION:
URL:https://www.springcreekoaks.org/reservations/kuehnle-courts-3-4-intermediate-home-school-class/2023-10-23/
LOCATION:TX
CATEGORIES:Tennis
END:VEVENT
BEGIN:VEVENT
DTSTART;TZID=America/Chicago:20231023T160000
DTEND;TZID=America/Chicago:20231023T200000
DTSTAMP:20260425T085006
CREATED:20230703T125231Z
LAST-MODIFIED:20230703T125231Z
UID:10005740-1698076800-1698091200@www.springcreekoaks.org
SUMMARY:Field 1 - Texas Havoc - 10U
DESCRIPTION:
URL:https://www.springcreekoaks.org/reservations/field-1-texas-havoc-10u/2023-10-23/
LOCATION:Baseball Field 1\, United States
CATEGORIES:Baseball Fields
END:VEVENT
BEGIN:VEVENT
DTSTART;TZID=America/Chicago:20231023T160000
DTEND;TZID=America/Chicago:20231023T200000
DTSTAMP:20260425T085006
CREATED:20230710T115703Z
LAST-MODIFIED:20230710T115703Z
UID:10005790-1698076800-1698091200@www.springcreekoaks.org
SUMMARY:Field 2 - Orioles - 11U
DESCRIPTION:
URL:https://www.springcreekoaks.org/reservations/field-2-orioles-11u/2023-10-23/
LOCATION:Baseball Field 2\, United States
CATEGORIES:Baseball Fields
END:VEVENT
BEGIN:VEVENT
DTSTART;TZID=America/Chicago:20231023T160000
DTEND;TZID=America/Chicago:20231023T200000
DTSTAMP:20260425T085006
CREATED:20230824T141412Z
LAST-MODIFIED:20230824T141412Z
UID:10006198-1698076800-1698091200@www.springcreekoaks.org
SUMMARY:Field 3 - Jaguars - 14U
DESCRIPTION:
URL:https://www.springcreekoaks.org/reservations/field-3-jaguars-14u-2/2023-10-23/
LOCATION:Baseball Field 3\, United States
CATEGORIES:Baseball Fields
END:VEVENT
BEGIN:VEVENT
DTSTART;TZID=America/Chicago:20231023T160000
DTEND;TZID=America/Chicago:20231023T200000
DTSTAMP:20260425T085006
CREATED:20230828T175357Z
LAST-MODIFIED:20230828T175820Z
UID:10003636-1698076800-1698091200@www.springcreekoaks.org
SUMMARY:Field 4 - Blue Rocks - 7U
DESCRIPTION:
URL:https://www.springcreekoaks.org/reservations/field-4-ibrahim-7u/2023-10-23/
LOCATION:Baseball Field 4\, United States
CATEGORIES:Baseball Fields
END:VEVENT
BEGIN:VEVENT
DTSTART;TZID=America/Chicago:20231023T170000
DTEND;TZID=America/Chicago:20231023T180000
DTSTAMP:20260425T085006
CREATED:20230814T131224Z
LAST-MODIFIED:20230814T131224Z
UID:10005847-1698080400-1698084000@www.springcreekoaks.org
SUMMARY:Kuehnle courts 3-4\, Orange ball class
DESCRIPTION:
URL:https://www.springcreekoaks.org/reservations/kuehnle-courts-3-4-orange-ball-class/2023-10-23/
LOCATION:TX
CATEGORIES:Tennis
END:VEVENT
BEGIN:VEVENT
DTSTART;TZID=America/Chicago:20231023T180000
DTEND;TZID=America/Chicago:20231023T190000
DTSTAMP:20260425T085006
CREATED:20230814T131344Z
LAST-MODIFIED:20230814T131344Z
UID:10005866-1698084000-1698087600@www.springcreekoaks.org
SUMMARY:Kuehnle courts 3-4\, Yellow ball class
DESCRIPTION:
URL:https://www.springcreekoaks.org/reservations/kuehnle-courts-3-4-yellow-ball-class/2023-10-23/
LOCATION:TX
CATEGORIES:Tennis
END:VEVENT
BEGIN:VEVENT
DTSTART;TZID=America/Chicago:20231023T190000
DTEND;TZID=America/Chicago:20231023T200000
DTSTAMP:20260425T085006
CREATED:20230814T131523Z
LAST-MODIFIED:20230814T131523Z
UID:10005885-1698087600-1698091200@www.springcreekoaks.org
SUMMARY:Kuehnle courts 3-4\, Adult drop-in drill\, all levels
DESCRIPTION:
URL:https://www.springcreekoaks.org/reservations/kuehnle-courts-3-4-adult-drop-in-drill-all-levels/2023-10-23/
LOCATION:TX
CATEGORIES:Tennis
END:VEVENT
BEGIN:VEVENT
DTSTART;TZID=America/Chicago:20231023T190000
DTEND;TZID=America/Chicago:20231023T220000
DTSTAMP:20260425T085006
CREATED:20230909T134836Z
LAST-MODIFIED:20230909T134836Z
UID:10006294-1698087600-1698098400@www.springcreekoaks.org
SUMMARY:CH 2 courts 1-6\, NHTA A2
DESCRIPTION:
URL:https://www.springcreekoaks.org/reservations/ch-2-courts-1-6-nhta-a2-3/2023-10-23/
LOCATION:TX
CATEGORIES:Tennis
END:VEVENT
BEGIN:VEVENT
DTSTART;TZID=America/Chicago:20231024T083000
DTEND;TZID=America/Chicago:20231024T120000
DTSTAMP:20260425T085006
CREATED:20231005T173046Z
LAST-MODIFIED:20231005T173046Z
UID:10003653-1698136200-1698148800@www.springcreekoaks.org
SUMMARY:Kuehnle courts 1-2\, NW A1 rain makeup
DESCRIPTION:
URL:https://www.springcreekoaks.org/reservations/kuehnle-courts-1-2-nw-a1-rain-makeup-2/
LOCATION:TX
CATEGORIES:Tennis
END:VEVENT
BEGIN:VEVENT
DTSTART;TZID=America/Chicago:20231024T090000
DTEND;TZID=America/Chicago:20231024T100000
DTSTAMP:20260425T085006
CREATED:20230814T131725Z
LAST-MODIFIED:20230814T131725Z
UID:10005904-1698138000-1698141600@www.springcreekoaks.org
SUMMARY:Kuehnle courts 3-4\, beginner Homeschool class
DESCRIPTION:
URL:https://www.springcreekoaks.org/reservations/kuehnle-courts-3-4-beginner-homeschool-class/2023-10-24/
LOCATION:TX
CATEGORIES:Tennis
END:VEVENT
BEGIN:VEVENT
DTSTART;TZID=America/Chicago:20231024T090000
DTEND;TZID=America/Chicago:20231024T120000
DTSTAMP:20260425T085006
CREATED:20230819T184258Z
LAST-MODIFIED:20230907T224414Z
UID:10006114-1698138000-1698148800@www.springcreekoaks.org
SUMMARY:CH 1 courts 2-3\, Palmer
DESCRIPTION:
URL:https://www.springcreekoaks.org/reservations/ch-1-courts-2-3-pickleball-meet-and-greet-6/2023-10-24/
LOCATION:TX
CATEGORIES:Tennis
END:VEVENT
BEGIN:VEVENT
DTSTART;TZID=America/Chicago:20231024T090000
DTEND;TZID=America/Chicago:20231024T120000
DTSTAMP:20260425T085006
CREATED:20230907T224932Z
LAST-MODIFIED:20230907T224932Z
UID:10006265-1698138000-1698148800@www.springcreekoaks.org
SUMMARY:CH 1 court 1\, Pickleball meet and greet
DESCRIPTION:
URL:https://www.springcreekoaks.org/reservations/ch-1-court-1-pickleball-meet-and-greet-2/2023-10-24/
LOCATION:TX
CATEGORIES:Tennis
END:VEVENT
BEGIN:VEVENT
DTSTART;TZID=America/Chicago:20231024T090000
DTEND;TZID=America/Chicago:20231024T140000
DTSTAMP:20260425T085006
CREATED:20230328T012811Z
LAST-MODIFIED:20230328T012811Z
UID:10002216-1698138000-1698156000@www.springcreekoaks.org
SUMMARY:SCO Tennis Camp CH2
DESCRIPTION:
URL:https://www.springcreekoaks.org/reservations/sco-tennis-camp-ch2-3/2023-10-24/
LOCATION:Clubhouse 2\, 6002 Bur Oak Dr\, Spring\, 77379\, United States
CATEGORIES:Clubhouses
GEO:30.037539;-95.5070911
X-APPLE-STRUCTURED-LOCATION;VALUE=URI;X-ADDRESS=Clubhouse 2 6002 Bur Oak Dr Spring 77379 United States;X-APPLE-RADIUS=500;X-TITLE=6002 Bur Oak Dr:geo:-95.5070911,30.037539
END:VEVENT
BEGIN:VEVENT
DTSTART;TZID=America/Chicago:20231024T100000
DTEND;TZID=America/Chicago:20231024T110000
DTSTAMP:20260425T085006
CREATED:20230814T131902Z
LAST-MODIFIED:20230814T131902Z
UID:10005923-1698141600-1698145200@www.springcreekoaks.org
SUMMARY:Kuehnle courts 3-4\, intermediate homeschool class
DESCRIPTION:
URL:https://www.springcreekoaks.org/reservations/kuehnle-courts-3-4-intermediate-homeschool-class/2023-10-24/
LOCATION:TX
CATEGORIES:Tennis
END:VEVENT
END:VCALENDAR