BEGIN:VCALENDAR
VERSION:2.0
PRODID:-//Spring Creek Oaks - ECPv6.15.20//NONSGML v1.0//EN
CALSCALE:GREGORIAN
METHOD:PUBLISH
X-ORIGINAL-URL:https://www.springcreekoaks.org
X-WR-CALDESC:Events for Spring Creek Oaks
REFRESH-INTERVAL;VALUE=DURATION:PT1H
X-Robots-Tag:noindex
X-PUBLISHED-TTL:PT1H
BEGIN:VTIMEZONE
TZID:America/Chicago
BEGIN:DAYLIGHT
TZOFFSETFROM:-0600
TZOFFSETTO:-0500
TZNAME:CDT
DTSTART:20220313T080000
END:DAYLIGHT
BEGIN:STANDARD
TZOFFSETFROM:-0500
TZOFFSETTO:-0600
TZNAME:CST
DTSTART:20221106T070000
END:STANDARD
BEGIN:DAYLIGHT
TZOFFSETFROM:-0600
TZOFFSETTO:-0500
TZNAME:CDT
DTSTART:20230312T080000
END:DAYLIGHT
BEGIN:STANDARD
TZOFFSETFROM:-0500
TZOFFSETTO:-0600
TZNAME:CST
DTSTART:20231105T070000
END:STANDARD
BEGIN:DAYLIGHT
TZOFFSETFROM:-0600
TZOFFSETTO:-0500
TZNAME:CDT
DTSTART:20240310T080000
END:DAYLIGHT
BEGIN:STANDARD
TZOFFSETFROM:-0500
TZOFFSETTO:-0600
TZNAME:CST
DTSTART:20241103T070000
END:STANDARD
END:VTIMEZONE
BEGIN:VEVENT
DTSTART;TZID=America/Chicago:20231004T083000
DTEND;TZID=America/Chicago:20231004T120000
DTSTAMP:20260425T084906
CREATED:20230823T110443Z
LAST-MODIFIED:20230823T110443Z
UID:10006173-1696408200-1696420800@www.springcreekoaks.org
SUMMARY:CH 2 courts 1-4\, NW A2
DESCRIPTION:
URL:https://www.springcreekoaks.org/reservations/ch-2-courts-1-4-nw-a2-2/2023-10-04/
LOCATION:TX
CATEGORIES:Tennis
END:VEVENT
BEGIN:VEVENT
DTSTART;TZID=America/Chicago:20231004T090000
DTEND;TZID=America/Chicago:20231004T100000
DTSTAMP:20260425T084906
CREATED:20230814T132524Z
LAST-MODIFIED:20230814T132524Z
UID:10005996-1696410000-1696413600@www.springcreekoaks.org
SUMMARY:Kuehnle courts 3-4\, intermediate homeschool class
DESCRIPTION:
URL:https://www.springcreekoaks.org/reservations/kuehnle-courts-3-4-intermediate-homeschool-class-2/2023-10-04/
LOCATION:TX
CATEGORIES:Tennis
END:VEVENT
BEGIN:VEVENT
DTSTART;TZID=America/Chicago:20231004T090000
DTEND;TZID=America/Chicago:20231004T120000
DTSTAMP:20260425T084906
CREATED:20221227T222834Z
LAST-MODIFIED:20221227T222834Z
UID:10005247-1696410000-1696420800@www.springcreekoaks.org
SUMMARY:CH 1 courts 2-3\, Hudson
DESCRIPTION:
URL:https://www.springcreekoaks.org/reservations/ch-1-courts-2-3-hudson/2023-10-04/
LOCATION:TX
CATEGORIES:Tennis
END:VEVENT
BEGIN:VEVENT
DTSTART;TZID=America/Chicago:20231004T090000
DTEND;TZID=America/Chicago:20231004T140000
DTSTAMP:20260425T084906
CREATED:20230328T012811Z
LAST-MODIFIED:20230328T012811Z
UID:10002196-1696410000-1696428000@www.springcreekoaks.org
SUMMARY:SCO Tennis Camp CH2
DESCRIPTION:
URL:https://www.springcreekoaks.org/reservations/sco-tennis-camp-ch2-3/2023-10-04/
LOCATION:Clubhouse 2\, 6002 Bur Oak Dr\, Spring\, 77379\, United States
CATEGORIES:Clubhouses
GEO:30.037539;-95.5070911
X-APPLE-STRUCTURED-LOCATION;VALUE=URI;X-ADDRESS=Clubhouse 2 6002 Bur Oak Dr Spring 77379 United States;X-APPLE-RADIUS=500;X-TITLE=6002 Bur Oak Dr:geo:-95.5070911,30.037539
END:VEVENT
BEGIN:VEVENT
DTSTART;TZID=America/Chicago:20231004T160000
DTEND;TZID=America/Chicago:20231004T200000
DTSTAMP:20260425T084906
CREATED:20230703T125231Z
LAST-MODIFIED:20230703T125231Z
UID:10005735-1696435200-1696449600@www.springcreekoaks.org
SUMMARY:Field 1 - Texas Havoc - 10U
DESCRIPTION:
URL:https://www.springcreekoaks.org/reservations/field-1-texas-havoc-10u/2023-10-04/
LOCATION:Baseball Field 1\, United States
CATEGORIES:Baseball Fields
END:VEVENT
BEGIN:VEVENT
DTSTART;TZID=America/Chicago:20231004T160000
DTEND;TZID=America/Chicago:20231004T200000
DTSTAMP:20260425T084906
CREATED:20230710T115703Z
LAST-MODIFIED:20230710T115703Z
UID:10005785-1696435200-1696449600@www.springcreekoaks.org
SUMMARY:Field 2 - Orioles - 11U
DESCRIPTION:
URL:https://www.springcreekoaks.org/reservations/field-2-orioles-11u/2023-10-04/
LOCATION:Baseball Field 2\, United States
CATEGORIES:Baseball Fields
END:VEVENT
BEGIN:VEVENT
DTSTART;TZID=America/Chicago:20231004T160000
DTEND;TZID=America/Chicago:20231004T200000
DTSTAMP:20260425T084906
CREATED:20230824T141412Z
LAST-MODIFIED:20230824T141412Z
UID:10006193-1696435200-1696449600@www.springcreekoaks.org
SUMMARY:Field 3 - Jaguars - 14U
DESCRIPTION:
URL:https://www.springcreekoaks.org/reservations/field-3-jaguars-14u-2/2023-10-04/
LOCATION:Baseball Field 3\, United States
CATEGORIES:Baseball Fields
END:VEVENT
BEGIN:VEVENT
DTSTART;TZID=America/Chicago:20231004T170000
DTEND;TZID=America/Chicago:20231004T180000
DTSTAMP:20260425T084906
CREATED:20230814T132653Z
LAST-MODIFIED:20230814T132653Z
UID:10006015-1696438800-1696442400@www.springcreekoaks.org
SUMMARY:Kuehnle courts 3-4\, Orange ball class
DESCRIPTION:
URL:https://www.springcreekoaks.org/reservations/kuehnle-courts-3-4-orange-ball-class-2/2023-10-04/
LOCATION:TX
CATEGORIES:Tennis
END:VEVENT
BEGIN:VEVENT
DTSTART;TZID=America/Chicago:20231004T180000
DTEND;TZID=America/Chicago:20231004T190000
DTSTAMP:20260425T084906
CREATED:20230814T132829Z
LAST-MODIFIED:20230814T132829Z
UID:10006034-1696442400-1696446000@www.springcreekoaks.org
SUMMARY:Kuehnle courts 3-4\, Yellow ball class
DESCRIPTION:
URL:https://www.springcreekoaks.org/reservations/kuehnle-courts-3-4-yellow-ball-class-3/2023-10-04/
LOCATION:TX
CATEGORIES:Tennis
END:VEVENT
BEGIN:VEVENT
DTSTART;TZID=America/Chicago:20231004T180000
DTEND;TZID=America/Chicago:20231004T200000
DTSTAMP:20260425T084906
CREATED:20200805T160749Z
LAST-MODIFIED:20200805T161100Z
UID:10001455-1696442400-1696449600@www.springcreekoaks.org
SUMMARY:CIFUENTES (Big Soccer Field)
DESCRIPTION:
URL:https://www.springcreekoaks.org/reservations/cifuentes-open-play-big-soccer-field/2023-10-04/
LOCATION:TX
CATEGORIES:Soccer Fields
END:VEVENT
BEGIN:VEVENT
DTSTART;TZID=America/Chicago:20231005T083000
DTEND;TZID=America/Chicago:20231005T120000
DTSTAMP:20260425T084906
CREATED:20230823T105540Z
LAST-MODIFIED:20230823T105615Z
UID:10006162-1696494600-1696507200@www.springcreekoaks.org
SUMMARY:Kuehnle courts 1-4\, NW A1
DESCRIPTION:
URL:https://www.springcreekoaks.org/reservations/kuehnle-courts-1-4-nw-a1-2/2023-10-05/
LOCATION:TX
CATEGORIES:Tennis
END:VEVENT
BEGIN:VEVENT
DTSTART;TZID=America/Chicago:20231005T090000
DTEND;TZID=America/Chicago:20231005T110000
DTSTAMP:20260425T084906
CREATED:20230821T190909Z
LAST-MODIFIED:20230821T190909Z
UID:10006158-1696496400-1696503600@www.springcreekoaks.org
SUMMARY:CH 2 courts 1-3\, Honeschool classes
DESCRIPTION:
URL:https://www.springcreekoaks.org/reservations/ch-2-courts-1-3-honeschool-classes/2023-10-05/
LOCATION:TX
CATEGORIES:Tennis
END:VEVENT
BEGIN:VEVENT
DTSTART;TZID=America/Chicago:20231005T090000
DTEND;TZID=America/Chicago:20231005T120000
DTSTAMP:20260425T084906
CREATED:20230819T184409Z
LAST-MODIFIED:20230907T224257Z
UID:10006128-1696496400-1696507200@www.springcreekoaks.org
SUMMARY:CH 1 courts 2-3\, Palmer
DESCRIPTION:
URL:https://www.springcreekoaks.org/reservations/ch-1-courts-2-3-pickleball-meet-and-greet-7/2023-10-05/
LOCATION:TX
CATEGORIES:Tennis
END:VEVENT
BEGIN:VEVENT
DTSTART;TZID=America/Chicago:20231005T090000
DTEND;TZID=America/Chicago:20231005T120000
DTSTAMP:20260425T084906
CREATED:20230907T225043Z
LAST-MODIFIED:20230907T225043Z
UID:10006278-1696496400-1696507200@www.springcreekoaks.org
SUMMARY:CH 1 court 1\, Pickleball meet and greet
DESCRIPTION:
URL:https://www.springcreekoaks.org/reservations/ch-1-court-1-pickleball-meet-and-greet-3/2023-10-05/
LOCATION:TX
CATEGORIES:Tennis
END:VEVENT
BEGIN:VEVENT
DTSTART;TZID=America/Chicago:20231005T090000
DTEND;TZID=America/Chicago:20231005T140000
DTSTAMP:20260425T084906
CREATED:20230328T012811Z
LAST-MODIFIED:20230328T012811Z
UID:10002197-1696496400-1696514400@www.springcreekoaks.org
SUMMARY:SCO Tennis Camp CH2
DESCRIPTION:
URL:https://www.springcreekoaks.org/reservations/sco-tennis-camp-ch2-3/2023-10-05/
LOCATION:Clubhouse 2\, 6002 Bur Oak Dr\, Spring\, 77379\, United States
CATEGORIES:Clubhouses
GEO:30.037539;-95.5070911
X-APPLE-STRUCTURED-LOCATION;VALUE=URI;X-ADDRESS=Clubhouse 2 6002 Bur Oak Dr Spring 77379 United States;X-APPLE-RADIUS=500;X-TITLE=6002 Bur Oak Dr:geo:-95.5070911,30.037539
END:VEVENT
BEGIN:VEVENT
DTSTART;TZID=America/Chicago:20231005T160000
DTEND;TZID=America/Chicago:20231005T200000
DTSTAMP:20260425T084906
CREATED:20230703T125024Z
LAST-MODIFIED:20230703T125024Z
UID:10003527-1696521600-1696536000@www.springcreekoaks.org
SUMMARY:Field 2 - Texas Havoc - 12U
DESCRIPTION:
URL:https://www.springcreekoaks.org/reservations/field-2-texas-havoc-12u/2023-10-05/
LOCATION:Baseball Field 2\, United States
CATEGORIES:Baseball Fields
END:VEVENT
BEGIN:VEVENT
DTSTART;TZID=America/Chicago:20231005T160000
DTEND;TZID=America/Chicago:20231005T200000
DTSTAMP:20260425T084906
CREATED:20230711T214850Z
LAST-MODIFIED:20230711T214850Z
UID:10001234-1696521600-1696536000@www.springcreekoaks.org
SUMMARY:Field 4 - Eagles - 9U
DESCRIPTION:
URL:https://www.springcreekoaks.org/reservations/field-4-eagles-9u/2023-10-05/
LOCATION:Baseball Field 4\, United States
CATEGORIES:Baseball Fields
END:VEVENT
BEGIN:VEVENT
DTSTART;TZID=America/Chicago:20231005T160000
DTEND;TZID=America/Chicago:20231005T200000
DTSTAMP:20260425T084906
CREATED:20230726T111506Z
LAST-MODIFIED:20230726T111506Z
UID:10001268-1696521600-1696536000@www.springcreekoaks.org
SUMMARY:Field 3 - Young Guns - 12U
DESCRIPTION:
URL:https://www.springcreekoaks.org/reservations/field-3-young-guns-12u/2023-10-05/
LOCATION:Baseball Field 3\, United States
CATEGORIES:Baseball Fields
END:VEVENT
BEGIN:VEVENT
DTSTART;TZID=America/Chicago:20231005T160000
DTEND;TZID=America/Chicago:20231005T200000
DTSTAMP:20260425T084906
CREATED:20230801T112237Z
LAST-MODIFIED:20230801T112237Z
UID:10005808-1696521600-1696536000@www.springcreekoaks.org
SUMMARY:Field 1 - Coyotes - 12U
DESCRIPTION:
URL:https://www.springcreekoaks.org/reservations/field-1-coyotes-12u-2/2023-10-05/
LOCATION:Baseball Field 1\, United States
CATEGORIES:Baseball Fields
END:VEVENT
BEGIN:VEVENT
DTSTART;TZID=America/Chicago:20231005T170000
DTEND;TZID=America/Chicago:20231005T180000
DTSTAMP:20260425T084906
CREATED:20230814T132947Z
LAST-MODIFIED:20230814T132947Z
UID:10006053-1696525200-1696528800@www.springcreekoaks.org
SUMMARY:Kuehnle courts 3-4\, Orange ball class
DESCRIPTION:
URL:https://www.springcreekoaks.org/reservations/kuehnle-courts-3-4-orange-ball-class-3/2023-10-05/
LOCATION:TX
CATEGORIES:Tennis
END:VEVENT
BEGIN:VEVENT
DTSTART;TZID=America/Chicago:20231005T170000
DTEND;TZID=America/Chicago:20231005T210000
DTSTAMP:20260425T084906
CREATED:20191114T164535Z
LAST-MODIFIED:20191114T164535Z
UID:10000354-1696525200-1696539600@www.springcreekoaks.org
SUMMARY:CH2 5pm-9pm Waterboard Monthly Meeting
DESCRIPTION:
URL:https://www.springcreekoaks.org/reservations/ch2-5pm-9pm-waterboard-monthly-meeting/2023-10-05/
LOCATION:Clubhouse 2\, 6002 Bur Oak Dr\, Spring\, 77379\, United States
CATEGORIES:Clubhouses
GEO:30.037539;-95.5070911
X-APPLE-STRUCTURED-LOCATION;VALUE=URI;X-ADDRESS=Clubhouse 2 6002 Bur Oak Dr Spring 77379 United States;X-APPLE-RADIUS=500;X-TITLE=6002 Bur Oak Dr:geo:-95.5070911,30.037539
END:VEVENT
BEGIN:VEVENT
DTSTART;TZID=America/Chicago:20231005T170000
DTEND;TZID=America/Chicago:20231005T220000
DTSTAMP:20260425T084906
CREATED:20230129T135835Z
LAST-MODIFIED:20230129T135835Z
UID:10001849-1696525200-1696543200@www.springcreekoaks.org
SUMMARY:Bilma Board Meeting CH2
DESCRIPTION:
URL:https://www.springcreekoaks.org/reservations/bilma-board-meeting-ch2/2023-10-05/
LOCATION:TX
CATEGORIES:Clubhouses
END:VEVENT
BEGIN:VEVENT
DTSTART;TZID=America/Chicago:20231005T180000
DTEND;TZID=America/Chicago:20231005T193000
DTSTAMP:20260425T084906
CREATED:20230814T133101Z
LAST-MODIFIED:20230814T133101Z
UID:10006072-1696528800-1696534200@www.springcreekoaks.org
SUMMARY:Kuehnle courts 3-4\, Yellow ball class
DESCRIPTION:
URL:https://www.springcreekoaks.org/reservations/kuehnle-courts-3-4-yellow-ball-class-4/2023-10-05/
LOCATION:TX
CATEGORIES:Tennis
END:VEVENT
BEGIN:VEVENT
DTSTART;TZID=America/Chicago:20231005T180000
DTEND;TZID=America/Chicago:20231005T200000
DTSTAMP:20260425T084906
CREATED:20230724T185620Z
LAST-MODIFIED:20231013T145755Z
UID:10003476-1696528800-1696536000@www.springcreekoaks.org
SUMMARY:Jenny Tyger (3rd graders soccer)
DESCRIPTION:
URL:https://www.springcreekoaks.org/reservations/jenny-tyger-3rd-graders-soccer/2023-10-05/
LOCATION:Small Soccer Field (CH 2)
CATEGORIES:Soccer Fields
END:VEVENT
BEGIN:VEVENT
DTSTART;TZID=America/Chicago:20231005T193000
DTEND;TZID=America/Chicago:20231005T220000
DTSTAMP:20260425T084906
CREATED:20230911T200317Z
LAST-MODIFIED:20230911T200317Z
UID:10003640-1696534200-1696543200@www.springcreekoaks.org
SUMMARY:CH 1 courts 2-3 (Pickleball)\, Guzman
DESCRIPTION:
URL:https://www.springcreekoaks.org/reservations/ch-1-courts-2-3-pickleball-guzman/2023-10-05/
LOCATION:TX
CATEGORIES:Tennis
END:VEVENT
BEGIN:VEVENT
DTSTART;TZID=America/Chicago:20231006T083000
DTEND;TZID=America/Chicago:20231006T120000
DTSTAMP:20260425T084906
CREATED:20231005T015156Z
LAST-MODIFIED:20231005T015156Z
UID:10003970-1696581000-1696593600@www.springcreekoaks.org
SUMMARY:CH 2 courts 1-4\, NW A2 rain makeup
DESCRIPTION:
URL:https://www.springcreekoaks.org/reservations/ch-2-courts-1-4-nw-a2-rain-makeup/
LOCATION:TX
CATEGORIES:Tennis
END:VEVENT
BEGIN:VEVENT
DTSTART;TZID=America/Chicago:20231006T083000
DTEND;TZID=America/Chicago:20231006T120000
DTSTAMP:20260425T084906
CREATED:20231005T172943Z
LAST-MODIFIED:20231005T172943Z
UID:10003720-1696581000-1696593600@www.springcreekoaks.org
SUMMARY:Kuehnle court 2\, NW A1 rain makeup
DESCRIPTION:
URL:https://www.springcreekoaks.org/reservations/kuehnle-court-2-nw-a1-rain-makeup/2023-10-06/
LOCATION:TX
CATEGORIES:Tennis
END:VEVENT
BEGIN:VEVENT
DTSTART;TZID=America/Chicago:20231006T090000
DTEND;TZID=America/Chicago:20231006T140000
DTSTAMP:20260425T084906
CREATED:20230328T012811Z
LAST-MODIFIED:20230328T012811Z
UID:10002198-1696582800-1696600800@www.springcreekoaks.org
SUMMARY:SCO Tennis Camp CH2
DESCRIPTION:
URL:https://www.springcreekoaks.org/reservations/sco-tennis-camp-ch2-3/2023-10-06/
LOCATION:Clubhouse 2\, 6002 Bur Oak Dr\, Spring\, 77379\, United States
CATEGORIES:Clubhouses
GEO:30.037539;-95.5070911
X-APPLE-STRUCTURED-LOCATION;VALUE=URI;X-ADDRESS=Clubhouse 2 6002 Bur Oak Dr Spring 77379 United States;X-APPLE-RADIUS=500;X-TITLE=6002 Bur Oak Dr:geo:-95.5070911,30.037539
END:VEVENT
BEGIN:VEVENT
DTSTART;TZID=America/Chicago:20231006T180000
DTEND;TZID=America/Chicago:20231006T190000
DTSTAMP:20260425T084906
CREATED:20230814T133222Z
LAST-MODIFIED:20230814T133222Z
UID:10006091-1696615200-1696618800@www.springcreekoaks.org
SUMMARY:Kuehnle courts 3-4\, Yellow ball class
DESCRIPTION:
URL:https://www.springcreekoaks.org/reservations/kuehnle-courts-3-4-yellow-ball-class-5/2023-10-06/
LOCATION:TX
CATEGORIES:Tennis
END:VEVENT
BEGIN:VEVENT
DTSTART;VALUE=DATE:20231007
DTEND;VALUE=DATE:20231008
DTSTAMP:20260425T084906
CREATED:20230116T004219Z
LAST-MODIFIED:20230116T004219Z
UID:10002081-1696636800-1696723199@www.springcreekoaks.org
SUMMARY:SCO Halloween Party CH2
DESCRIPTION:
URL:https://www.springcreekoaks.org/reservations/sco-halloween-party-ch2/
LOCATION:Clubhouse 2\, 6002 Bur Oak Dr\, Spring\, 77379\, United States
CATEGORIES:Clubhouses
GEO:30.037539;-95.5070911
X-APPLE-STRUCTURED-LOCATION;VALUE=URI;X-ADDRESS=Clubhouse 2 6002 Bur Oak Dr Spring 77379 United States;X-APPLE-RADIUS=500;X-TITLE=6002 Bur Oak Dr:geo:-95.5070911,30.037539
END:VEVENT
END:VCALENDAR