BEGIN:VCALENDAR
VERSION:2.0
PRODID:-//Spring Creek Oaks - ECPv6.15.20//NONSGML v1.0//EN
CALSCALE:GREGORIAN
METHOD:PUBLISH
X-ORIGINAL-URL:https://www.springcreekoaks.org
X-WR-CALDESC:Events for Spring Creek Oaks
REFRESH-INTERVAL;VALUE=DURATION:PT1H
X-Robots-Tag:noindex
X-PUBLISHED-TTL:PT1H
BEGIN:VTIMEZONE
TZID:America/Chicago
BEGIN:DAYLIGHT
TZOFFSETFROM:-0600
TZOFFSETTO:-0500
TZNAME:CDT
DTSTART:20210314T080000
END:DAYLIGHT
BEGIN:STANDARD
TZOFFSETFROM:-0500
TZOFFSETTO:-0600
TZNAME:CST
DTSTART:20211107T070000
END:STANDARD
BEGIN:DAYLIGHT
TZOFFSETFROM:-0600
TZOFFSETTO:-0500
TZNAME:CDT
DTSTART:20220313T080000
END:DAYLIGHT
BEGIN:STANDARD
TZOFFSETFROM:-0500
TZOFFSETTO:-0600
TZNAME:CST
DTSTART:20221106T070000
END:STANDARD
BEGIN:DAYLIGHT
TZOFFSETFROM:-0600
TZOFFSETTO:-0500
TZNAME:CDT
DTSTART:20230312T080000
END:DAYLIGHT
BEGIN:STANDARD
TZOFFSETFROM:-0500
TZOFFSETTO:-0600
TZNAME:CST
DTSTART:20231105T070000
END:STANDARD
END:VTIMEZONE
BEGIN:VEVENT
DTSTART;VALUE=DATE:20220403
DTEND;VALUE=DATE:20220404
DTSTAMP:20260425T103348
CREATED:20220212T190241Z
LAST-MODIFIED:20220212T190241Z
UID:10000449-1648944000-1649030399@www.springcreekoaks.org
SUMMARY:Leavins NCL CH2
DESCRIPTION:
URL:https://www.springcreekoaks.org/reservations/leavins-ncl-ch2-5/
LOCATION:Clubhouse 2\, 6002 Bur Oak Dr\, Spring\, 77379\, United States
CATEGORIES:Clubhouses
GEO:30.037539;-95.5070911
X-APPLE-STRUCTURED-LOCATION;VALUE=URI;X-ADDRESS=Clubhouse 2 6002 Bur Oak Dr Spring 77379 United States;X-APPLE-RADIUS=500;X-TITLE=6002 Bur Oak Dr:geo:-95.5070911,30.037539
END:VEVENT
BEGIN:VEVENT
DTSTART;TZID=America/Chicago:20220404T080000
DTEND;TZID=America/Chicago:20220404T120000
DTSTAMP:20260425T103348
CREATED:20220203T004438Z
LAST-MODIFIED:20220203T004438Z
UID:10004231-1649059200-1649073600@www.springcreekoaks.org
SUMMARY:Kuehnle courts 3-4\, Tennis pro Danny
DESCRIPTION:
URL:https://www.springcreekoaks.org/reservations/kuehnle-courts-3-4-tennis-pro-danny-6/2022-04-04/
LOCATION:TX
CATEGORIES:Tennis
END:VEVENT
BEGIN:VEVENT
DTSTART;TZID=America/Chicago:20220404T083000
DTEND;TZID=America/Chicago:20220404T120000
DTSTAMP:20260425T103348
CREATED:20220125T032223Z
LAST-MODIFIED:20220125T032223Z
UID:10004245-1649061000-1649073600@www.springcreekoaks.org
SUMMARY:CH 2 courts 1-4\, HLTA Champ 2 North
DESCRIPTION:
URL:https://www.springcreekoaks.org/reservations/ch-2-courts-1-4-hlta-champ-2-north/2022-04-04/
LOCATION:TX
CATEGORIES:Tennis
END:VEVENT
BEGIN:VEVENT
DTSTART;TZID=America/Chicago:20220404T170000
DTEND;TZID=America/Chicago:20220404T190000
DTSTAMP:20260425T103348
CREATED:20220125T162843Z
LAST-MODIFIED:20220125T162843Z
UID:10004279-1649091600-1649098800@www.springcreekoaks.org
SUMMARY:14U Farm League Jaguars Practice - Field 3
DESCRIPTION:14U Farm League Jaguars Practice – Field 3
URL:https://www.springcreekoaks.org/reservations/14u-farm-league-jaguars-practice-field-3/2022-04-04/
LOCATION:TX
CATEGORIES:Baseball Fields
END:VEVENT
BEGIN:VEVENT
DTSTART;TZID=America/Chicago:20220405T080000
DTEND;TZID=America/Chicago:20220405T093000
DTSTAMP:20260425T103348
CREATED:20220131T204916Z
LAST-MODIFIED:20220131T204916Z
UID:10000023-1649145600-1649151000@www.springcreekoaks.org
SUMMARY:CH 2 court 6\, Mason
DESCRIPTION:
URL:https://www.springcreekoaks.org/reservations/ch-2-court-6-mason-13/2022-04-05/
LOCATION:TX
CATEGORIES:Tennis
END:VEVENT
BEGIN:VEVENT
DTSTART;TZID=America/Chicago:20220405T080000
DTEND;TZID=America/Chicago:20220405T120000
DTSTAMP:20260425T103348
CREATED:20220203T004639Z
LAST-MODIFIED:20220203T004639Z
UID:10004415-1649145600-1649160000@www.springcreekoaks.org
SUMMARY:CH 1 court 1\, Tennis Pro Danny
DESCRIPTION:
URL:https://www.springcreekoaks.org/reservations/ch-1-court-1-tennis-pro-danny-4/2022-04-05/
LOCATION:TX
CATEGORIES:Tennis
END:VEVENT
BEGIN:VEVENT
DTSTART;TZID=America/Chicago:20220405T190000
DTEND;TZID=America/Chicago:20220405T220000
DTSTAMP:20260425T103348
CREATED:20220309T124834Z
LAST-MODIFIED:20220309T124834Z
UID:10000307-1649185200-1649196000@www.springcreekoaks.org
SUMMARY:CH 2 courts 1-6\, Men’s league Bausch
DESCRIPTION:
URL:https://www.springcreekoaks.org/reservations/ch-2-courts-1-6-mens-league-bausch-2/2022-04-05/
LOCATION:TX
CATEGORIES:Tennis
END:VEVENT
BEGIN:VEVENT
DTSTART;TZID=America/Chicago:20220405T190000
DTEND;TZID=America/Chicago:20220405T230000
DTSTAMP:20260425T103348
CREATED:20220228T022753Z
LAST-MODIFIED:20220228T022753Z
UID:10000460-1649185200-1649199600@www.springcreekoaks.org
SUMMARY:CH 2 courts 1-6\, men’s league Bausch
DESCRIPTION:
URL:https://www.springcreekoaks.org/reservations/ch-2-courts-1-6-mens-league-bausch/2022-04-05/
LOCATION:TX
CATEGORIES:Tennis
END:VEVENT
BEGIN:VEVENT
DTSTART;TZID=America/Chicago:20220406T080000
DTEND;TZID=America/Chicago:20220406T100000
DTSTAMP:20260425T103348
CREATED:20220203T004757Z
LAST-MODIFIED:20220203T004757Z
UID:10004433-1649232000-1649239200@www.springcreekoaks.org
SUMMARY:Kuehnle courts 3-4\, Tennis pro Danny
DESCRIPTION:
URL:https://www.springcreekoaks.org/reservations/kuehnle-courts-3-4-tennis-pro-danny-7/2022-04-06/
LOCATION:TX
CATEGORIES:Tennis
END:VEVENT
BEGIN:VEVENT
DTSTART;TZID=America/Chicago:20220406T083000
DTEND;TZID=America/Chicago:20220406T120000
DTSTAMP:20260425T103348
CREATED:20220125T182125Z
LAST-MODIFIED:20220125T182125Z
UID:10000112-1649233800-1649246400@www.springcreekoaks.org
SUMMARY:CH 2 courts 1-4\, NWTL A-2
DESCRIPTION:
URL:https://www.springcreekoaks.org/reservations/ch-2-courts-1-4-nwtl-a-2-2/2022-04-06/
LOCATION:TX
CATEGORIES:Tennis
END:VEVENT
BEGIN:VEVENT
DTSTART;TZID=America/Chicago:20220406T090000
DTEND;TZID=America/Chicago:20220406T120000
DTSTAMP:20260425T103348
CREATED:20220131T210803Z
LAST-MODIFIED:20220131T210803Z
UID:10004400-1649235600-1649246400@www.springcreekoaks.org
SUMMARY:CH 1 courts 2-3 (pickleball)\, Hudson
DESCRIPTION:
URL:https://www.springcreekoaks.org/reservations/ch-1-courts-2-3-pickleball-hudson-2/2022-04-06/
LOCATION:TX
CATEGORIES:Tennis
END:VEVENT
BEGIN:VEVENT
DTSTART;TZID=America/Chicago:20220406T170000
DTEND;TZID=America/Chicago:20220406T190000
DTSTAMP:20260425T103348
CREATED:20220124T162052Z
LAST-MODIFIED:20220221T184741Z
UID:10004212-1649264400-1649271600@www.springcreekoaks.org
SUMMARY:10U Tigers Baseball Practice - Field 1
DESCRIPTION:10U Baseball Practice – Field 1 \nChad Haynie
URL:https://www.springcreekoaks.org/reservations/10u-baseball-practice-chad-haynie/2022-04-06/
LOCATION:TX
CATEGORIES:Baseball Fields
END:VEVENT
BEGIN:VEVENT
DTSTART;TZID=America/Chicago:20220406T170000
DTEND;TZID=America/Chicago:20220406T190000
DTSTAMP:20260425T103348
CREATED:20220216T191511Z
LAST-MODIFIED:20220216T191511Z
UID:10004483-1649264400-1649271600@www.springcreekoaks.org
SUMMARY:6U Ponies Softball Practice - Field 4
DESCRIPTION:Field 4 \nReservation Contact: Abigail Crisman
URL:https://www.springcreekoaks.org/reservations/6u-ponies-softball-practice-field-4/2022-04-06/
LOCATION:TX
CATEGORIES:Baseball Fields
END:VEVENT
BEGIN:VEVENT
DTSTART;TZID=America/Chicago:20220406T170000
DTEND;TZID=America/Chicago:20220406T220000
DTSTAMP:20260425T103348
CREATED:20220402T223018Z
LAST-MODIFIED:20220402T223018Z
UID:10000764-1649264400-1649282400@www.springcreekoaks.org
SUMMARY:KHS Soccer CH2
DESCRIPTION:
URL:https://www.springcreekoaks.org/reservations/khs-soccer-ch2/
LOCATION:Clubhouse 2\, 6002 Bur Oak Dr\, Spring\, 77379\, United States
CATEGORIES:Clubhouses
GEO:30.037539;-95.5070911
X-APPLE-STRUCTURED-LOCATION;VALUE=URI;X-ADDRESS=Clubhouse 2 6002 Bur Oak Dr Spring 77379 United States;X-APPLE-RADIUS=500;X-TITLE=6002 Bur Oak Dr:geo:-95.5070911,30.037539
END:VEVENT
BEGIN:VEVENT
DTSTART;TZID=America/Chicago:20220406T180000
DTEND;TZID=America/Chicago:20220406T200000
DTSTAMP:20260425T103348
CREATED:20200805T160749Z
LAST-MODIFIED:20200805T161100Z
UID:10001377-1649268000-1649275200@www.springcreekoaks.org
SUMMARY:CIFUENTES (Big Soccer Field)
DESCRIPTION:
URL:https://www.springcreekoaks.org/reservations/cifuentes-open-play-big-soccer-field/2022-04-06/
LOCATION:TX
CATEGORIES:Soccer Fields
END:VEVENT
BEGIN:VEVENT
DTSTART;TZID=America/Chicago:20220406T180000
DTEND;TZID=America/Chicago:20220406T200000
DTSTAMP:20260425T103348
CREATED:20220509T131940Z
LAST-MODIFIED:20220516T194437Z
UID:10000688-1649268000-1649275200@www.springcreekoaks.org
SUMMARY:Soccer Practice SUMMER & JUAN JERONIMO
DESCRIPTION:Every Wednesday at 6PM
URL:https://www.springcreekoaks.org/reservations/soccer-practice-summer-juan-jeronimo/2022-04-06/
LOCATION:Large Soccer Field (Bilma)\, United States
CATEGORIES:Soccer Fields
END:VEVENT
BEGIN:VEVENT
DTSTART;TZID=America/Chicago:20220407T083000
DTEND;TZID=America/Chicago:20220407T120000
DTSTAMP:20260425T103348
CREATED:20220125T032722Z
LAST-MODIFIED:20220125T032722Z
UID:10004257-1649320200-1649332800@www.springcreekoaks.org
SUMMARY:Kuehnle courts 1-4\, NW Bailey
DESCRIPTION:
URL:https://www.springcreekoaks.org/reservations/kuehnle-courts-1-4-nw-bailey-2/2022-04-07/
LOCATION:TX
CATEGORIES:Tennis
END:VEVENT
BEGIN:VEVENT
DTSTART;TZID=America/Chicago:20220407T090000
DTEND;TZID=America/Chicago:20220407T120000
DTSTAMP:20260425T103348
CREATED:20220203T004901Z
LAST-MODIFIED:20220203T004901Z
UID:10004450-1649322000-1649332800@www.springcreekoaks.org
SUMMARY:CH 1 court 1\, Tennis pro Danny
DESCRIPTION:
URL:https://www.springcreekoaks.org/reservations/ch-1-court-1-tennis-pro-danny-5/2022-04-07/
LOCATION:TX
CATEGORIES:Tennis
END:VEVENT
BEGIN:VEVENT
DTSTART;TZID=America/Chicago:20220407T093000
DTEND;TZID=America/Chicago:20220407T130000
DTSTAMP:20260425T103348
CREATED:20220406T134611Z
LAST-MODIFIED:20220406T134611Z
UID:10000125-1649323800-1649336400@www.springcreekoaks.org
SUMMARY:CH 2 court 1\, Whiteside
DESCRIPTION:
URL:https://www.springcreekoaks.org/reservations/ch-2-court-1-whiteside/
LOCATION:TX
CATEGORIES:Tennis
END:VEVENT
BEGIN:VEVENT
DTSTART;TZID=America/Chicago:20220407T170000
DTEND;TZID=America/Chicago:20220407T210000
DTSTAMP:20260425T103348
CREATED:20191114T164535Z
LAST-MODIFIED:20191114T164535Z
UID:10000336-1649350800-1649365200@www.springcreekoaks.org
SUMMARY:CH2 5pm-9pm Waterboard Monthly Meeting
DESCRIPTION:
URL:https://www.springcreekoaks.org/reservations/ch2-5pm-9pm-waterboard-monthly-meeting/2022-04-07/
LOCATION:Clubhouse 2\, 6002 Bur Oak Dr\, Spring\, 77379\, United States
CATEGORIES:Clubhouses
GEO:30.037539;-95.5070911
X-APPLE-STRUCTURED-LOCATION;VALUE=URI;X-ADDRESS=Clubhouse 2 6002 Bur Oak Dr Spring 77379 United States;X-APPLE-RADIUS=500;X-TITLE=6002 Bur Oak Dr:geo:-95.5070911,30.037539
END:VEVENT
BEGIN:VEVENT
DTSTART;TZID=America/Chicago:20220407T183000
DTEND;TZID=America/Chicago:20220407T200000
DTSTAMP:20260425T103348
CREATED:20220407T142137Z
LAST-MODIFIED:20220407T142138Z
UID:10004509-1649356200-1649361600@www.springcreekoaks.org
SUMMARY:U15/16 TIGERS F.C. SOCCER PRACTICE
DESCRIPTION:Cifuentes Team
URL:https://www.springcreekoaks.org/reservations/u15-16-tigers-f-c-soccer-practice/2022-04-07/
LOCATION:Large Soccer Field (Bilma)\, United States
CATEGORIES:Soccer Fields
END:VEVENT
BEGIN:VEVENT
DTSTART;TZID=America/Chicago:20220408T080000
DTEND;TZID=America/Chicago:20220408T093000
DTSTAMP:20260425T103348
CREATED:20220131T205022Z
LAST-MODIFIED:20220131T205022Z
UID:10004378-1649404800-1649410200@www.springcreekoaks.org
SUMMARY:CH 2 court 6\, Mason
DESCRIPTION:
URL:https://www.springcreekoaks.org/reservations/ch-2-court-6-mason-14/2022-04-08/
LOCATION:TX
CATEGORIES:Tennis
END:VEVENT
BEGIN:VEVENT
DTSTART;TZID=America/Chicago:20220408T083000
DTEND;TZID=America/Chicago:20220408T120000
DTSTAMP:20260425T103348
CREATED:20220124T121859Z
LAST-MODIFIED:20220124T121859Z
UID:10004199-1649406600-1649419200@www.springcreekoaks.org
SUMMARY:CH 2 courts 1-4\, JR B-3
DESCRIPTION:
URL:https://www.springcreekoaks.org/reservations/ch-2-courts-1-4-jr-b-3-2/2022-04-08/
LOCATION:TX
CATEGORIES:Tennis
END:VEVENT
BEGIN:VEVENT
DTSTART;TZID=America/Chicago:20220408T100000
DTEND;TZID=America/Chicago:20220408T120000
DTSTAMP:20260425T103348
CREATED:20220203T005028Z
LAST-MODIFIED:20220203T005028Z
UID:10004467-1649412000-1649419200@www.springcreekoaks.org
SUMMARY:CH 1 court 1\, Tennis pro Danny
DESCRIPTION:
URL:https://www.springcreekoaks.org/reservations/ch-1-court-1-tennis-pro-danny-6/2022-04-08/
LOCATION:TX
CATEGORIES:Tennis
END:VEVENT
BEGIN:VEVENT
DTSTART;TZID=America/Chicago:20220408T170000
DTEND;TZID=America/Chicago:20220408T190000
DTSTAMP:20260425T103348
CREATED:20220125T162843Z
LAST-MODIFIED:20220125T162843Z
UID:10004280-1649437200-1649444400@www.springcreekoaks.org
SUMMARY:14U Farm League Jaguars Practice - Field 3
DESCRIPTION:14U Farm League Jaguars Practice – Field 3
URL:https://www.springcreekoaks.org/reservations/14u-farm-league-jaguars-practice-field-3/2022-04-08/
LOCATION:TX
CATEGORIES:Baseball Fields
END:VEVENT
BEGIN:VEVENT
DTSTART;VALUE=DATE:20220409
DTEND;VALUE=DATE:20220410
DTSTAMP:20260425T103348
CREATED:20220127T004351Z
LAST-MODIFIED:20220127T004351Z
UID:10004309-1649462400-1649548799@www.springcreekoaks.org
SUMMARY:Thomas CH2
DESCRIPTION:
URL:https://www.springcreekoaks.org/reservations/thomas-ch2-2/
LOCATION:Clubhouse 2\, 6002 Bur Oak Dr\, Spring\, 77379\, United States
CATEGORIES:Clubhouses
GEO:30.037539;-95.5070911
X-APPLE-STRUCTURED-LOCATION;VALUE=URI;X-ADDRESS=Clubhouse 2 6002 Bur Oak Dr Spring 77379 United States;X-APPLE-RADIUS=500;X-TITLE=6002 Bur Oak Dr:geo:-95.5070911,30.037539
END:VEVENT
BEGIN:VEVENT
DTSTART;VALUE=DATE:20220409
DTEND;VALUE=DATE:20220410
DTSTAMP:20260425T103348
CREATED:20220306T015346Z
LAST-MODIFIED:20220306T015346Z
UID:10004296-1649462400-1649548799@www.springcreekoaks.org
SUMMARY:Rails CH1
DESCRIPTION:
URL:https://www.springcreekoaks.org/reservations/rails-ch1/
LOCATION:Clubhouse 1\, 17111 Misty Creek\, Spring\, TX\, 77379\, United States
CATEGORIES:Clubhouses
GEO:30.0346602;-95.5117522
X-APPLE-STRUCTURED-LOCATION;VALUE=URI;X-ADDRESS=Clubhouse 1 17111 Misty Creek Spring TX 77379 United States;X-APPLE-RADIUS=500;X-TITLE=17111 Misty Creek:geo:-95.5117522,30.0346602
END:VEVENT
BEGIN:VEVENT
DTSTART;TZID=America/Chicago:20220409T080000
DTEND;TZID=America/Chicago:20220409T100000
DTSTAMP:20260425T103348
CREATED:20220407T142613Z
LAST-MODIFIED:20231115T201658Z
UID:10004545-1649491200-1649498400@www.springcreekoaks.org
SUMMARY:SCO weekly pickup game (LLERENA)
DESCRIPTION:All SCO residents are invited to play and have some fun.
URL:https://www.springcreekoaks.org/reservations/llerenas-soccer-practice/2022-04-09/
LOCATION:Large Soccer Field (Bilma)\, United States
CATEGORIES:Soccer Fields
END:VEVENT
BEGIN:VEVENT
DTSTART;TZID=America/Chicago:20220409T100000
DTEND;TZID=America/Chicago:20220409T120000
DTSTAMP:20260425T103348
CREATED:20220216T150652Z
LAST-MODIFIED:20220216T152538Z
UID:10000741-1649498400-1649505600@www.springcreekoaks.org
SUMMARY:18U Shock - Baseball Practice - Fields 1 & 4
DESCRIPTION:Reservation Contact: Mike McDowell
URL:https://www.springcreekoaks.org/reservations/high-school-baseball-practice-fields-1-4/2022-04-09/
LOCATION:TX
CATEGORIES:Baseball Fields
END:VEVENT
BEGIN:VEVENT
DTSTART;TZID=America/Chicago:20220410T150000
DTEND;TZID=America/Chicago:20220410T190000
DTSTAMP:20260425T103348
CREATED:20220203T152124Z
LAST-MODIFIED:20220203T152124Z
UID:10004475-1649602800-1649617200@www.springcreekoaks.org
SUMMARY:Swim Team Registration
DESCRIPTION:
URL:https://www.springcreekoaks.org/reservations/swim-team-registration-2/
LOCATION:Clubhouse 2\, 6002 Bur Oak Dr\, Spring\, 77379\, United States
CATEGORIES:Clubhouses
GEO:30.037539;-95.5070911
X-APPLE-STRUCTURED-LOCATION;VALUE=URI;X-ADDRESS=Clubhouse 2 6002 Bur Oak Dr Spring 77379 United States;X-APPLE-RADIUS=500;X-TITLE=6002 Bur Oak Dr:geo:-95.5070911,30.037539
END:VEVENT
END:VCALENDAR