BEGIN:VCALENDAR
VERSION:2.0
PRODID:-//Spring Creek Oaks - ECPv6.15.20//NONSGML v1.0//EN
CALSCALE:GREGORIAN
METHOD:PUBLISH
X-ORIGINAL-URL:https://www.springcreekoaks.org
X-WR-CALDESC:Events for Spring Creek Oaks
REFRESH-INTERVAL;VALUE=DURATION:PT1H
X-Robots-Tag:noindex
X-PUBLISHED-TTL:PT1H
BEGIN:VTIMEZONE
TZID:America/Chicago
BEGIN:DAYLIGHT
TZOFFSETFROM:-0600
TZOFFSETTO:-0500
TZNAME:CDT
DTSTART:20210314T080000
END:DAYLIGHT
BEGIN:STANDARD
TZOFFSETFROM:-0500
TZOFFSETTO:-0600
TZNAME:CST
DTSTART:20211107T070000
END:STANDARD
BEGIN:DAYLIGHT
TZOFFSETFROM:-0600
TZOFFSETTO:-0500
TZNAME:CDT
DTSTART:20220313T080000
END:DAYLIGHT
BEGIN:STANDARD
TZOFFSETFROM:-0500
TZOFFSETTO:-0600
TZNAME:CST
DTSTART:20221106T070000
END:STANDARD
BEGIN:DAYLIGHT
TZOFFSETFROM:-0600
TZOFFSETTO:-0500
TZNAME:CDT
DTSTART:20230312T080000
END:DAYLIGHT
BEGIN:STANDARD
TZOFFSETFROM:-0500
TZOFFSETTO:-0600
TZNAME:CST
DTSTART:20231105T070000
END:STANDARD
END:VTIMEZONE
BEGIN:VEVENT
DTSTART;TZID=America/Chicago:20220127T080000
DTEND;TZID=America/Chicago:20220127T170000
DTSTAMP:20260422T172501
CREATED:20211130T203715Z
LAST-MODIFIED:20211130T203715Z
UID:10004118-1643270400-1643302800@www.springcreekoaks.org
SUMMARY:Kuehnle courts 3-4\, tennis pro Danny
DESCRIPTION:
URL:https://www.springcreekoaks.org/reservations/kuehnle-courts-3-4-tennis-pro-danny-3/2022-01-27/
CATEGORIES:Tennis
END:VEVENT
BEGIN:VEVENT
DTSTART;TZID=America/Chicago:20220127T083000
DTEND;TZID=America/Chicago:20220127T120000
DTSTAMP:20260422T172501
CREATED:20220125T141123Z
LAST-MODIFIED:20220125T141123Z
UID:10004258-1643272200-1643284800@www.springcreekoaks.org
SUMMARY:CH 2 courts 1\, 4-6\, Mason rain makeup
DESCRIPTION:
URL:https://www.springcreekoaks.org/reservations/ch-2-courts-1-4-6-mason-rain-makeup/
CATEGORIES:Tennis
END:VEVENT
BEGIN:VEVENT
DTSTART;TZID=America/Chicago:20220127T090000
DTEND;TZID=America/Chicago:20220127T110000
DTSTAMP:20260422T172501
CREATED:20220120T012826Z
LAST-MODIFIED:20220120T012826Z
UID:10000007-1643274000-1643281200@www.springcreekoaks.org
SUMMARY:CH 2 courts 3\, Lopez
DESCRIPTION:
URL:https://www.springcreekoaks.org/reservations/ch-2-courts-3-lopez-2/2022-01-27/
CATEGORIES:Tennis
END:VEVENT
BEGIN:VEVENT
DTSTART;VALUE=DATE:20220128
DTEND;VALUE=DATE:20220129
DTSTAMP:20260422T172501
CREATED:20220121T202759Z
LAST-MODIFIED:20220121T202759Z
UID:10004195-1643328000-1643414399@www.springcreekoaks.org
SUMMARY:Clay CH1
DESCRIPTION:
URL:https://www.springcreekoaks.org/reservations/clay-ch1/
LOCATION:Clubhouse 1\, 17111 Misty Creek\, Spring\, TX\, 77379\, United States
CATEGORIES:Clubhouses
GEO:30.0346602;-95.5117522
X-APPLE-STRUCTURED-LOCATION;VALUE=URI;X-ADDRESS=Clubhouse 1 17111 Misty Creek Spring TX 77379 United States;X-APPLE-RADIUS=500;X-TITLE=17111 Misty Creek:geo:-95.5117522,30.0346602
END:VEVENT
BEGIN:VEVENT
DTSTART;TZID=America/Chicago:20220128T080000
DTEND;TZID=America/Chicago:20220128T170000
DTSTAMP:20260422T172501
CREATED:20211130T203827Z
LAST-MODIFIED:20211130T203827Z
UID:10004133-1643356800-1643389200@www.springcreekoaks.org
SUMMARY:Kuehnle courts 3-4\, tennis pro Danny
DESCRIPTION:
URL:https://www.springcreekoaks.org/reservations/kuehnle-courts-3-4-tennis-pro-danny-4/2022-01-28/
CATEGORIES:Tennis
END:VEVENT
BEGIN:VEVENT
DTSTART;TZID=America/Chicago:20220128T083000
DTEND;TZID=America/Chicago:20220128T120000
DTSTAMP:20260422T172501
CREATED:20220124T121859Z
LAST-MODIFIED:20220124T121859Z
UID:10004196-1643358600-1643371200@www.springcreekoaks.org
SUMMARY:CH 2 courts 1-4\, JR B-3
DESCRIPTION:
URL:https://www.springcreekoaks.org/reservations/ch-2-courts-1-4-jr-b-3-2/2022-01-28/
CATEGORIES:Tennis
END:VEVENT
BEGIN:VEVENT
DTSTART;TZID=America/Chicago:20220128T170000
DTEND;TZID=America/Chicago:20220128T190000
DTSTAMP:20260422T172501
CREATED:20220125T162843Z
LAST-MODIFIED:20220125T162843Z
UID:10004260-1643389200-1643396400@www.springcreekoaks.org
SUMMARY:14U Farm League Jaguars Practice - Field 3
DESCRIPTION:14U Farm League Jaguars Practice – Field 3
URL:https://www.springcreekoaks.org/reservations/14u-farm-league-jaguars-practice-field-3/2022-01-28/
CATEGORIES:Baseball Fields
END:VEVENT
BEGIN:VEVENT
DTSTART;TZID=America/Chicago:20220129T080000
DTEND;TZID=America/Chicago:20220129T180000
DTSTAMP:20260422T172501
CREATED:20220121T013015Z
LAST-MODIFIED:20220121T013015Z
UID:10004176-1643443200-1643479200@www.springcreekoaks.org
SUMMARY:CH 2 courts 1-6\, JR tournament
DESCRIPTION:
URL:https://www.springcreekoaks.org/reservations/ch-2-courts-1-6-jr-tournament/2022-01-29/
CATEGORIES:Tennis
END:VEVENT
BEGIN:VEVENT
DTSTART;TZID=America/Chicago:20220130T080000
DTEND;TZID=America/Chicago:20220130T180000
DTSTAMP:20260422T172501
CREATED:20220121T013015Z
LAST-MODIFIED:20220121T013015Z
UID:10004177-1643529600-1643565600@www.springcreekoaks.org
SUMMARY:CH 2 courts 1-6\, JR tournament
DESCRIPTION:
URL:https://www.springcreekoaks.org/reservations/ch-2-courts-1-6-jr-tournament/2022-01-30/
CATEGORIES:Tennis
END:VEVENT
BEGIN:VEVENT
DTSTART;TZID=America/Chicago:20220130T160000
DTEND;TZID=America/Chicago:20220130T180000
DTSTAMP:20260422T172501
CREATED:20211211T231952Z
LAST-MODIFIED:20211211T231952Z
UID:10000294-1643558400-1643565600@www.springcreekoaks.org
SUMMARY:Smith CH2-
DESCRIPTION:
URL:https://www.springcreekoaks.org/reservations/smith-ch2/
LOCATION:Clubhouse 2\, 6002 Bur Oak Dr\, Spring\, 77379\, United States
CATEGORIES:Clubhouses
GEO:30.037539;-95.5070911
X-APPLE-STRUCTURED-LOCATION;VALUE=URI;X-ADDRESS=Clubhouse 2 6002 Bur Oak Dr Spring 77379 United States;X-APPLE-RADIUS=500;X-TITLE=6002 Bur Oak Dr:geo:-95.5070911,30.037539
END:VEVENT
BEGIN:VEVENT
DTSTART;TZID=America/Chicago:20220131T080000
DTEND;TZID=America/Chicago:20220131T170000
DTSTAMP:20260422T172501
CREATED:20211130T203827Z
LAST-MODIFIED:20211130T203827Z
UID:10004134-1643616000-1643648400@www.springcreekoaks.org
SUMMARY:Kuehnle courts 3-4\, tennis pro Danny
DESCRIPTION:
URL:https://www.springcreekoaks.org/reservations/kuehnle-courts-3-4-tennis-pro-danny-4/2022-01-31/
CATEGORIES:Tennis
END:VEVENT
BEGIN:VEVENT
DTSTART;TZID=America/Chicago:20220131T083000
DTEND;TZID=America/Chicago:20220131T120000
DTSTAMP:20260422T172501
CREATED:20220125T032223Z
LAST-MODIFIED:20220125T032223Z
UID:10004242-1643617800-1643630400@www.springcreekoaks.org
SUMMARY:CH 2 courts 1-4\, HLTA Champ 2 North
DESCRIPTION:
URL:https://www.springcreekoaks.org/reservations/ch-2-courts-1-4-hlta-champ-2-north/2022-01-31/
CATEGORIES:Tennis
END:VEVENT
BEGIN:VEVENT
DTSTART;TZID=America/Chicago:20220131T170000
DTEND;TZID=America/Chicago:20220131T190000
DTSTAMP:20260422T172501
CREATED:20220125T162843Z
LAST-MODIFIED:20220125T162843Z
UID:10004261-1643648400-1643655600@www.springcreekoaks.org
SUMMARY:14U Farm League Jaguars Practice - Field 3
DESCRIPTION:14U Farm League Jaguars Practice – Field 3
URL:https://www.springcreekoaks.org/reservations/14u-farm-league-jaguars-practice-field-3/2022-01-31/
CATEGORIES:Baseball Fields
END:VEVENT
BEGIN:VEVENT
DTSTART;TZID=America/Chicago:20220201T080000
DTEND;TZID=America/Chicago:20220201T093000
DTSTAMP:20260422T172501
CREATED:20220131T204916Z
LAST-MODIFIED:20220131T204916Z
UID:10000014-1643702400-1643707800@www.springcreekoaks.org
SUMMARY:CH 2 court 6\, Mason
DESCRIPTION:
URL:https://www.springcreekoaks.org/reservations/ch-2-court-6-mason-13/2022-02-01/
CATEGORIES:Tennis
END:VEVENT
BEGIN:VEVENT
DTSTART;TZID=America/Chicago:20220202T090000
DTEND;TZID=America/Chicago:20220202T120000
DTSTAMP:20260422T172501
CREATED:20220131T210803Z
LAST-MODIFIED:20220131T210803Z
UID:10004391-1643792400-1643803200@www.springcreekoaks.org
SUMMARY:CH 1 courts 2-3 (pickleball)\, Hudson
DESCRIPTION:
URL:https://www.springcreekoaks.org/reservations/ch-1-courts-2-3-pickleball-hudson-2/2022-02-02/
CATEGORIES:Tennis
END:VEVENT
BEGIN:VEVENT
DTSTART;TZID=America/Chicago:20220202T180000
DTEND;TZID=America/Chicago:20220202T200000
DTSTAMP:20260422T172501
CREATED:20200805T160749Z
LAST-MODIFIED:20200805T161100Z
UID:10001368-1643824800-1643832000@www.springcreekoaks.org
SUMMARY:CIFUENTES (Big Soccer Field)
DESCRIPTION:
URL:https://www.springcreekoaks.org/reservations/cifuentes-open-play-big-soccer-field/2022-02-02/
CATEGORIES:Soccer Fields
END:VEVENT
BEGIN:VEVENT
DTSTART;TZID=America/Chicago:20220202T180000
DTEND;TZID=America/Chicago:20220202T223000
DTSTAMP:20260422T172501
CREATED:20220125T231008Z
LAST-MODIFIED:20220125T231008Z
UID:10004301-1643824800-1643841000@www.springcreekoaks.org
SUMMARY:Sco Book Club CH2
DESCRIPTION:
URL:https://www.springcreekoaks.org/reservations/sco-book-club-ch2/
LOCATION:Clubhouse 2\, 6002 Bur Oak Dr\, Spring\, 77379\, United States
CATEGORIES:Clubhouses
GEO:30.037539;-95.5070911
X-APPLE-STRUCTURED-LOCATION;VALUE=URI;X-ADDRESS=Clubhouse 2 6002 Bur Oak Dr Spring 77379 United States;X-APPLE-RADIUS=500;X-TITLE=6002 Bur Oak Dr:geo:-95.5070911,30.037539
END:VEVENT
BEGIN:VEVENT
DTSTART;TZID=America/Chicago:20220203T083000
DTEND;TZID=America/Chicago:20220203T120000
DTSTAMP:20260422T172501
CREATED:20220131T210700Z
LAST-MODIFIED:20220131T210700Z
UID:10004390-1643877000-1643889600@www.springcreekoaks.org
SUMMARY:CH 2 court 1\, HLTA Mason rain makeup
DESCRIPTION:
URL:https://www.springcreekoaks.org/reservations/ch-2-court-1-hlta-mason-rain-makeup-2/
CATEGORIES:Tennis
END:VEVENT
BEGIN:VEVENT
DTSTART;TZID=America/Chicago:20220203T090000
DTEND;TZID=America/Chicago:20220203T120000
DTSTAMP:20260422T172501
CREATED:20220203T004901Z
LAST-MODIFIED:20220203T004901Z
UID:10004441-1643878800-1643889600@www.springcreekoaks.org
SUMMARY:CH 1 court 1\, Tennis pro Danny
DESCRIPTION:
URL:https://www.springcreekoaks.org/reservations/ch-1-court-1-tennis-pro-danny-5/2022-02-03/
CATEGORIES:Tennis
END:VEVENT
BEGIN:VEVENT
DTSTART;TZID=America/Chicago:20220203T170000
DTEND;TZID=America/Chicago:20220203T210000
DTSTAMP:20260422T172501
CREATED:20191114T164535Z
LAST-MODIFIED:20191114T164535Z
UID:10000334-1643907600-1643922000@www.springcreekoaks.org
SUMMARY:CH2 5pm-9pm Waterboard Monthly Meeting
DESCRIPTION:
URL:https://www.springcreekoaks.org/reservations/ch2-5pm-9pm-waterboard-monthly-meeting/2022-02-03/
LOCATION:Clubhouse 2\, 6002 Bur Oak Dr\, Spring\, 77379\, United States
CATEGORIES:Clubhouses
GEO:30.037539;-95.5070911
X-APPLE-STRUCTURED-LOCATION;VALUE=URI;X-ADDRESS=Clubhouse 2 6002 Bur Oak Dr Spring 77379 United States;X-APPLE-RADIUS=500;X-TITLE=6002 Bur Oak Dr:geo:-95.5070911,30.037539
END:VEVENT
BEGIN:VEVENT
DTSTART;TZID=America/Chicago:20220204T080000
DTEND;TZID=America/Chicago:20220204T093000
DTSTAMP:20260422T172501
CREATED:20220131T205022Z
LAST-MODIFIED:20220131T205022Z
UID:10004369-1643961600-1643967000@www.springcreekoaks.org
SUMMARY:CH 2 court 6\, Mason
DESCRIPTION:
URL:https://www.springcreekoaks.org/reservations/ch-2-court-6-mason-14/2022-02-04/
CATEGORIES:Tennis
END:VEVENT
BEGIN:VEVENT
DTSTART;TZID=America/Chicago:20220204T100000
DTEND;TZID=America/Chicago:20220204T120000
DTSTAMP:20260422T172501
CREATED:20220203T005028Z
LAST-MODIFIED:20220203T005028Z
UID:10004458-1643968800-1643976000@www.springcreekoaks.org
SUMMARY:CH 1 court 1\, Tennis pro Danny
DESCRIPTION:
URL:https://www.springcreekoaks.org/reservations/ch-1-court-1-tennis-pro-danny-6/2022-02-04/
CATEGORIES:Tennis
END:VEVENT
BEGIN:VEVENT
DTSTART;TZID=America/Chicago:20220204T170000
DTEND;TZID=America/Chicago:20220204T190000
DTSTAMP:20260422T172501
CREATED:20220125T162843Z
LAST-MODIFIED:20220125T162843Z
UID:10004262-1643994000-1644001200@www.springcreekoaks.org
SUMMARY:14U Farm League Jaguars Practice - Field 3
DESCRIPTION:14U Farm League Jaguars Practice – Field 3
URL:https://www.springcreekoaks.org/reservations/14u-farm-league-jaguars-practice-field-3/2022-02-04/
CATEGORIES:Baseball Fields
END:VEVENT
BEGIN:VEVENT
DTSTART;VALUE=DATE:20220205
DTEND;VALUE=DATE:20220206
DTSTAMP:20260422T172501
CREATED:20211114T001113Z
LAST-MODIFIED:20211114T001113Z
UID:10004013-1644019200-1644105599@www.springcreekoaks.org
SUMMARY:Estrada CH2
DESCRIPTION:
URL:https://www.springcreekoaks.org/reservations/estrada-ch2-3/
LOCATION:Clubhouse 2\, 6002 Bur Oak Dr\, Spring\, 77379\, United States
CATEGORIES:Clubhouses
GEO:30.037539;-95.5070911
X-APPLE-STRUCTURED-LOCATION;VALUE=URI;X-ADDRESS=Clubhouse 2 6002 Bur Oak Dr Spring 77379 United States;X-APPLE-RADIUS=500;X-TITLE=6002 Bur Oak Dr:geo:-95.5070911,30.037539
END:VEVENT
BEGIN:VEVENT
DTSTART;TZID=America/Chicago:20220207T080000
DTEND;TZID=America/Chicago:20220207T120000
DTSTAMP:20260422T172501
CREATED:20220203T004438Z
LAST-MODIFIED:20220203T004438Z
UID:10004223-1644220800-1644235200@www.springcreekoaks.org
SUMMARY:Kuehnle courts 3-4\, Tennis pro Danny
DESCRIPTION:
URL:https://www.springcreekoaks.org/reservations/kuehnle-courts-3-4-tennis-pro-danny-6/2022-02-07/
CATEGORIES:Tennis
END:VEVENT
BEGIN:VEVENT
DTSTART;TZID=America/Chicago:20220207T170000
DTEND;TZID=America/Chicago:20220207T190000
DTSTAMP:20260422T172501
CREATED:20220125T162843Z
LAST-MODIFIED:20220125T162843Z
UID:10004263-1644253200-1644260400@www.springcreekoaks.org
SUMMARY:14U Farm League Jaguars Practice - Field 3
DESCRIPTION:14U Farm League Jaguars Practice – Field 3
URL:https://www.springcreekoaks.org/reservations/14u-farm-league-jaguars-practice-field-3/2022-02-07/
CATEGORIES:Baseball Fields
END:VEVENT
BEGIN:VEVENT
DTSTART;TZID=America/Chicago:20220208T080000
DTEND;TZID=America/Chicago:20220208T093000
DTSTAMP:20260422T172501
CREATED:20220131T204916Z
LAST-MODIFIED:20220131T204916Z
UID:10000015-1644307200-1644312600@www.springcreekoaks.org
SUMMARY:CH 2 court 6\, Mason
DESCRIPTION:
URL:https://www.springcreekoaks.org/reservations/ch-2-court-6-mason-13/2022-02-08/
CATEGORIES:Tennis
END:VEVENT
BEGIN:VEVENT
DTSTART;TZID=America/Chicago:20220208T080000
DTEND;TZID=America/Chicago:20220208T120000
DTSTAMP:20260422T172501
CREATED:20220203T004639Z
LAST-MODIFIED:20220203T004639Z
UID:10004408-1644307200-1644321600@www.springcreekoaks.org
SUMMARY:CH 1 court 1\, Tennis Pro Danny
DESCRIPTION:
URL:https://www.springcreekoaks.org/reservations/ch-1-court-1-tennis-pro-danny-4/2022-02-08/
CATEGORIES:Tennis
END:VEVENT
BEGIN:VEVENT
DTSTART;TZID=America/Chicago:20220208T100000
DTEND;TZID=America/Chicago:20220208T120000
DTSTAMP:20260422T172501
CREATED:20220131T204802Z
LAST-MODIFIED:20220131T204802Z
UID:10000578-1644314400-1644321600@www.springcreekoaks.org
SUMMARY:CH 2 court 1\, HLTA Mason rain makeup
DESCRIPTION:
URL:https://www.springcreekoaks.org/reservations/ch-2-court-1-hlta-mason-rain-makeup/
CATEGORIES:Tennis
END:VEVENT
BEGIN:VEVENT
DTSTART;TZID=America/Chicago:20220209T080000
DTEND;TZID=America/Chicago:20220209T100000
DTSTAMP:20260422T172501
CREATED:20220203T004757Z
LAST-MODIFIED:20220203T004757Z
UID:10004425-1644393600-1644400800@www.springcreekoaks.org
SUMMARY:Kuehnle courts 3-4\, Tennis pro Danny
DESCRIPTION:
URL:https://www.springcreekoaks.org/reservations/kuehnle-courts-3-4-tennis-pro-danny-7/2022-02-09/
CATEGORIES:Tennis
END:VEVENT
END:VCALENDAR