BEGIN:VCALENDAR
VERSION:2.0
PRODID:-//Spring Creek Oaks - ECPv6.15.20//NONSGML v1.0//EN
CALSCALE:GREGORIAN
METHOD:PUBLISH
X-ORIGINAL-URL:https://www.springcreekoaks.org
X-WR-CALDESC:Events for Spring Creek Oaks
REFRESH-INTERVAL;VALUE=DURATION:PT1H
X-Robots-Tag:noindex
X-PUBLISHED-TTL:PT1H
BEGIN:VTIMEZONE
TZID:America/Chicago
BEGIN:DAYLIGHT
TZOFFSETFROM:-0600
TZOFFSETTO:-0500
TZNAME:CDT
DTSTART:20210314T080000
END:DAYLIGHT
BEGIN:STANDARD
TZOFFSETFROM:-0500
TZOFFSETTO:-0600
TZNAME:CST
DTSTART:20211107T070000
END:STANDARD
BEGIN:DAYLIGHT
TZOFFSETFROM:-0600
TZOFFSETTO:-0500
TZNAME:CDT
DTSTART:20220313T080000
END:DAYLIGHT
BEGIN:STANDARD
TZOFFSETFROM:-0500
TZOFFSETTO:-0600
TZNAME:CST
DTSTART:20221106T070000
END:STANDARD
BEGIN:DAYLIGHT
TZOFFSETFROM:-0600
TZOFFSETTO:-0500
TZNAME:CDT
DTSTART:20230312T080000
END:DAYLIGHT
BEGIN:STANDARD
TZOFFSETFROM:-0500
TZOFFSETTO:-0600
TZNAME:CST
DTSTART:20231105T070000
END:STANDARD
END:VTIMEZONE
BEGIN:VEVENT
DTSTART;TZID=America/Chicago:20220107T080000
DTEND;TZID=America/Chicago:20220107T170000
DTSTAMP:20260422T225828
CREATED:20211130T203827Z
LAST-MODIFIED:20211130T203827Z
UID:10004127-1641542400-1641574800@www.springcreekoaks.org
SUMMARY:Kuehnle courts 3-4\, tennis pro Danny
DESCRIPTION:
URL:https://www.springcreekoaks.org/reservations/kuehnle-courts-3-4-tennis-pro-danny-4/2022-01-07/
CATEGORIES:Tennis
END:VEVENT
BEGIN:VEVENT
DTSTART;VALUE=DATE:20220108
DTEND;VALUE=DATE:20220109
DTSTAMP:20260422T225828
CREATED:20211108T020749Z
LAST-MODIFIED:20211108T020749Z
UID:10004017-1641600000-1641686399@www.springcreekoaks.org
SUMMARY:Denis CH2
DESCRIPTION:
URL:https://www.springcreekoaks.org/reservations/denis-ch2/
LOCATION:Clubhouse 2\, 6002 Bur Oak Dr\, Spring\, 77379\, United States
CATEGORIES:Clubhouses
GEO:30.037539;-95.5070911
X-APPLE-STRUCTURED-LOCATION;VALUE=URI;X-ADDRESS=Clubhouse 2 6002 Bur Oak Dr Spring 77379 United States;X-APPLE-RADIUS=500;X-TITLE=6002 Bur Oak Dr:geo:-95.5070911,30.037539
END:VEVENT
BEGIN:VEVENT
DTSTART;TZID=America/Chicago:20220109T140000
DTEND;TZID=America/Chicago:20220109T160000
DTSTAMP:20260422T225828
CREATED:20211228T031725Z
LAST-MODIFIED:20211228T031725Z
UID:10004170-1641736800-1641744000@www.springcreekoaks.org
SUMMARY:Wildflowers NCL CH2
DESCRIPTION:
URL:https://www.springcreekoaks.org/reservations/wildflowers-ncl-ch2/
LOCATION:Clubhouse 2\, 6002 Bur Oak Dr\, Spring\, 77379\, United States
CATEGORIES:Clubhouses
GEO:30.037539;-95.5070911
X-APPLE-STRUCTURED-LOCATION;VALUE=URI;X-ADDRESS=Clubhouse 2 6002 Bur Oak Dr Spring 77379 United States;X-APPLE-RADIUS=500;X-TITLE=6002 Bur Oak Dr:geo:-95.5070911,30.037539
END:VEVENT
BEGIN:VEVENT
DTSTART;TZID=America/Chicago:20220110T080000
DTEND;TZID=America/Chicago:20220110T170000
DTSTAMP:20260422T225828
CREATED:20211130T203827Z
LAST-MODIFIED:20211130T203827Z
UID:10004128-1641801600-1641834000@www.springcreekoaks.org
SUMMARY:Kuehnle courts 3-4\, tennis pro Danny
DESCRIPTION:
URL:https://www.springcreekoaks.org/reservations/kuehnle-courts-3-4-tennis-pro-danny-4/2022-01-10/
CATEGORIES:Tennis
END:VEVENT
BEGIN:VEVENT
DTSTART;TZID=America/Chicago:20220111T080000
DTEND;TZID=America/Chicago:20220111T170000
DTSTAMP:20260422T225828
CREATED:20211130T204209Z
LAST-MODIFIED:20211206T142004Z
UID:10004140-1641888000-1641920400@www.springcreekoaks.org
SUMMARY:Kuehnle courts 3-4\, tennis pro Danny
DESCRIPTION:
URL:https://www.springcreekoaks.org/reservations/kuehnle-courts-3-4-tennis-pro-danny-5-2021-12-14/2022-01-11/
CATEGORIES:Tennis
END:VEVENT
BEGIN:VEVENT
DTSTART;TZID=America/Chicago:20220111T090000
DTEND;TZID=America/Chicago:20220111T110000
DTSTAMP:20260422T225828
CREATED:20220110T191927Z
LAST-MODIFIED:20220110T191927Z
UID:10004026-1641891600-1641898800@www.springcreekoaks.org
SUMMARY:CH 2 court 3\, Lopez
DESCRIPTION:
URL:https://www.springcreekoaks.org/reservations/ch-2-court-3-lopez-16/
CATEGORIES:Tennis
END:VEVENT
BEGIN:VEVENT
DTSTART;TZID=America/Chicago:20220112T080000
DTEND;TZID=America/Chicago:20220112T170000
DTSTAMP:20260422T225828
CREATED:20211130T203620Z
LAST-MODIFIED:20211130T203620Z
UID:10004110-1641974400-1642006800@www.springcreekoaks.org
SUMMARY:Kuehnle courts 3-4\, tennis pro Danny
DESCRIPTION:
URL:https://www.springcreekoaks.org/reservations/kuehnle-courts-3-4-tennis-pro-danny-2/2022-01-12/
CATEGORIES:Tennis
END:VEVENT
BEGIN:VEVENT
DTSTART;TZID=America/Chicago:20220112T090000
DTEND;TZID=America/Chicago:20220112T120000
DTSTAMP:20260422T225828
CREATED:20220108T002950Z
LAST-MODIFIED:20220108T002950Z
UID:10000952-1641978000-1641988800@www.springcreekoaks.org
SUMMARY:Ch 2 court 6\, Hudson
DESCRIPTION:
URL:https://www.springcreekoaks.org/reservations/ch-2-court-6-hudson-6/
CATEGORIES:Tennis
END:VEVENT
BEGIN:VEVENT
DTSTART;TZID=America/Chicago:20220112T180000
DTEND;TZID=America/Chicago:20220112T200000
DTSTAMP:20260422T225828
CREATED:20200805T160749Z
LAST-MODIFIED:20200805T161100Z
UID:10001365-1642010400-1642017600@www.springcreekoaks.org
SUMMARY:CIFUENTES (Big Soccer Field)
DESCRIPTION:
URL:https://www.springcreekoaks.org/reservations/cifuentes-open-play-big-soccer-field/2022-01-12/
CATEGORIES:Soccer Fields
END:VEVENT
BEGIN:VEVENT
DTSTART;TZID=America/Chicago:20220113T080000
DTEND;TZID=America/Chicago:20220113T170000
DTSTAMP:20260422T225828
CREATED:20211130T203715Z
LAST-MODIFIED:20211130T203715Z
UID:10004116-1642060800-1642093200@www.springcreekoaks.org
SUMMARY:Kuehnle courts 3-4\, tennis pro Danny
DESCRIPTION:
URL:https://www.springcreekoaks.org/reservations/kuehnle-courts-3-4-tennis-pro-danny-3/2022-01-13/
CATEGORIES:Tennis
END:VEVENT
BEGIN:VEVENT
DTSTART;TZID=America/Chicago:20220113T090000
DTEND;TZID=America/Chicago:20220113T120000
DTSTAMP:20260422T225828
CREATED:20220111T022054Z
LAST-MODIFIED:20220111T022054Z
UID:10004173-1642064400-1642075200@www.springcreekoaks.org
SUMMARY:CH 2 courts 1-3\, Junek
DESCRIPTION:
URL:https://www.springcreekoaks.org/reservations/ch-2-courts-1-3-junek-7/
CATEGORIES:Tennis
END:VEVENT
BEGIN:VEVENT
DTSTART;TZID=America/Chicago:20220114T080000
DTEND;TZID=America/Chicago:20220114T170000
DTSTAMP:20260422T225828
CREATED:20211130T203827Z
LAST-MODIFIED:20211130T203827Z
UID:10004129-1642147200-1642179600@www.springcreekoaks.org
SUMMARY:Kuehnle courts 3-4\, tennis pro Danny
DESCRIPTION:
URL:https://www.springcreekoaks.org/reservations/kuehnle-courts-3-4-tennis-pro-danny-4/2022-01-14/
CATEGORIES:Tennis
END:VEVENT
BEGIN:VEVENT
DTSTART;TZID=America/Chicago:20220114T090000
DTEND;TZID=America/Chicago:20220114T120000
DTSTAMP:20260422T225828
CREATED:20220113T013639Z
LAST-MODIFIED:20220113T013639Z
UID:10003988-1642150800-1642161600@www.springcreekoaks.org
SUMMARY:CH 2 court 6\, Hudson
DESCRIPTION:
URL:https://www.springcreekoaks.org/reservations/ch-2-court-6-hudson-7/
CATEGORIES:Tennis
END:VEVENT
BEGIN:VEVENT
DTSTART;VALUE=DATE:20220115
DTEND;VALUE=DATE:20220116
DTSTAMP:20260422T225828
CREATED:20211205T081514Z
LAST-MODIFIED:20211205T081514Z
UID:10004031-1642204800-1642291199@www.springcreekoaks.org
SUMMARY:Jimenez CH2
DESCRIPTION:
URL:https://www.springcreekoaks.org/reservations/jimenez-ch2/
LOCATION:Clubhouse 2\, 6002 Bur Oak Dr\, Spring\, 77379\, United States
CATEGORIES:Clubhouses
GEO:30.037539;-95.5070911
X-APPLE-STRUCTURED-LOCATION;VALUE=URI;X-ADDRESS=Clubhouse 2 6002 Bur Oak Dr Spring 77379 United States;X-APPLE-RADIUS=500;X-TITLE=6002 Bur Oak Dr:geo:-95.5070911,30.037539
END:VEVENT
BEGIN:VEVENT
DTSTART;TZID=America/Chicago:20220117T080000
DTEND;TZID=America/Chicago:20220117T170000
DTSTAMP:20260422T225828
CREATED:20211130T203827Z
LAST-MODIFIED:20211130T203827Z
UID:10004130-1642406400-1642438800@www.springcreekoaks.org
SUMMARY:Kuehnle courts 3-4\, tennis pro Danny
DESCRIPTION:
URL:https://www.springcreekoaks.org/reservations/kuehnle-courts-3-4-tennis-pro-danny-4/2022-01-17/
CATEGORIES:Tennis
END:VEVENT
BEGIN:VEVENT
DTSTART;TZID=America/Chicago:20220118T080000
DTEND;TZID=America/Chicago:20220118T170000
DTSTAMP:20260422T225829
CREATED:20211130T204209Z
LAST-MODIFIED:20211206T142004Z
UID:10004141-1642492800-1642525200@www.springcreekoaks.org
SUMMARY:Kuehnle courts 3-4\, tennis pro Danny
DESCRIPTION:
URL:https://www.springcreekoaks.org/reservations/kuehnle-courts-3-4-tennis-pro-danny-5-2021-12-14/2022-01-18/
CATEGORIES:Tennis
END:VEVENT
BEGIN:VEVENT
DTSTART;TZID=America/Chicago:20220118T090000
DTEND;TZID=America/Chicago:20220118T120000
DTSTAMP:20260422T225829
CREATED:20220116T152301Z
LAST-MODIFIED:20220116T152301Z
UID:10000066-1642496400-1642507200@www.springcreekoaks.org
SUMMARY:CH 2 court 3\, Lopez
DESCRIPTION:
URL:https://www.springcreekoaks.org/reservations/ch-2-court-3-lopez-17/2022-01-18/
CATEGORIES:Tennis
END:VEVENT
BEGIN:VEVENT
DTSTART;TZID=America/Chicago:20220119T080000
DTEND;TZID=America/Chicago:20220119T170000
DTSTAMP:20260422T225829
CREATED:20211130T203620Z
LAST-MODIFIED:20211130T203620Z
UID:10004111-1642579200-1642611600@www.springcreekoaks.org
SUMMARY:Kuehnle courts 3-4\, tennis pro Danny
DESCRIPTION:
URL:https://www.springcreekoaks.org/reservations/kuehnle-courts-3-4-tennis-pro-danny-2/2022-01-19/
CATEGORIES:Tennis
END:VEVENT
BEGIN:VEVENT
DTSTART;TZID=America/Chicago:20220119T180000
DTEND;TZID=America/Chicago:20220119T200000
DTSTAMP:20260422T225829
CREATED:20200805T160749Z
LAST-MODIFIED:20200805T161100Z
UID:10001366-1642615200-1642622400@www.springcreekoaks.org
SUMMARY:CIFUENTES (Big Soccer Field)
DESCRIPTION:
URL:https://www.springcreekoaks.org/reservations/cifuentes-open-play-big-soccer-field/2022-01-19/
CATEGORIES:Soccer Fields
END:VEVENT
BEGIN:VEVENT
DTSTART;TZID=America/Chicago:20220120T080000
DTEND;TZID=America/Chicago:20220120T170000
DTSTAMP:20260422T225829
CREATED:20211130T203715Z
LAST-MODIFIED:20211130T203715Z
UID:10004117-1642665600-1642698000@www.springcreekoaks.org
SUMMARY:Kuehnle courts 3-4\, tennis pro Danny
DESCRIPTION:
URL:https://www.springcreekoaks.org/reservations/kuehnle-courts-3-4-tennis-pro-danny-3/2022-01-20/
CATEGORIES:Tennis
END:VEVENT
BEGIN:VEVENT
DTSTART;TZID=America/Chicago:20220120T090000
DTEND;TZID=America/Chicago:20220120T120000
DTSTAMP:20260422T225829
CREATED:20220116T152301Z
LAST-MODIFIED:20220116T152301Z
UID:10000067-1642669200-1642680000@www.springcreekoaks.org
SUMMARY:CH 2 court 3\, Lopez
DESCRIPTION:
URL:https://www.springcreekoaks.org/reservations/ch-2-court-3-lopez-17/2022-01-20/
CATEGORIES:Tennis
END:VEVENT
BEGIN:VEVENT
DTSTART;TZID=America/Chicago:20220120T090000
DTEND;TZID=America/Chicago:20220120T120000
DTSTAMP:20260422T225829
CREATED:20220119T131318Z
LAST-MODIFIED:20220119T131318Z
UID:10004175-1642669200-1642680000@www.springcreekoaks.org
SUMMARY:CH 2 courts 4-6\, Junek
DESCRIPTION:
URL:https://www.springcreekoaks.org/reservations/ch-2-courts-4-6-junek/
CATEGORIES:Tennis
END:VEVENT
BEGIN:VEVENT
DTSTART;TZID=America/Chicago:20220121T080000
DTEND;TZID=America/Chicago:20220121T170000
DTSTAMP:20260422T225829
CREATED:20211130T203827Z
LAST-MODIFIED:20211130T203827Z
UID:10004131-1642752000-1642784400@www.springcreekoaks.org
SUMMARY:Kuehnle courts 3-4\, tennis pro Danny
DESCRIPTION:
URL:https://www.springcreekoaks.org/reservations/kuehnle-courts-3-4-tennis-pro-danny-4/2022-01-21/
CATEGORIES:Tennis
END:VEVENT
BEGIN:VEVENT
DTSTART;TZID=America/Chicago:20220121T090000
DTEND;TZID=America/Chicago:20220121T120000
DTSTAMP:20260422T225829
CREATED:20220104T185108Z
LAST-MODIFIED:20220104T185108Z
UID:10004154-1642755600-1642766400@www.springcreekoaks.org
SUMMARY:CH 2 courts 1-3\, Lopez
DESCRIPTION:
URL:https://www.springcreekoaks.org/reservations/ch-2-courts-1-3-lopez-4/
CATEGORIES:Tennis
END:VEVENT
BEGIN:VEVENT
DTSTART;TZID=America/Chicago:20220121T090000
DTEND;TZID=America/Chicago:20220121T120000
DTSTAMP:20260422T225829
CREATED:20220110T191011Z
LAST-MODIFIED:20220110T191011Z
UID:10000068-1642755600-1642766400@www.springcreekoaks.org
SUMMARY:CH 2 courts 4-6\, Hudson
DESCRIPTION:
URL:https://www.springcreekoaks.org/reservations/ch-2-courts-4-6-hudson/
CATEGORIES:Tennis
END:VEVENT
BEGIN:VEVENT
DTSTART;TZID=America/Chicago:20220121T090000
DTEND;TZID=America/Chicago:20220121T120000
DTSTAMP:20260422T225829
CREATED:20220113T015153Z
LAST-MODIFIED:20220114T003610Z
UID:10000228-1642755600-1642766400@www.springcreekoaks.org
SUMMARY:Kuehnle courts 1-2\, Nacewski
DESCRIPTION:
URL:https://www.springcreekoaks.org/reservations/ch-2-courts-1-2-nacewski/
CATEGORIES:Tennis
END:VEVENT
BEGIN:VEVENT
DTSTART;TZID=America/Chicago:20220124T080000
DTEND;TZID=America/Chicago:20220124T170000
DTSTAMP:20260422T225829
CREATED:20211130T203827Z
LAST-MODIFIED:20211130T203827Z
UID:10004132-1643011200-1643043600@www.springcreekoaks.org
SUMMARY:Kuehnle courts 3-4\, tennis pro Danny
DESCRIPTION:
URL:https://www.springcreekoaks.org/reservations/kuehnle-courts-3-4-tennis-pro-danny-4/2022-01-24/
CATEGORIES:Tennis
END:VEVENT
BEGIN:VEVENT
DTSTART;TZID=America/Chicago:20220124T083000
DTEND;TZID=America/Chicago:20220124T120000
DTSTAMP:20260422T225829
CREATED:20220125T032223Z
LAST-MODIFIED:20220125T032223Z
UID:10004241-1643013000-1643025600@www.springcreekoaks.org
SUMMARY:CH 2 courts 1-4\, HLTA Champ 2 North
DESCRIPTION:
URL:https://www.springcreekoaks.org/reservations/ch-2-courts-1-4-hlta-champ-2-north/2022-01-24/
CATEGORIES:Tennis
END:VEVENT
BEGIN:VEVENT
DTSTART;TZID=America/Chicago:20220124T170000
DTEND;TZID=America/Chicago:20220124T190000
DTSTAMP:20260422T225829
CREATED:20220125T162843Z
LAST-MODIFIED:20220125T162843Z
UID:10004259-1643043600-1643050800@www.springcreekoaks.org
SUMMARY:14U Farm League Jaguars Practice - Field 3
DESCRIPTION:14U Farm League Jaguars Practice – Field 3
URL:https://www.springcreekoaks.org/reservations/14u-farm-league-jaguars-practice-field-3/2022-01-24/
CATEGORIES:Baseball Fields
END:VEVENT
BEGIN:VEVENT
DTSTART;TZID=America/Chicago:20220124T180000
DTEND;TZID=America/Chicago:20220124T210000
DTSTAMP:20260422T225829
CREATED:20210916T194248Z
LAST-MODIFIED:20210916T194248Z
UID:10003980-1643047200-1643058000@www.springcreekoaks.org
SUMMARY:Leavins NCL CH2
DESCRIPTION:
URL:https://www.springcreekoaks.org/reservations/leavins-ncl-ch2-2/
LOCATION:Clubhouse 2\, 6002 Bur Oak Dr\, Spring\, 77379\, United States
CATEGORIES:Clubhouses
GEO:30.037539;-95.5070911
X-APPLE-STRUCTURED-LOCATION;VALUE=URI;X-ADDRESS=Clubhouse 2 6002 Bur Oak Dr Spring 77379 United States;X-APPLE-RADIUS=500;X-TITLE=6002 Bur Oak Dr:geo:-95.5070911,30.037539
END:VEVENT
END:VCALENDAR