BEGIN:VCALENDAR
VERSION:2.0
PRODID:-//Spring Creek Oaks - ECPv6.15.20//NONSGML v1.0//EN
CALSCALE:GREGORIAN
METHOD:PUBLISH
X-ORIGINAL-URL:https://www.springcreekoaks.org
X-WR-CALDESC:Events for Spring Creek Oaks
REFRESH-INTERVAL;VALUE=DURATION:PT1H
X-Robots-Tag:noindex
X-PUBLISHED-TTL:PT1H
BEGIN:VTIMEZONE
TZID:America/Chicago
BEGIN:DAYLIGHT
TZOFFSETFROM:-0600
TZOFFSETTO:-0500
TZNAME:CDT
DTSTART:20200308T080000
END:DAYLIGHT
BEGIN:STANDARD
TZOFFSETFROM:-0500
TZOFFSETTO:-0600
TZNAME:CST
DTSTART:20201101T070000
END:STANDARD
BEGIN:DAYLIGHT
TZOFFSETFROM:-0600
TZOFFSETTO:-0500
TZNAME:CDT
DTSTART:20210314T080000
END:DAYLIGHT
BEGIN:STANDARD
TZOFFSETFROM:-0500
TZOFFSETTO:-0600
TZNAME:CST
DTSTART:20211107T070000
END:STANDARD
BEGIN:DAYLIGHT
TZOFFSETFROM:-0600
TZOFFSETTO:-0500
TZNAME:CDT
DTSTART:20220313T080000
END:DAYLIGHT
BEGIN:STANDARD
TZOFFSETFROM:-0500
TZOFFSETTO:-0600
TZNAME:CST
DTSTART:20221106T070000
END:STANDARD
END:VTIMEZONE
BEGIN:VEVENT
DTSTART;TZID=America/Chicago:20211208T080000
DTEND;TZID=America/Chicago:20211208T120000
DTSTAMP:20260423T061128
CREATED:20210512T162316Z
LAST-MODIFIED:20210512T162316Z
UID:10003274-1638950400-1638964800@www.springcreekoaks.org
SUMMARY:CH 1 courts 2-3 (pickleball)\, Hudson
DESCRIPTION:
URL:https://www.springcreekoaks.org/reservations/ch-1-courts-2-3-pickleball-hudson/2021-12-08/
CATEGORIES:Tennis
END:VEVENT
BEGIN:VEVENT
DTSTART;TZID=America/Chicago:20211208T080000
DTEND;TZID=America/Chicago:20211208T120000
DTSTAMP:20260423T061128
CREATED:20210914T223912Z
LAST-MODIFIED:20210914T223912Z
UID:10003846-1638950400-1638964800@www.springcreekoaks.org
SUMMARY:CH 1 court 1\, Tennis Pro Danny
DESCRIPTION:
URL:https://www.springcreekoaks.org/reservations/ch-1-court-1-tennis-pro-danny-3/2021-12-08/
CATEGORIES:Tennis
END:VEVENT
BEGIN:VEVENT
DTSTART;TZID=America/Chicago:20211208T080000
DTEND;TZID=America/Chicago:20211208T170000
DTSTAMP:20260423T061128
CREATED:20211130T203620Z
LAST-MODIFIED:20211130T203620Z
UID:10004107-1638950400-1638982800@www.springcreekoaks.org
SUMMARY:Kuehnle courts 3-4\, tennis pro Danny
DESCRIPTION:
URL:https://www.springcreekoaks.org/reservations/kuehnle-courts-3-4-tennis-pro-danny-2/2021-12-08/
CATEGORIES:Tennis
END:VEVENT
BEGIN:VEVENT
DTSTART;TZID=America/Chicago:20211208T090000
DTEND;TZID=America/Chicago:20211208T120000
DTSTAMP:20260423T061128
CREATED:20211120T135534Z
LAST-MODIFIED:20211120T135534Z
UID:10004042-1638954000-1638964800@www.springcreekoaks.org
SUMMARY:Ch 2 courts 1-2\, Camp
DESCRIPTION:
URL:https://www.springcreekoaks.org/reservations/ch-2-courts-1-2-camp-2/2021-12-08/
CATEGORIES:Tennis
END:VEVENT
BEGIN:VEVENT
DTSTART;TZID=America/Chicago:20211208T160000
DTEND;TZID=America/Chicago:20211208T190000
DTSTAMP:20260423T061128
CREATED:20240109T180921Z
LAST-MODIFIED:20240109T180921Z
UID:10003926-1638979200-1638990000@www.springcreekoaks.org
SUMMARY:CH 2 courts 1-3\, Tennis Pro Danny
DESCRIPTION:
URL:https://www.springcreekoaks.org/reservations/ch-2-courts-1-3-tennis-pro-danny/2021-12-08/
CATEGORIES:Tennis
END:VEVENT
BEGIN:VEVENT
DTSTART;TZID=America/Chicago:20211208T170000
DTEND;TZID=America/Chicago:20211208T190000
DTSTAMP:20260423T061128
CREATED:20211129T173058Z
LAST-MODIFIED:20211129T173058Z
UID:10000246-1638982800-1638990000@www.springcreekoaks.org
SUMMARY:White CH2
DESCRIPTION:
URL:https://www.springcreekoaks.org/reservations/white-ch2/
LOCATION:Clubhouse 1\, 17111 Misty Creek\, Spring\, TX\, 77379\, United States
CATEGORIES:Clubhouses
GEO:30.0346602;-95.5117522
X-APPLE-STRUCTURED-LOCATION;VALUE=URI;X-ADDRESS=Clubhouse 1 17111 Misty Creek Spring TX 77379 United States;X-APPLE-RADIUS=500;X-TITLE=17111 Misty Creek:geo:-95.5117522,30.0346602
END:VEVENT
BEGIN:VEVENT
DTSTART;TZID=America/Chicago:20211208T180000
DTEND;TZID=America/Chicago:20211208T200000
DTSTAMP:20260423T061128
CREATED:20200805T160749Z
LAST-MODIFIED:20200805T161100Z
UID:10001360-1638986400-1638993600@www.springcreekoaks.org
SUMMARY:CIFUENTES (Big Soccer Field)
DESCRIPTION:
URL:https://www.springcreekoaks.org/reservations/cifuentes-open-play-big-soccer-field/2021-12-08/
CATEGORIES:Soccer Fields
END:VEVENT
BEGIN:VEVENT
DTSTART;TZID=America/Chicago:20211208T180000
DTEND;TZID=America/Chicago:20211208T200000
DTSTAMP:20260423T061128
CREATED:20210824T133805Z
LAST-MODIFIED:20210824T133806Z
UID:10003780-1638986400-1638993600@www.springcreekoaks.org
SUMMARY:10U LIONS (Flag Football) Coach Stansifer
DESCRIPTION:
URL:https://www.springcreekoaks.org/reservations/10u-lions-flag-football-coach-stansifer-2/2021-12-08/
LOCATION:Small Soccer Field (CH 2)
CATEGORIES:Soccer Fields
END:VEVENT
BEGIN:VEVENT
DTSTART;TZID=America/Chicago:20211208T180000
DTEND;TZID=America/Chicago:20211208T200000
DTSTAMP:20260423T061128
CREATED:20211207T041402Z
LAST-MODIFIED:20211207T041402Z
UID:10004167-1638986400-1638993600@www.springcreekoaks.org
SUMMARY:Ch 1 courts 2-3 (pickleball)\, Olivo
DESCRIPTION:
URL:https://www.springcreekoaks.org/reservations/ch-1-courts-2-3-pickleball-olivo/2021-12-08/
CATEGORIES:Tennis
END:VEVENT
BEGIN:VEVENT
DTSTART;TZID=America/Chicago:20211209T080000
DTEND;TZID=America/Chicago:20211209T120000
DTSTAMP:20260423T061128
CREATED:20240109T180915Z
LAST-MODIFIED:20240109T180915Z
UID:10003862-1639036800-1639051200@www.springcreekoaks.org
SUMMARY:CH 1 court 1\, Tennis Pro Danny
DESCRIPTION:
URL:https://www.springcreekoaks.org/reservations/ch-1-court-1-tennis-pro-danny-3/2021-12-09/
CATEGORIES:Tennis
END:VEVENT
BEGIN:VEVENT
DTSTART;TZID=America/Chicago:20211209T080000
DTEND;TZID=America/Chicago:20211209T170000
DTSTAMP:20260423T061128
CREATED:20211130T203715Z
LAST-MODIFIED:20211130T203715Z
UID:10004113-1639036800-1639069200@www.springcreekoaks.org
SUMMARY:Kuehnle courts 3-4\, tennis pro Danny
DESCRIPTION:
URL:https://www.springcreekoaks.org/reservations/kuehnle-courts-3-4-tennis-pro-danny-3/2021-12-09/
CATEGORIES:Tennis
END:VEVENT
BEGIN:VEVENT
DTSTART;TZID=America/Chicago:20211209T090000
DTEND;TZID=America/Chicago:20211209T120000
DTSTAMP:20260423T061128
CREATED:20211109T003009Z
LAST-MODIFIED:20211130T200739Z
UID:10004020-1639040400-1639051200@www.springcreekoaks.org
SUMMARY:CH 2 courts 1-3\, Junek
DESCRIPTION:
URL:https://www.springcreekoaks.org/reservations/ch-2-courts-1-3-junek-6/
CATEGORIES:Tennis
END:VEVENT
BEGIN:VEVENT
DTSTART;TZID=America/Chicago:20211209T160000
DTEND;TZID=America/Chicago:20211209T190000
DTSTAMP:20260423T061128
CREATED:20240109T180921Z
LAST-MODIFIED:20240109T180921Z
UID:10003942-1639065600-1639076400@www.springcreekoaks.org
SUMMARY:CH 2 courts 1-3\, Tennis Pro Danny
DESCRIPTION:
URL:https://www.springcreekoaks.org/reservations/ch-2-courts-1-3-tennis-pro-danny/2021-12-09/
CATEGORIES:Tennis
END:VEVENT
BEGIN:VEVENT
DTSTART;TZID=America/Chicago:20211210T080000
DTEND;TZID=America/Chicago:20211210T090000
DTSTAMP:20260423T061128
CREATED:20210811T141409Z
LAST-MODIFIED:20210811T141409Z
UID:10003612-1639123200-1639126800@www.springcreekoaks.org
SUMMARY:CH 2 court 6\, Mason
DESCRIPTION:
URL:https://www.springcreekoaks.org/reservations/ch-2-court-6-mason-10/2021-12-10/
CATEGORIES:Tennis
END:VEVENT
BEGIN:VEVENT
DTSTART;TZID=America/Chicago:20211210T080000
DTEND;TZID=America/Chicago:20211210T120000
DTSTAMP:20260423T061128
CREATED:20240109T180915Z
LAST-MODIFIED:20240109T180915Z
UID:10003878-1639123200-1639137600@www.springcreekoaks.org
SUMMARY:CH 1 court 1\, Tennis Pro Danny
DESCRIPTION:
URL:https://www.springcreekoaks.org/reservations/ch-1-court-1-tennis-pro-danny-3/2021-12-10/
CATEGORIES:Tennis
END:VEVENT
BEGIN:VEVENT
DTSTART;TZID=America/Chicago:20211210T080000
DTEND;TZID=America/Chicago:20211210T170000
DTSTAMP:20260423T061128
CREATED:20211130T203827Z
LAST-MODIFIED:20211130T203827Z
UID:10004121-1639123200-1639155600@www.springcreekoaks.org
SUMMARY:Kuehnle courts 3-4\, tennis pro Danny
DESCRIPTION:
URL:https://www.springcreekoaks.org/reservations/kuehnle-courts-3-4-tennis-pro-danny-4/2021-12-10/
CATEGORIES:Tennis
END:VEVENT
BEGIN:VEVENT
DTSTART;TZID=America/Chicago:20211210T083000
DTEND;TZID=America/Chicago:20211210T113000
DTSTAMP:20260423T061128
CREATED:20211210T005440Z
LAST-MODIFIED:20211210T005526Z
UID:10000073-1639125000-1639135800@www.springcreekoaks.org
SUMMARY:Ch 2 court 3\, Lopez
DESCRIPTION:
URL:https://www.springcreekoaks.org/reservations/ch-2-court-3-lopez-15/
CATEGORIES:Tennis
END:VEVENT
BEGIN:VEVENT
DTSTART;TZID=America/Chicago:20211210T160000
DTEND;TZID=America/Chicago:20211210T190000
DTSTAMP:20260423T061128
CREATED:20240109T180922Z
LAST-MODIFIED:20240109T180922Z
UID:10003958-1639152000-1639162800@www.springcreekoaks.org
SUMMARY:CH 2 courts 1-3\, Tennis Pro Danny
DESCRIPTION:
URL:https://www.springcreekoaks.org/reservations/ch-2-courts-1-3-tennis-pro-danny/2021-12-10/
CATEGORIES:Tennis
END:VEVENT
BEGIN:VEVENT
DTSTART;VALUE=DATE:20211211
DTEND;VALUE=DATE:20211212
DTSTAMP:20260423T061128
CREATED:20210914T210214Z
LAST-MODIFIED:20210914T210214Z
UID:10003807-1639180800-1639267199@www.springcreekoaks.org
SUMMARY:Dixon CH1
DESCRIPTION:
URL:https://www.springcreekoaks.org/reservations/dixon-ch1/
LOCATION:Clubhouse 1\, 17111 Misty Creek\, Spring\, TX\, 77379\, United States
CATEGORIES:Clubhouses
GEO:30.0346602;-95.5117522
X-APPLE-STRUCTURED-LOCATION;VALUE=URI;X-ADDRESS=Clubhouse 1 17111 Misty Creek Spring TX 77379 United States;X-APPLE-RADIUS=500;X-TITLE=17111 Misty Creek:geo:-95.5117522,30.0346602
END:VEVENT
BEGIN:VEVENT
DTSTART;TZID=America/Chicago:20211211T080000
DTEND;TZID=America/Chicago:20211211T103000
DTSTAMP:20260423T061128
CREATED:20200805T161253Z
LAST-MODIFIED:20200805T161253Z
UID:10001120-1639209600-1639218600@www.springcreekoaks.org
SUMMARY:LLERENA (Big Soccer Field)
DESCRIPTION:
URL:https://www.springcreekoaks.org/reservations/llerena-big-soccer-field/2021-12-11/
CATEGORIES:Soccer Fields
END:VEVENT
BEGIN:VEVENT
DTSTART;TZID=America/Chicago:20211211T090000
DTEND;TZID=America/Chicago:20211211T120000
DTSTAMP:20260423T061128
CREATED:20210523T210648Z
LAST-MODIFIED:20210523T210648Z
UID:10003382-1639213200-1639224000@www.springcreekoaks.org
SUMMARY:Breakfast with Santa CH2
DESCRIPTION:
URL:https://www.springcreekoaks.org/reservations/breakfast-with-santa-ch2/
CATEGORIES:Clubhouses
END:VEVENT
BEGIN:VEVENT
DTSTART;TZID=America/Chicago:20211211T090000
DTEND;TZID=America/Chicago:20211211T120000
DTSTAMP:20260423T061128
CREATED:20211120T135241Z
LAST-MODIFIED:20211120T135241Z
UID:10004037-1639213200-1639224000@www.springcreekoaks.org
SUMMARY:Ch 2 court 1\, Camp
DESCRIPTION:
URL:https://www.springcreekoaks.org/reservations/ch-2-court-1-camp-4/2021-12-11/
CATEGORIES:Tennis
END:VEVENT
BEGIN:VEVENT
DTSTART;TZID=America/Chicago:20211212T080000
DTEND;TZID=America/Chicago:20211212T170000
DTSTAMP:20260423T061128
CREATED:20210328T023847Z
LAST-MODIFIED:20210328T023847Z
UID:10002294-1639296000-1639328400@www.springcreekoaks.org
SUMMARY:Gulf Coast Blood Drive CH2
DESCRIPTION:
URL:https://www.springcreekoaks.org/reservations/gulf-coast-blood-drive-ch2-2/
LOCATION:Clubhouse 2\, 6002 Bur Oak Dr\, Spring\, 77379\, United States
CATEGORIES:Clubhouses
GEO:30.037539;-95.5070911
X-APPLE-STRUCTURED-LOCATION;VALUE=URI;X-ADDRESS=Clubhouse 2 6002 Bur Oak Dr Spring 77379 United States;X-APPLE-RADIUS=500;X-TITLE=6002 Bur Oak Dr:geo:-95.5070911,30.037539
END:VEVENT
BEGIN:VEVENT
DTSTART;TZID=America/Chicago:20211212T160000
DTEND;TZID=America/Chicago:20211212T180000
DTSTAMP:20260423T061128
CREATED:20211111T031331Z
LAST-MODIFIED:20211111T031946Z
UID:10004022-1639324800-1639332000@www.springcreekoaks.org
SUMMARY:Anguiano NCL CH1
DESCRIPTION:
URL:https://www.springcreekoaks.org/reservations/anguiano-ncl-ch1/
LOCATION:Clubhouse 1\, 17111 Misty Creek\, Spring\, TX\, 77379\, United States
CATEGORIES:Clubhouses
GEO:30.0346602;-95.5117522
X-APPLE-STRUCTURED-LOCATION;VALUE=URI;X-ADDRESS=Clubhouse 1 17111 Misty Creek Spring TX 77379 United States;X-APPLE-RADIUS=500;X-TITLE=17111 Misty Creek:geo:-95.5117522,30.0346602
END:VEVENT
BEGIN:VEVENT
DTSTART;TZID=America/Chicago:20211213T080000
DTEND;TZID=America/Chicago:20211213T170000
DTSTAMP:20260423T061128
CREATED:20211130T203827Z
LAST-MODIFIED:20211130T203827Z
UID:10004122-1639382400-1639414800@www.springcreekoaks.org
SUMMARY:Kuehnle courts 3-4\, tennis pro Danny
DESCRIPTION:
URL:https://www.springcreekoaks.org/reservations/kuehnle-courts-3-4-tennis-pro-danny-4/2021-12-13/
CATEGORIES:Tennis
END:VEVENT
BEGIN:VEVENT
DTSTART;TZID=America/Chicago:20211213T160000
DTEND;TZID=America/Chicago:20211213T190000
DTSTAMP:20260423T061128
CREATED:20240109T180920Z
LAST-MODIFIED:20240109T180920Z
UID:10003911-1639411200-1639422000@www.springcreekoaks.org
SUMMARY:CH 2 courts 1-3\, Tennis Pro Danny
DESCRIPTION:
URL:https://www.springcreekoaks.org/reservations/ch-2-courts-1-3-tennis-pro-danny/2021-12-13/
CATEGORIES:Tennis
END:VEVENT
BEGIN:VEVENT
DTSTART;TZID=America/Chicago:20211213T183000
DTEND;TZID=America/Chicago:20211213T193000
DTSTAMP:20260423T061128
CREATED:20210303T191235Z
LAST-MODIFIED:20210303T191235Z
UID:10003116-1639420200-1639423800@www.springcreekoaks.org
SUMMARY:HOA Meeting CH2
DESCRIPTION:
URL:https://www.springcreekoaks.org/reservations/hoa-meeting-ch2/2021-12-13/
LOCATION:Clubhouse 2\, 6002 Bur Oak Dr\, Spring\, 77379\, United States
CATEGORIES:Clubhouses
GEO:30.037539;-95.5070911
X-APPLE-STRUCTURED-LOCATION;VALUE=URI;X-ADDRESS=Clubhouse 2 6002 Bur Oak Dr Spring 77379 United States;X-APPLE-RADIUS=500;X-TITLE=6002 Bur Oak Dr:geo:-95.5070911,30.037539
END:VEVENT
BEGIN:VEVENT
DTSTART;TZID=America/Chicago:20211214T080000
DTEND;TZID=America/Chicago:20211214T090000
DTSTAMP:20260423T061128
CREATED:20210811T141524Z
LAST-MODIFIED:20210811T141524Z
UID:10003674-1639468800-1639472400@www.springcreekoaks.org
SUMMARY:CH 2 court 6\, Mason
DESCRIPTION:
URL:https://www.springcreekoaks.org/reservations/ch-2-court-6-mason-11/2021-12-14/
CATEGORIES:Tennis
END:VEVENT
BEGIN:VEVENT
DTSTART;TZID=America/Chicago:20211214T080000
DTEND;TZID=America/Chicago:20211214T170000
DTSTAMP:20260423T061128
CREATED:20211130T204209Z
LAST-MODIFIED:20211206T142004Z
UID:10004138-1639468800-1639501200@www.springcreekoaks.org
SUMMARY:Kuehnle courts 3-4\, tennis pro Danny
DESCRIPTION:
URL:https://www.springcreekoaks.org/reservations/kuehnle-courts-3-4-tennis-pro-danny-5-2021-12-14/2021-12-14/
CATEGORIES:Tennis
END:VEVENT
BEGIN:VEVENT
DTSTART;TZID=America/Chicago:20211214T160000
DTEND;TZID=America/Chicago:20211214T190000
DTSTAMP:20260423T061128
CREATED:20210914T224140Z
LAST-MODIFIED:20210914T224140Z
UID:10003896-1639497600-1639508400@www.springcreekoaks.org
SUMMARY:CH 2 courts 1-3\, Tennis Pro Danny
DESCRIPTION:
URL:https://www.springcreekoaks.org/reservations/ch-2-courts-1-3-tennis-pro-danny/2021-12-14/
CATEGORIES:Tennis
END:VEVENT
END:VCALENDAR