BEGIN:VCALENDAR
VERSION:2.0
PRODID:-//Spring Creek Oaks - ECPv6.15.20//NONSGML v1.0//EN
CALSCALE:GREGORIAN
METHOD:PUBLISH
X-ORIGINAL-URL:https://www.springcreekoaks.org
X-WR-CALDESC:Events for Spring Creek Oaks
REFRESH-INTERVAL;VALUE=DURATION:PT1H
X-Robots-Tag:noindex
X-PUBLISHED-TTL:PT1H
BEGIN:VTIMEZONE
TZID:America/Chicago
BEGIN:DAYLIGHT
TZOFFSETFROM:-0600
TZOFFSETTO:-0500
TZNAME:CDT
DTSTART:20200308T080000
END:DAYLIGHT
BEGIN:STANDARD
TZOFFSETFROM:-0500
TZOFFSETTO:-0600
TZNAME:CST
DTSTART:20201101T070000
END:STANDARD
BEGIN:DAYLIGHT
TZOFFSETFROM:-0600
TZOFFSETTO:-0500
TZNAME:CDT
DTSTART:20210314T080000
END:DAYLIGHT
BEGIN:STANDARD
TZOFFSETFROM:-0500
TZOFFSETTO:-0600
TZNAME:CST
DTSTART:20211107T070000
END:STANDARD
BEGIN:DAYLIGHT
TZOFFSETFROM:-0600
TZOFFSETTO:-0500
TZNAME:CDT
DTSTART:20220313T080000
END:DAYLIGHT
BEGIN:STANDARD
TZOFFSETFROM:-0500
TZOFFSETTO:-0600
TZNAME:CST
DTSTART:20221106T070000
END:STANDARD
END:VTIMEZONE
BEGIN:VEVENT
DTSTART;TZID=America/Chicago:20211124T080000
DTEND;TZID=America/Chicago:20211124T120000
DTSTAMP:20260422T165951
CREATED:20210512T162316Z
LAST-MODIFIED:20210512T162316Z
UID:10003272-1637740800-1637755200@www.springcreekoaks.org
SUMMARY:CH 1 courts 2-3 (pickleball)\, Hudson
DESCRIPTION:
URL:https://www.springcreekoaks.org/reservations/ch-1-courts-2-3-pickleball-hudson/2021-11-24/
CATEGORIES:Tennis
END:VEVENT
BEGIN:VEVENT
DTSTART;TZID=America/Chicago:20211124T080000
DTEND;TZID=America/Chicago:20211124T120000
DTSTAMP:20260422T165951
CREATED:20210914T223912Z
LAST-MODIFIED:20210914T223912Z
UID:10003844-1637740800-1637755200@www.springcreekoaks.org
SUMMARY:CH 1 court 1\, Tennis Pro Danny
DESCRIPTION:
URL:https://www.springcreekoaks.org/reservations/ch-1-court-1-tennis-pro-danny-3/2021-11-24/
CATEGORIES:Tennis
END:VEVENT
BEGIN:VEVENT
DTSTART;TZID=America/Chicago:20211124T090000
DTEND;TZID=America/Chicago:20211124T120000
DTSTAMP:20260422T165951
CREATED:20211120T135534Z
LAST-MODIFIED:20211120T135534Z
UID:10004041-1637744400-1637755200@www.springcreekoaks.org
SUMMARY:Ch 2 courts 1-2\, Camp
DESCRIPTION:
URL:https://www.springcreekoaks.org/reservations/ch-2-courts-1-2-camp-2/2021-11-24/
CATEGORIES:Tennis
END:VEVENT
BEGIN:VEVENT
DTSTART;TZID=America/Chicago:20211124T160000
DTEND;TZID=America/Chicago:20211124T190000
DTSTAMP:20260422T165951
CREATED:20240109T180921Z
LAST-MODIFIED:20240109T180921Z
UID:10003924-1637769600-1637780400@www.springcreekoaks.org
SUMMARY:CH 2 courts 1-3\, Tennis Pro Danny
DESCRIPTION:
URL:https://www.springcreekoaks.org/reservations/ch-2-courts-1-3-tennis-pro-danny/2021-11-24/
CATEGORIES:Tennis
END:VEVENT
BEGIN:VEVENT
DTSTART;TZID=America/Chicago:20211124T180000
DTEND;TZID=America/Chicago:20211124T200000
DTSTAMP:20260422T165951
CREATED:20200805T160749Z
LAST-MODIFIED:20200805T161100Z
UID:10001358-1637776800-1637784000@www.springcreekoaks.org
SUMMARY:CIFUENTES (Big Soccer Field)
DESCRIPTION:
URL:https://www.springcreekoaks.org/reservations/cifuentes-open-play-big-soccer-field/2021-11-24/
CATEGORIES:Soccer Fields
END:VEVENT
BEGIN:VEVENT
DTSTART;TZID=America/Chicago:20211124T180000
DTEND;TZID=America/Chicago:20211124T200000
DTSTAMP:20260422T165951
CREATED:20210824T133805Z
LAST-MODIFIED:20210824T133806Z
UID:10003778-1637776800-1637784000@www.springcreekoaks.org
SUMMARY:10U LIONS (Flag Football) Coach Stansifer
DESCRIPTION:
URL:https://www.springcreekoaks.org/reservations/10u-lions-flag-football-coach-stansifer-2/2021-11-24/
LOCATION:Small Soccer Field (CH 2)
CATEGORIES:Soccer Fields
END:VEVENT
BEGIN:VEVENT
DTSTART;VALUE=DATE:20211125
DTEND;VALUE=DATE:20211126
DTSTAMP:20260422T165951
CREATED:20211108T022747Z
LAST-MODIFIED:20211108T022747Z
UID:10004018-1637798400-1637884799@www.springcreekoaks.org
SUMMARY:Syzdek CH1
DESCRIPTION:
URL:https://www.springcreekoaks.org/reservations/syzdek-ch1/
LOCATION:Clubhouse 1\, 17111 Misty Creek\, Spring\, TX\, 77379\, United States
CATEGORIES:Clubhouses
GEO:30.0346602;-95.5117522
X-APPLE-STRUCTURED-LOCATION;VALUE=URI;X-ADDRESS=Clubhouse 1 17111 Misty Creek Spring TX 77379 United States;X-APPLE-RADIUS=500;X-TITLE=17111 Misty Creek:geo:-95.5117522,30.0346602
END:VEVENT
BEGIN:VEVENT
DTSTART;TZID=America/Chicago:20211125T080000
DTEND;TZID=America/Chicago:20211125T120000
DTSTAMP:20260422T165951
CREATED:20211116T000407Z
LAST-MODIFIED:20211116T000409Z
UID:10004019-1637827200-1637841600@www.springcreekoaks.org
SUMMARY:PETE GUZMANN SCO Flag Football
DESCRIPTION:Field has been reserved 11/15/2021 5:45PM
URL:https://www.springcreekoaks.org/reservations/pete-guzmann-sco-flag-football/
LOCATION:Large Soccer Field (Bilma)\, United States
CATEGORIES:Soccer Fields
END:VEVENT
BEGIN:VEVENT
DTSTART;TZID=America/Chicago:20211125T080000
DTEND;TZID=America/Chicago:20211125T120000
DTSTAMP:20260422T165951
CREATED:20240109T180915Z
LAST-MODIFIED:20240109T180915Z
UID:10003860-1637827200-1637841600@www.springcreekoaks.org
SUMMARY:CH 1 court 1\, Tennis Pro Danny
DESCRIPTION:
URL:https://www.springcreekoaks.org/reservations/ch-1-court-1-tennis-pro-danny-3/2021-11-25/
CATEGORIES:Tennis
END:VEVENT
BEGIN:VEVENT
DTSTART;TZID=America/Chicago:20211125T160000
DTEND;TZID=America/Chicago:20211125T190000
DTSTAMP:20260422T165951
CREATED:20240109T180921Z
LAST-MODIFIED:20240109T180921Z
UID:10003940-1637856000-1637866800@www.springcreekoaks.org
SUMMARY:CH 2 courts 1-3\, Tennis Pro Danny
DESCRIPTION:
URL:https://www.springcreekoaks.org/reservations/ch-2-courts-1-3-tennis-pro-danny/2021-11-25/
CATEGORIES:Tennis
END:VEVENT
BEGIN:VEVENT
DTSTART;TZID=America/Chicago:20211126T080000
DTEND;TZID=America/Chicago:20211126T090000
DTSTAMP:20260422T165951
CREATED:20210811T141409Z
LAST-MODIFIED:20210811T141409Z
UID:10003610-1637913600-1637917200@www.springcreekoaks.org
SUMMARY:CH 2 court 6\, Mason
DESCRIPTION:
URL:https://www.springcreekoaks.org/reservations/ch-2-court-6-mason-10/2021-11-26/
CATEGORIES:Tennis
END:VEVENT
BEGIN:VEVENT
DTSTART;TZID=America/Chicago:20211126T080000
DTEND;TZID=America/Chicago:20211126T120000
DTSTAMP:20260422T165951
CREATED:20240109T180915Z
LAST-MODIFIED:20240109T180915Z
UID:10003876-1637913600-1637928000@www.springcreekoaks.org
SUMMARY:CH 1 court 1\, Tennis Pro Danny
DESCRIPTION:
URL:https://www.springcreekoaks.org/reservations/ch-1-court-1-tennis-pro-danny-3/2021-11-26/
CATEGORIES:Tennis
END:VEVENT
BEGIN:VEVENT
DTSTART;TZID=America/Chicago:20211126T160000
DTEND;TZID=America/Chicago:20211126T190000
DTSTAMP:20260422T165951
CREATED:20240109T180922Z
LAST-MODIFIED:20240109T180922Z
UID:10003956-1637942400-1637953200@www.springcreekoaks.org
SUMMARY:CH 2 courts 1-3\, Tennis Pro Danny
DESCRIPTION:
URL:https://www.springcreekoaks.org/reservations/ch-2-courts-1-3-tennis-pro-danny/2021-11-26/
CATEGORIES:Tennis
END:VEVENT
BEGIN:VEVENT
DTSTART;VALUE=DATE:20211127
DTEND;VALUE=DATE:20211128
DTSTAMP:20260422T165951
CREATED:20210821T142152Z
LAST-MODIFIED:20210821T142152Z
UID:10003712-1637971200-1638057599@www.springcreekoaks.org
SUMMARY:Trevino CH2
DESCRIPTION:
URL:https://www.springcreekoaks.org/reservations/trevino-ch2-2/
LOCATION:Clubhouse 2\, 6002 Bur Oak Dr\, Spring\, 77379\, United States
CATEGORIES:Clubhouses
GEO:30.037539;-95.5070911
X-APPLE-STRUCTURED-LOCATION;VALUE=URI;X-ADDRESS=Clubhouse 2 6002 Bur Oak Dr Spring 77379 United States;X-APPLE-RADIUS=500;X-TITLE=6002 Bur Oak Dr:geo:-95.5070911,30.037539
END:VEVENT
BEGIN:VEVENT
DTSTART;VALUE=DATE:20211127
DTEND;VALUE=DATE:20211128
DTSTAMP:20260422T165951
CREATED:20211123T014329Z
LAST-MODIFIED:20211123T014329Z
UID:10000227-1637971200-1638057599@www.springcreekoaks.org
SUMMARY:Smith CH1
DESCRIPTION:
URL:https://www.springcreekoaks.org/reservations/smith-ch1-3/
LOCATION:Clubhouse 1\, 17111 Misty Creek\, Spring\, TX\, 77379\, United States
CATEGORIES:Clubhouses
GEO:30.0346602;-95.5117522
X-APPLE-STRUCTURED-LOCATION;VALUE=URI;X-ADDRESS=Clubhouse 1 17111 Misty Creek Spring TX 77379 United States;X-APPLE-RADIUS=500;X-TITLE=17111 Misty Creek:geo:-95.5117522,30.0346602
END:VEVENT
BEGIN:VEVENT
DTSTART;TZID=America/Chicago:20211127T080000
DTEND;TZID=America/Chicago:20211127T103000
DTSTAMP:20260422T165951
CREATED:20200805T161253Z
LAST-MODIFIED:20200805T161253Z
UID:10001118-1638000000-1638009000@www.springcreekoaks.org
SUMMARY:LLERENA (Big Soccer Field)
DESCRIPTION:
URL:https://www.springcreekoaks.org/reservations/llerena-big-soccer-field/2021-11-27/
CATEGORIES:Soccer Fields
END:VEVENT
BEGIN:VEVENT
DTSTART;TZID=America/Chicago:20211127T090000
DTEND;TZID=America/Chicago:20211127T120000
DTSTAMP:20260422T165951
CREATED:20211120T135241Z
LAST-MODIFIED:20211120T135241Z
UID:10004035-1638003600-1638014400@www.springcreekoaks.org
SUMMARY:Ch 2 court 1\, Camp
DESCRIPTION:
URL:https://www.springcreekoaks.org/reservations/ch-2-court-1-camp-4/2021-11-27/
CATEGORIES:Tennis
END:VEVENT
BEGIN:VEVENT
DTSTART;VALUE=DATE:20211129
DTEND;VALUE=DATE:20211202
DTSTAMP:20260422T165951
CREATED:20211107T143941Z
LAST-MODIFIED:20211120T140046Z
UID:10004011-1638144000-1638403199@www.springcreekoaks.org
SUMMARY:CH 2 courts closed due to light installation
DESCRIPTION:
URL:https://www.springcreekoaks.org/reservations/ch-2-courts-closed-due-to-light-installation/
CATEGORIES:Tennis
END:VEVENT
BEGIN:VEVENT
DTSTART;TZID=America/Chicago:20211129T080000
DTEND;TZID=America/Chicago:20211129T120000
DTSTAMP:20260422T165951
CREATED:20210914T223709Z
LAST-MODIFIED:20210914T223709Z
UID:10003831-1638172800-1638187200@www.springcreekoaks.org
SUMMARY:CH 1 court 1\, Tennis Pro Danny
DESCRIPTION:
URL:https://www.springcreekoaks.org/reservations/ch-1-court-1-tennis-pro-danny-2/2021-11-29/
CATEGORIES:Tennis
END:VEVENT
BEGIN:VEVENT
DTSTART;TZID=America/Chicago:20211129T090000
DTEND;TZID=America/Chicago:20211129T120000
DTSTAMP:20260422T165951
CREATED:20211127T174139Z
LAST-MODIFIED:20211127T174139Z
UID:10000302-1638176400-1638187200@www.springcreekoaks.org
SUMMARY:Kuehnle court 2\, Hudson
DESCRIPTION:
URL:https://www.springcreekoaks.org/reservations/kuehnle-court-2-hudson/
CATEGORIES:Tennis
END:VEVENT
BEGIN:VEVENT
DTSTART;TZID=America/Chicago:20211129T160000
DTEND;TZID=America/Chicago:20211129T190000
DTSTAMP:20260422T165951
CREATED:20240109T180920Z
LAST-MODIFIED:20240109T180920Z
UID:10003909-1638201600-1638212400@www.springcreekoaks.org
SUMMARY:CH 2 courts 1-3\, Tennis Pro Danny
DESCRIPTION:
URL:https://www.springcreekoaks.org/reservations/ch-2-courts-1-3-tennis-pro-danny/2021-11-29/
CATEGORIES:Tennis
END:VEVENT
BEGIN:VEVENT
DTSTART;TZID=America/Chicago:20211130T080000
DTEND;TZID=America/Chicago:20211130T090000
DTSTAMP:20260422T165951
CREATED:20210811T141524Z
LAST-MODIFIED:20210811T141524Z
UID:10003672-1638259200-1638262800@www.springcreekoaks.org
SUMMARY:CH 2 court 6\, Mason
DESCRIPTION:
URL:https://www.springcreekoaks.org/reservations/ch-2-court-6-mason-11/2021-11-30/
CATEGORIES:Tennis
END:VEVENT
BEGIN:VEVENT
DTSTART;TZID=America/Chicago:20211130T080000
DTEND;TZID=America/Chicago:20211130T120000
DTSTAMP:20260422T165951
CREATED:20210914T223604Z
LAST-MODIFIED:20210914T223604Z
UID:10003819-1638259200-1638273600@www.springcreekoaks.org
SUMMARY:CH 1 court 1\, Tennis Pro Danny
DESCRIPTION:
URL:https://www.springcreekoaks.org/reservations/ch-1-court-1-tennis-pro-danny/2021-11-30/
CATEGORIES:Tennis
END:VEVENT
BEGIN:VEVENT
DTSTART;TZID=America/Chicago:20211130T160000
DTEND;TZID=America/Chicago:20211130T190000
DTSTAMP:20260422T165951
CREATED:20210914T224140Z
LAST-MODIFIED:20210914T224140Z
UID:10003894-1638288000-1638298800@www.springcreekoaks.org
SUMMARY:CH 2 courts 1-3\, Tennis Pro Danny
DESCRIPTION:
URL:https://www.springcreekoaks.org/reservations/ch-2-courts-1-3-tennis-pro-danny/2021-11-30/
CATEGORIES:Tennis
END:VEVENT
BEGIN:VEVENT
DTSTART;TZID=America/Chicago:20211201T080000
DTEND;TZID=America/Chicago:20211201T120000
DTSTAMP:20260422T165951
CREATED:20210512T162316Z
LAST-MODIFIED:20210512T162316Z
UID:10003273-1638345600-1638360000@www.springcreekoaks.org
SUMMARY:CH 1 courts 2-3 (pickleball)\, Hudson
DESCRIPTION:
URL:https://www.springcreekoaks.org/reservations/ch-1-courts-2-3-pickleball-hudson/2021-12-01/
CATEGORIES:Tennis
END:VEVENT
BEGIN:VEVENT
DTSTART;TZID=America/Chicago:20211201T080000
DTEND;TZID=America/Chicago:20211201T120000
DTSTAMP:20260422T165951
CREATED:20210914T223912Z
LAST-MODIFIED:20210914T223912Z
UID:10003845-1638345600-1638360000@www.springcreekoaks.org
SUMMARY:CH 1 court 1\, Tennis Pro Danny
DESCRIPTION:
URL:https://www.springcreekoaks.org/reservations/ch-1-court-1-tennis-pro-danny-3/2021-12-01/
CATEGORIES:Tennis
END:VEVENT
BEGIN:VEVENT
DTSTART;TZID=America/Chicago:20211201T090000
DTEND;TZID=America/Chicago:20211201T120000
DTSTAMP:20260422T165951
CREATED:20211120T135335Z
LAST-MODIFIED:20211120T135335Z
UID:10004040-1638349200-1638360000@www.springcreekoaks.org
SUMMARY:Kuehnle courts 1-2\, Camp
DESCRIPTION:
URL:https://www.springcreekoaks.org/reservations/kuehnle-courts-1-2-camp-3/
CATEGORIES:Tennis
END:VEVENT
BEGIN:VEVENT
DTSTART;TZID=America/Chicago:20211201T160000
DTEND;TZID=America/Chicago:20211201T190000
DTSTAMP:20260422T165951
CREATED:20240109T180921Z
LAST-MODIFIED:20240109T180921Z
UID:10003925-1638374400-1638385200@www.springcreekoaks.org
SUMMARY:CH 2 courts 1-3\, Tennis Pro Danny
DESCRIPTION:
URL:https://www.springcreekoaks.org/reservations/ch-2-courts-1-3-tennis-pro-danny/2021-12-01/
CATEGORIES:Tennis
END:VEVENT
BEGIN:VEVENT
DTSTART;TZID=America/Chicago:20211201T180000
DTEND;TZID=America/Chicago:20211201T200000
DTSTAMP:20260422T165951
CREATED:20200805T160749Z
LAST-MODIFIED:20200805T161100Z
UID:10001359-1638381600-1638388800@www.springcreekoaks.org
SUMMARY:CIFUENTES (Big Soccer Field)
DESCRIPTION:
URL:https://www.springcreekoaks.org/reservations/cifuentes-open-play-big-soccer-field/2021-12-01/
CATEGORIES:Soccer Fields
END:VEVENT
BEGIN:VEVENT
DTSTART;TZID=America/Chicago:20211201T180000
DTEND;TZID=America/Chicago:20211201T200000
DTSTAMP:20260422T165951
CREATED:20210824T133805Z
LAST-MODIFIED:20210824T133806Z
UID:10003779-1638381600-1638388800@www.springcreekoaks.org
SUMMARY:10U LIONS (Flag Football) Coach Stansifer
DESCRIPTION:
URL:https://www.springcreekoaks.org/reservations/10u-lions-flag-football-coach-stansifer-2/2021-12-01/
LOCATION:Small Soccer Field (CH 2)
CATEGORIES:Soccer Fields
END:VEVENT
END:VCALENDAR