BEGIN:VCALENDAR
VERSION:2.0
PRODID:-//Spring Creek Oaks - ECPv6.15.20//NONSGML v1.0//EN
CALSCALE:GREGORIAN
METHOD:PUBLISH
X-ORIGINAL-URL:https://www.springcreekoaks.org
X-WR-CALDESC:Events for Spring Creek Oaks
REFRESH-INTERVAL;VALUE=DURATION:PT1H
X-Robots-Tag:noindex
X-PUBLISHED-TTL:PT1H
BEGIN:VTIMEZONE
TZID:America/Chicago
BEGIN:DAYLIGHT
TZOFFSETFROM:-0600
TZOFFSETTO:-0500
TZNAME:CDT
DTSTART:20200308T080000
END:DAYLIGHT
BEGIN:STANDARD
TZOFFSETFROM:-0500
TZOFFSETTO:-0600
TZNAME:CST
DTSTART:20201101T070000
END:STANDARD
BEGIN:DAYLIGHT
TZOFFSETFROM:-0600
TZOFFSETTO:-0500
TZNAME:CDT
DTSTART:20210314T080000
END:DAYLIGHT
BEGIN:STANDARD
TZOFFSETFROM:-0500
TZOFFSETTO:-0600
TZNAME:CST
DTSTART:20211107T070000
END:STANDARD
BEGIN:DAYLIGHT
TZOFFSETFROM:-0600
TZOFFSETTO:-0500
TZNAME:CDT
DTSTART:20220313T080000
END:DAYLIGHT
BEGIN:STANDARD
TZOFFSETFROM:-0500
TZOFFSETTO:-0600
TZNAME:CST
DTSTART:20221106T070000
END:STANDARD
END:VTIMEZONE
BEGIN:VEVENT
DTSTART;TZID=America/Chicago:20211102T080000
DTEND;TZID=America/Chicago:20211102T090000
DTSTAMP:20260422T200020
CREATED:20210811T141524Z
LAST-MODIFIED:20210811T141524Z
UID:10003668-1635840000-1635843600@www.springcreekoaks.org
SUMMARY:CH 2 court 6\, Mason
DESCRIPTION:
URL:https://www.springcreekoaks.org/reservations/ch-2-court-6-mason-11/2021-11-02/
CATEGORIES:Tennis
END:VEVENT
BEGIN:VEVENT
DTSTART;TZID=America/Chicago:20211102T080000
DTEND;TZID=America/Chicago:20211102T120000
DTSTAMP:20260422T200020
CREATED:20210914T223604Z
LAST-MODIFIED:20210914T223604Z
UID:10003815-1635840000-1635854400@www.springcreekoaks.org
SUMMARY:CH 1 court 1\, Tennis Pro Danny
DESCRIPTION:
URL:https://www.springcreekoaks.org/reservations/ch-1-court-1-tennis-pro-danny/2021-11-02/
CATEGORIES:Tennis
END:VEVENT
BEGIN:VEVENT
DTSTART;TZID=America/Chicago:20211102T080000
DTEND;TZID=America/Chicago:20211102T120000
DTSTAMP:20260422T200020
CREATED:20211031T213749Z
LAST-MODIFIED:20211031T213749Z
UID:10004003-1635840000-1635854400@www.springcreekoaks.org
SUMMARY:Kuehnle courts 3-4\, tennis pro Danny (CH 1 court unusable)
DESCRIPTION:
URL:https://www.springcreekoaks.org/reservations/kuehnle-courts-3-4-tennis-pro-danny-ch-1-court-unusable/2021-11-02/
CATEGORIES:Tennis
END:VEVENT
BEGIN:VEVENT
DTSTART;TZID=America/Chicago:20211102T160000
DTEND;TZID=America/Chicago:20211102T190000
DTSTAMP:20260422T200020
CREATED:20210914T224140Z
LAST-MODIFIED:20210914T224140Z
UID:10003890-1635868800-1635879600@www.springcreekoaks.org
SUMMARY:CH 2 courts 1-3\, Tennis Pro Danny
DESCRIPTION:
URL:https://www.springcreekoaks.org/reservations/ch-2-courts-1-3-tennis-pro-danny/2021-11-02/
CATEGORIES:Tennis
END:VEVENT
BEGIN:VEVENT
DTSTART;TZID=America/Chicago:20211102T190000
DTEND;TZID=America/Chicago:20211102T230000
DTSTAMP:20260422T200020
CREATED:20210908T232049Z
LAST-MODIFIED:20210908T232049Z
UID:10003800-1635879600-1635894000@www.springcreekoaks.org
SUMMARY:CH 2 courts 1-6\, Men's league B team
DESCRIPTION:
URL:https://www.springcreekoaks.org/reservations/ch-2-courts-1-6-mens-league-b-team-3/2021-11-02/
CATEGORIES:Tennis
END:VEVENT
BEGIN:VEVENT
DTSTART;TZID=America/Chicago:20211103T080000
DTEND;TZID=America/Chicago:20211103T120000
DTSTAMP:20260422T200020
CREATED:20210512T162316Z
LAST-MODIFIED:20210512T162316Z
UID:10003269-1635926400-1635940800@www.springcreekoaks.org
SUMMARY:CH 1 courts 2-3 (pickleball)\, Hudson
DESCRIPTION:
URL:https://www.springcreekoaks.org/reservations/ch-1-courts-2-3-pickleball-hudson/2021-11-03/
CATEGORIES:Tennis
END:VEVENT
BEGIN:VEVENT
DTSTART;TZID=America/Chicago:20211103T080000
DTEND;TZID=America/Chicago:20211103T120000
DTSTAMP:20260422T200020
CREATED:20210914T223912Z
LAST-MODIFIED:20210914T223912Z
UID:10003841-1635926400-1635940800@www.springcreekoaks.org
SUMMARY:CH 1 court 1\, Tennis Pro Danny
DESCRIPTION:
URL:https://www.springcreekoaks.org/reservations/ch-1-court-1-tennis-pro-danny-3/2021-11-03/
CATEGORIES:Tennis
END:VEVENT
BEGIN:VEVENT
DTSTART;TZID=America/Chicago:20211103T080000
DTEND;TZID=America/Chicago:20211103T120000
DTSTAMP:20260422T200020
CREATED:20211031T213749Z
LAST-MODIFIED:20211031T213749Z
UID:10004004-1635926400-1635940800@www.springcreekoaks.org
SUMMARY:Kuehnle courts 3-4\, tennis pro Danny (CH 1 court unusable)
DESCRIPTION:
URL:https://www.springcreekoaks.org/reservations/kuehnle-courts-3-4-tennis-pro-danny-ch-1-court-unusable/2021-11-03/
CATEGORIES:Tennis
END:VEVENT
BEGIN:VEVENT
DTSTART;TZID=America/Chicago:20211103T083000
DTEND;TZID=America/Chicago:20211103T120000
DTSTAMP:20260422T200020
CREATED:20210821T191140Z
LAST-MODIFIED:20210821T191140Z
UID:10003761-1635928200-1635940800@www.springcreekoaks.org
SUMMARY:CH 2 courts 1-4\, NWTL A2
DESCRIPTION:
URL:https://www.springcreekoaks.org/reservations/ch-2-courts-1-4-nwtl-a2/2021-11-03/
CATEGORIES:Tennis
END:VEVENT
BEGIN:VEVENT
DTSTART;TZID=America/Chicago:20211103T160000
DTEND;TZID=America/Chicago:20211103T190000
DTSTAMP:20260422T200020
CREATED:20240109T180921Z
LAST-MODIFIED:20240109T180921Z
UID:10003921-1635955200-1635966000@www.springcreekoaks.org
SUMMARY:CH 2 courts 1-3\, Tennis Pro Danny
DESCRIPTION:
URL:https://www.springcreekoaks.org/reservations/ch-2-courts-1-3-tennis-pro-danny/2021-11-03/
CATEGORIES:Tennis
END:VEVENT
BEGIN:VEVENT
DTSTART;TZID=America/Chicago:20211103T180000
DTEND;TZID=America/Chicago:20211103T200000
DTSTAMP:20260422T200020
CREATED:20200805T160749Z
LAST-MODIFIED:20200805T161100Z
UID:10001355-1635962400-1635969600@www.springcreekoaks.org
SUMMARY:CIFUENTES (Big Soccer Field)
DESCRIPTION:
URL:https://www.springcreekoaks.org/reservations/cifuentes-open-play-big-soccer-field/2021-11-03/
CATEGORIES:Soccer Fields
END:VEVENT
BEGIN:VEVENT
DTSTART;TZID=America/Chicago:20211103T180000
DTEND;TZID=America/Chicago:20211103T200000
DTSTAMP:20260422T200020
CREATED:20210824T133805Z
LAST-MODIFIED:20210824T133806Z
UID:10003775-1635962400-1635969600@www.springcreekoaks.org
SUMMARY:10U LIONS (Flag Football) Coach Stansifer
DESCRIPTION:
URL:https://www.springcreekoaks.org/reservations/10u-lions-flag-football-coach-stansifer-2/2021-11-03/
LOCATION:Small Soccer Field (CH 2)
CATEGORIES:Soccer Fields
END:VEVENT
BEGIN:VEVENT
DTSTART;TZID=America/Chicago:20211104T080000
DTEND;TZID=America/Chicago:20211104T120000
DTSTAMP:20260422T200020
CREATED:20240109T180915Z
LAST-MODIFIED:20240109T180915Z
UID:10003857-1636012800-1636027200@www.springcreekoaks.org
SUMMARY:CH 1 court 1\, Tennis Pro Danny
DESCRIPTION:
URL:https://www.springcreekoaks.org/reservations/ch-1-court-1-tennis-pro-danny-3/2021-11-04/
CATEGORIES:Tennis
END:VEVENT
BEGIN:VEVENT
DTSTART;TZID=America/Chicago:20211104T160000
DTEND;TZID=America/Chicago:20211104T190000
DTSTAMP:20260422T200020
CREATED:20240109T180921Z
LAST-MODIFIED:20240109T180921Z
UID:10003937-1636041600-1636052400@www.springcreekoaks.org
SUMMARY:CH 2 courts 1-3\, Tennis Pro Danny
DESCRIPTION:
URL:https://www.springcreekoaks.org/reservations/ch-2-courts-1-3-tennis-pro-danny/2021-11-04/
CATEGORIES:Tennis
END:VEVENT
BEGIN:VEVENT
DTSTART;TZID=America/Chicago:20211104T170000
DTEND;TZID=America/Chicago:20211104T210000
DTSTAMP:20260422T200021
CREATED:20191114T164535Z
LAST-MODIFIED:20191114T164535Z
UID:10000331-1636045200-1636059600@www.springcreekoaks.org
SUMMARY:CH2 5pm-9pm Waterboard Monthly Meeting
DESCRIPTION:
URL:https://www.springcreekoaks.org/reservations/ch2-5pm-9pm-waterboard-monthly-meeting/2021-11-04/
LOCATION:Clubhouse 2\, 6002 Bur Oak Dr\, Spring\, 77379\, United States
CATEGORIES:Clubhouses
GEO:30.037539;-95.5070911
X-APPLE-STRUCTURED-LOCATION;VALUE=URI;X-ADDRESS=Clubhouse 2 6002 Bur Oak Dr Spring 77379 United States;X-APPLE-RADIUS=500;X-TITLE=6002 Bur Oak Dr:geo:-95.5070911,30.037539
END:VEVENT
BEGIN:VEVENT
DTSTART;TZID=America/Chicago:20211104T190000
DTEND;TZID=America/Chicago:20211104T230000
DTSTAMP:20260422T200021
CREATED:20210908T231854Z
LAST-MODIFIED:20210908T231854Z
UID:10003794-1636052400-1636066800@www.springcreekoaks.org
SUMMARY:CH 2 courts 1-6\, Men's league C team
DESCRIPTION:
URL:https://www.springcreekoaks.org/reservations/ch-2-courts-1-6-mens-league-c-team-3/2021-11-04/
CATEGORIES:Tennis
END:VEVENT
BEGIN:VEVENT
DTSTART;TZID=America/Chicago:20211105T080000
DTEND;TZID=America/Chicago:20211105T090000
DTSTAMP:20260422T200021
CREATED:20210811T141409Z
LAST-MODIFIED:20210811T141409Z
UID:10003607-1636099200-1636102800@www.springcreekoaks.org
SUMMARY:CH 2 court 6\, Mason
DESCRIPTION:
URL:https://www.springcreekoaks.org/reservations/ch-2-court-6-mason-10/2021-11-05/
CATEGORIES:Tennis
END:VEVENT
BEGIN:VEVENT
DTSTART;TZID=America/Chicago:20211105T080000
DTEND;TZID=America/Chicago:20211105T120000
DTSTAMP:20260422T200021
CREATED:20240109T180915Z
LAST-MODIFIED:20240109T180915Z
UID:10003873-1636099200-1636113600@www.springcreekoaks.org
SUMMARY:CH 1 court 1\, Tennis Pro Danny
DESCRIPTION:
URL:https://www.springcreekoaks.org/reservations/ch-1-court-1-tennis-pro-danny-3/2021-11-05/
CATEGORIES:Tennis
END:VEVENT
BEGIN:VEVENT
DTSTART;TZID=America/Chicago:20211105T083000
DTEND;TZID=America/Chicago:20211105T120000
DTSTAMP:20260422T200021
CREATED:20210818T183307Z
LAST-MODIFIED:20210818T183307Z
UID:10003743-1636101000-1636113600@www.springcreekoaks.org
SUMMARY:CH 2 courts 1-4\, JR A-2
DESCRIPTION:
URL:https://www.springcreekoaks.org/reservations/ch-2-courts-1-4-jr-a-2/2021-11-05/
CATEGORIES:Tennis
END:VEVENT
BEGIN:VEVENT
DTSTART;TZID=America/Chicago:20211105T160000
DTEND;TZID=America/Chicago:20211105T190000
DTSTAMP:20260422T200021
CREATED:20240109T180922Z
LAST-MODIFIED:20240109T180922Z
UID:10003953-1636128000-1636138800@www.springcreekoaks.org
SUMMARY:CH 2 courts 1-3\, Tennis Pro Danny
DESCRIPTION:
URL:https://www.springcreekoaks.org/reservations/ch-2-courts-1-3-tennis-pro-danny/2021-11-05/
CATEGORIES:Tennis
END:VEVENT
BEGIN:VEVENT
DTSTART;VALUE=DATE:20211106
DTEND;VALUE=DATE:20211107
DTSTAMP:20260422T200021
CREATED:20210721T233312Z
LAST-MODIFIED:20210721T233312Z
UID:10003594-1636156800-1636243199@www.springcreekoaks.org
SUMMARY:Satillian CH2
DESCRIPTION:
URL:https://www.springcreekoaks.org/reservations/satillian-ch2/
LOCATION:Clubhouse 2\, 6002 Bur Oak Dr\, Spring\, 77379\, United States
CATEGORIES:Clubhouses
GEO:30.037539;-95.5070911
X-APPLE-STRUCTURED-LOCATION;VALUE=URI;X-ADDRESS=Clubhouse 2 6002 Bur Oak Dr Spring 77379 United States;X-APPLE-RADIUS=500;X-TITLE=6002 Bur Oak Dr:geo:-95.5070911,30.037539
END:VEVENT
BEGIN:VEVENT
DTSTART;TZID=America/Chicago:20211106T080000
DTEND;TZID=America/Chicago:20211106T103000
DTSTAMP:20260422T200021
CREATED:20200805T161253Z
LAST-MODIFIED:20200805T161253Z
UID:10001115-1636185600-1636194600@www.springcreekoaks.org
SUMMARY:LLERENA (Big Soccer Field)
DESCRIPTION:
URL:https://www.springcreekoaks.org/reservations/llerena-big-soccer-field/2021-11-06/
CATEGORIES:Soccer Fields
END:VEVENT
BEGIN:VEVENT
DTSTART;TZID=America/Chicago:20211106T090000
DTEND;TZID=America/Chicago:20211106T120000
DTSTAMP:20260422T200021
CREATED:20211104T024049Z
LAST-MODIFIED:20211104T024049Z
UID:10004008-1636189200-1636200000@www.springcreekoaks.org
SUMMARY:CH 2 court 1\, Camp
DESCRIPTION:
URL:https://www.springcreekoaks.org/reservations/ch-2-court-1-camp-2/
CATEGORIES:Tennis
END:VEVENT
BEGIN:VEVENT
DTSTART;TZID=America/Chicago:20211108T080000
DTEND;TZID=America/Chicago:20211108T120000
DTSTAMP:20260422T200021
CREATED:20211108T004055Z
LAST-MODIFIED:20211108T004055Z
UID:10004014-1636358400-1636372800@www.springcreekoaks.org
SUMMARY:Kuehnle courts 3-4\, tennis pro Danny
DESCRIPTION:
URL:https://www.springcreekoaks.org/reservations/kuehnle-courts-3-4-tennis-pro-danny/
CATEGORIES:Tennis
END:VEVENT
BEGIN:VEVENT
DTSTART;TZID=America/Chicago:20211108T083000
DTEND;TZID=America/Chicago:20211108T120000
DTSTAMP:20260422T200021
CREATED:20210812T110227Z
LAST-MODIFIED:20210812T110227Z
UID:10003706-1636360200-1636372800@www.springcreekoaks.org
SUMMARY:CH 2 courts 1-4\, Champ 2 North
DESCRIPTION:
URL:https://www.springcreekoaks.org/reservations/ch-2-courts-1-4-champ-2-north/2021-11-08/
CATEGORIES:Tennis
END:VEVENT
BEGIN:VEVENT
DTSTART;TZID=America/Chicago:20211108T083000
DTEND;TZID=America/Chicago:20211108T120000
DTSTAMP:20260422T200021
CREATED:20211108T004135Z
LAST-MODIFIED:20211108T004135Z
UID:10004015-1636360200-1636372800@www.springcreekoaks.org
SUMMARY:Kuehnle court 2\, Lopez
DESCRIPTION:
URL:https://www.springcreekoaks.org/reservations/kuehnle-court-2-lopez-13/
CATEGORIES:Tennis
END:VEVENT
BEGIN:VEVENT
DTSTART;TZID=America/Chicago:20211108T160000
DTEND;TZID=America/Chicago:20211108T190000
DTSTAMP:20260422T200021
CREATED:20240109T180920Z
LAST-MODIFIED:20240109T180920Z
UID:10003906-1636387200-1636398000@www.springcreekoaks.org
SUMMARY:CH 2 courts 1-3\, Tennis Pro Danny
DESCRIPTION:
URL:https://www.springcreekoaks.org/reservations/ch-2-courts-1-3-tennis-pro-danny/2021-11-08/
CATEGORIES:Tennis
END:VEVENT
BEGIN:VEVENT
DTSTART;TZID=America/Chicago:20211108T183000
DTEND;TZID=America/Chicago:20211108T193000
DTSTAMP:20260422T200021
CREATED:20210303T191235Z
LAST-MODIFIED:20210303T191235Z
UID:10003115-1636396200-1636399800@www.springcreekoaks.org
SUMMARY:HOA Meeting CH2
DESCRIPTION:
URL:https://www.springcreekoaks.org/reservations/hoa-meeting-ch2/2021-11-08/
LOCATION:Clubhouse 2\, 6002 Bur Oak Dr\, Spring\, 77379\, United States
CATEGORIES:Clubhouses
GEO:30.037539;-95.5070911
X-APPLE-STRUCTURED-LOCATION;VALUE=URI;X-ADDRESS=Clubhouse 2 6002 Bur Oak Dr Spring 77379 United States;X-APPLE-RADIUS=500;X-TITLE=6002 Bur Oak Dr:geo:-95.5070911,30.037539
END:VEVENT
BEGIN:VEVENT
DTSTART;TZID=America/Chicago:20211108T190000
DTEND;TZID=America/Chicago:20211108T220000
DTSTAMP:20260422T200021
CREATED:20210914T170257Z
LAST-MODIFIED:20210914T170257Z
UID:10002347-1636398000-1636408800@www.springcreekoaks.org
SUMMARY:CH 2 courts 1-6\, Ladies night league
DESCRIPTION:
URL:https://www.springcreekoaks.org/reservations/ch-2-courts-1-6-ladies-night-league/2021-11-08/
CATEGORIES:Tennis
END:VEVENT
BEGIN:VEVENT
DTSTART;TZID=America/Chicago:20211109T080000
DTEND;TZID=America/Chicago:20211109T090000
DTSTAMP:20260422T200021
CREATED:20210811T141524Z
LAST-MODIFIED:20210811T141524Z
UID:10003669-1636444800-1636448400@www.springcreekoaks.org
SUMMARY:CH 2 court 6\, Mason
DESCRIPTION:
URL:https://www.springcreekoaks.org/reservations/ch-2-court-6-mason-11/2021-11-09/
CATEGORIES:Tennis
END:VEVENT
END:VCALENDAR