BEGIN:VCALENDAR
VERSION:2.0
PRODID:-//Spring Creek Oaks - ECPv6.15.20//NONSGML v1.0//EN
CALSCALE:GREGORIAN
METHOD:PUBLISH
X-ORIGINAL-URL:https://www.springcreekoaks.org
X-WR-CALDESC:Events for Spring Creek Oaks
REFRESH-INTERVAL;VALUE=DURATION:PT1H
X-Robots-Tag:noindex
X-PUBLISHED-TTL:PT1H
BEGIN:VTIMEZONE
TZID:America/Chicago
BEGIN:DAYLIGHT
TZOFFSETFROM:-0600
TZOFFSETTO:-0500
TZNAME:CDT
DTSTART:20200308T080000
END:DAYLIGHT
BEGIN:STANDARD
TZOFFSETFROM:-0500
TZOFFSETTO:-0600
TZNAME:CST
DTSTART:20201101T070000
END:STANDARD
BEGIN:DAYLIGHT
TZOFFSETFROM:-0600
TZOFFSETTO:-0500
TZNAME:CDT
DTSTART:20210314T080000
END:DAYLIGHT
BEGIN:STANDARD
TZOFFSETFROM:-0500
TZOFFSETTO:-0600
TZNAME:CST
DTSTART:20211107T070000
END:STANDARD
BEGIN:DAYLIGHT
TZOFFSETFROM:-0600
TZOFFSETTO:-0500
TZNAME:CDT
DTSTART:20220313T080000
END:DAYLIGHT
BEGIN:STANDARD
TZOFFSETFROM:-0500
TZOFFSETTO:-0600
TZNAME:CST
DTSTART:20221106T070000
END:STANDARD
END:VTIMEZONE
BEGIN:VEVENT
DTSTART;TZID=America/Chicago:20211025T080000
DTEND;TZID=America/Chicago:20211025T120000
DTSTAMP:20260422T174338
CREATED:20210914T223709Z
LAST-MODIFIED:20210914T223709Z
UID:10003827-1635148800-1635163200@www.springcreekoaks.org
SUMMARY:CH 1 court 1\, Tennis Pro Danny
DESCRIPTION:
URL:https://www.springcreekoaks.org/reservations/ch-1-court-1-tennis-pro-danny-2/2021-10-25/
CATEGORIES:Tennis
END:VEVENT
BEGIN:VEVENT
DTSTART;TZID=America/Chicago:20211025T083000
DTEND;TZID=America/Chicago:20211025T120000
DTSTAMP:20260422T174338
CREATED:20210815T195911Z
LAST-MODIFIED:20210815T195911Z
UID:10003719-1635150600-1635163200@www.springcreekoaks.org
SUMMARY:Kuehnle courts 1-4\, HLTA A3W
DESCRIPTION:
URL:https://www.springcreekoaks.org/reservations/kuehnle-courts-1-4-hlta-a3w/2021-10-25/
CATEGORIES:Tennis
END:VEVENT
BEGIN:VEVENT
DTSTART;TZID=America/Chicago:20211025T160000
DTEND;TZID=America/Chicago:20211025T190000
DTSTAMP:20260422T174338
CREATED:20240109T180920Z
LAST-MODIFIED:20240109T180920Z
UID:10003904-1635177600-1635188400@www.springcreekoaks.org
SUMMARY:CH 2 courts 1-3\, Tennis Pro Danny
DESCRIPTION:
URL:https://www.springcreekoaks.org/reservations/ch-2-courts-1-3-tennis-pro-danny/2021-10-25/
CATEGORIES:Tennis
END:VEVENT
BEGIN:VEVENT
DTSTART;TZID=America/Chicago:20211026T080000
DTEND;TZID=America/Chicago:20211026T090000
DTSTAMP:20260422T174338
CREATED:20210811T141524Z
LAST-MODIFIED:20210811T141524Z
UID:10003667-1635235200-1635238800@www.springcreekoaks.org
SUMMARY:CH 2 court 6\, Mason
DESCRIPTION:
URL:https://www.springcreekoaks.org/reservations/ch-2-court-6-mason-11/2021-10-26/
CATEGORIES:Tennis
END:VEVENT
BEGIN:VEVENT
DTSTART;TZID=America/Chicago:20211026T080000
DTEND;TZID=America/Chicago:20211026T120000
DTSTAMP:20260422T174338
CREATED:20210914T223604Z
LAST-MODIFIED:20210914T223604Z
UID:10003814-1635235200-1635249600@www.springcreekoaks.org
SUMMARY:CH 1 court 1\, Tennis Pro Danny
DESCRIPTION:
URL:https://www.springcreekoaks.org/reservations/ch-1-court-1-tennis-pro-danny/2021-10-26/
CATEGORIES:Tennis
END:VEVENT
BEGIN:VEVENT
DTSTART;TZID=America/Chicago:20211026T160000
DTEND;TZID=America/Chicago:20211026T190000
DTSTAMP:20260422T174338
CREATED:20210914T224140Z
LAST-MODIFIED:20210914T224140Z
UID:10003889-1635264000-1635274800@www.springcreekoaks.org
SUMMARY:CH 2 courts 1-3\, Tennis Pro Danny
DESCRIPTION:
URL:https://www.springcreekoaks.org/reservations/ch-2-courts-1-3-tennis-pro-danny/2021-10-26/
CATEGORIES:Tennis
END:VEVENT
BEGIN:VEVENT
DTSTART;TZID=America/Chicago:20211027T080000
DTEND;TZID=America/Chicago:20211027T120000
DTSTAMP:20260422T174338
CREATED:20210512T162316Z
LAST-MODIFIED:20210512T162316Z
UID:10003268-1635321600-1635336000@www.springcreekoaks.org
SUMMARY:CH 1 courts 2-3 (pickleball)\, Hudson
DESCRIPTION:
URL:https://www.springcreekoaks.org/reservations/ch-1-courts-2-3-pickleball-hudson/2021-10-27/
CATEGORIES:Tennis
END:VEVENT
BEGIN:VEVENT
DTSTART;TZID=America/Chicago:20211027T080000
DTEND;TZID=America/Chicago:20211027T120000
DTSTAMP:20260422T174338
CREATED:20210914T223912Z
LAST-MODIFIED:20210914T223912Z
UID:10003840-1635321600-1635336000@www.springcreekoaks.org
SUMMARY:CH 1 court 1\, Tennis Pro Danny
DESCRIPTION:
URL:https://www.springcreekoaks.org/reservations/ch-1-court-1-tennis-pro-danny-3/2021-10-27/
CATEGORIES:Tennis
END:VEVENT
BEGIN:VEVENT
DTSTART;TZID=America/Chicago:20211027T160000
DTEND;TZID=America/Chicago:20211027T190000
DTSTAMP:20260422T174338
CREATED:20240109T180921Z
LAST-MODIFIED:20240109T180921Z
UID:10003920-1635350400-1635361200@www.springcreekoaks.org
SUMMARY:CH 2 courts 1-3\, Tennis Pro Danny
DESCRIPTION:
URL:https://www.springcreekoaks.org/reservations/ch-2-courts-1-3-tennis-pro-danny/2021-10-27/
CATEGORIES:Tennis
END:VEVENT
BEGIN:VEVENT
DTSTART;TZID=America/Chicago:20211027T180000
DTEND;TZID=America/Chicago:20211027T200000
DTSTAMP:20260422T174338
CREATED:20200805T160749Z
LAST-MODIFIED:20200805T161100Z
UID:10001354-1635357600-1635364800@www.springcreekoaks.org
SUMMARY:CIFUENTES (Big Soccer Field)
DESCRIPTION:
URL:https://www.springcreekoaks.org/reservations/cifuentes-open-play-big-soccer-field/2021-10-27/
CATEGORIES:Soccer Fields
END:VEVENT
BEGIN:VEVENT
DTSTART;TZID=America/Chicago:20211027T180000
DTEND;TZID=America/Chicago:20211027T200000
DTSTAMP:20260422T174338
CREATED:20210824T133805Z
LAST-MODIFIED:20210824T133806Z
UID:10003774-1635357600-1635364800@www.springcreekoaks.org
SUMMARY:10U LIONS (Flag Football) Coach Stansifer
DESCRIPTION:
URL:https://www.springcreekoaks.org/reservations/10u-lions-flag-football-coach-stansifer-2/2021-10-27/
LOCATION:Small Soccer Field (CH 2)
CATEGORIES:Soccer Fields
END:VEVENT
BEGIN:VEVENT
DTSTART;TZID=America/Chicago:20211028T080000
DTEND;TZID=America/Chicago:20211028T120000
DTSTAMP:20260422T174338
CREATED:20240109T180915Z
LAST-MODIFIED:20240109T180915Z
UID:10003856-1635408000-1635422400@www.springcreekoaks.org
SUMMARY:CH 1 court 1\, Tennis Pro Danny
DESCRIPTION:
URL:https://www.springcreekoaks.org/reservations/ch-1-court-1-tennis-pro-danny-3/2021-10-28/
CATEGORIES:Tennis
END:VEVENT
BEGIN:VEVENT
DTSTART;TZID=America/Chicago:20211028T083000
DTEND;TZID=America/Chicago:20211028T120000
DTSTAMP:20260422T174338
CREATED:20210812T105352Z
LAST-MODIFIED:20210812T105352Z
UID:10003695-1635409800-1635422400@www.springcreekoaks.org
SUMMARY:CH 2 courts 1-4\, NWTL Mason
DESCRIPTION:
URL:https://www.springcreekoaks.org/reservations/ch-2-courts-1-4-nwtl-mason/2021-10-28/
CATEGORIES:Tennis
END:VEVENT
BEGIN:VEVENT
DTSTART;TZID=America/Chicago:20211028T083000
DTEND;TZID=America/Chicago:20211028T120000
DTSTAMP:20260422T174338
CREATED:20210815T200145Z
LAST-MODIFIED:20210815T200145Z
UID:10003724-1635409800-1635422400@www.springcreekoaks.org
SUMMARY:Kuehnle courts 1-4\, NW A1
DESCRIPTION:
URL:https://www.springcreekoaks.org/reservations/kuehnle-courts-1-4-nw-a1/2021-10-28/
CATEGORIES:Tennis
END:VEVENT
BEGIN:VEVENT
DTSTART;TZID=America/Chicago:20211028T160000
DTEND;TZID=America/Chicago:20211028T190000
DTSTAMP:20260422T174338
CREATED:20240109T180921Z
LAST-MODIFIED:20240109T180921Z
UID:10003936-1635436800-1635447600@www.springcreekoaks.org
SUMMARY:CH 2 courts 1-3\, Tennis Pro Danny
DESCRIPTION:
URL:https://www.springcreekoaks.org/reservations/ch-2-courts-1-3-tennis-pro-danny/2021-10-28/
CATEGORIES:Tennis
END:VEVENT
BEGIN:VEVENT
DTSTART;TZID=America/Chicago:20211029T080000
DTEND;TZID=America/Chicago:20211029T090000
DTSTAMP:20260422T174338
CREATED:20210811T141409Z
LAST-MODIFIED:20210811T141409Z
UID:10003606-1635494400-1635498000@www.springcreekoaks.org
SUMMARY:CH 2 court 6\, Mason
DESCRIPTION:
URL:https://www.springcreekoaks.org/reservations/ch-2-court-6-mason-10/2021-10-29/
CATEGORIES:Tennis
END:VEVENT
BEGIN:VEVENT
DTSTART;TZID=America/Chicago:20211029T080000
DTEND;TZID=America/Chicago:20211029T120000
DTSTAMP:20260422T174338
CREATED:20240109T180915Z
LAST-MODIFIED:20240109T180915Z
UID:10003872-1635494400-1635508800@www.springcreekoaks.org
SUMMARY:CH 1 court 1\, Tennis Pro Danny
DESCRIPTION:
URL:https://www.springcreekoaks.org/reservations/ch-1-court-1-tennis-pro-danny-3/2021-10-29/
CATEGORIES:Tennis
END:VEVENT
BEGIN:VEVENT
DTSTART;TZID=America/Chicago:20211029T083000
DTEND;TZID=America/Chicago:20211029T120000
DTSTAMP:20260422T174338
CREATED:20210818T183047Z
LAST-MODIFIED:20210818T183047Z
UID:10003737-1635496200-1635508800@www.springcreekoaks.org
SUMMARY:CH 2 courts 1-4\, JR Open 2
DESCRIPTION:
URL:https://www.springcreekoaks.org/reservations/ch-2-courts-1-4-jr-open-2-3/2021-10-29/
CATEGORIES:Tennis
END:VEVENT
BEGIN:VEVENT
DTSTART;TZID=America/Chicago:20211029T083000
DTEND;TZID=America/Chicago:20211029T120000
DTSTAMP:20260422T174338
CREATED:20210818T183710Z
LAST-MODIFIED:20210818T183710Z
UID:10003751-1635496200-1635508800@www.springcreekoaks.org
SUMMARY:Kuehnle courts 1-4\, JR B-3
DESCRIPTION:
URL:https://www.springcreekoaks.org/reservations/kuehnle-courts-1-4-jr-b-3/2021-10-29/
CATEGORIES:Tennis
END:VEVENT
BEGIN:VEVENT
DTSTART;TZID=America/Chicago:20211029T160000
DTEND;TZID=America/Chicago:20211029T190000
DTSTAMP:20260422T174338
CREATED:20240109T180922Z
LAST-MODIFIED:20240109T180922Z
UID:10003952-1635523200-1635534000@www.springcreekoaks.org
SUMMARY:CH 2 courts 1-3\, Tennis Pro Danny
DESCRIPTION:
URL:https://www.springcreekoaks.org/reservations/ch-2-courts-1-3-tennis-pro-danny/2021-10-29/
CATEGORIES:Tennis
END:VEVENT
BEGIN:VEVENT
DTSTART;TZID=America/Chicago:20211030T080000
DTEND;TZID=America/Chicago:20211030T103000
DTSTAMP:20260422T174338
CREATED:20200805T161253Z
LAST-MODIFIED:20200805T161253Z
UID:10001114-1635580800-1635589800@www.springcreekoaks.org
SUMMARY:LLERENA (Big Soccer Field)
DESCRIPTION:
URL:https://www.springcreekoaks.org/reservations/llerena-big-soccer-field/2021-10-30/
CATEGORIES:Soccer Fields
END:VEVENT
BEGIN:VEVENT
DTSTART;TZID=America/Chicago:20211031T080000
DTEND;TZID=America/Chicago:20211031T120000
DTSTAMP:20260422T174338
CREATED:20211031T213749Z
LAST-MODIFIED:20211031T213749Z
UID:10004001-1635667200-1635681600@www.springcreekoaks.org
SUMMARY:Kuehnle courts 3-4\, tennis pro Danny (CH 1 court unusable)
DESCRIPTION:
URL:https://www.springcreekoaks.org/reservations/kuehnle-courts-3-4-tennis-pro-danny-ch-1-court-unusable/2021-10-31/
CATEGORIES:Tennis
END:VEVENT
BEGIN:VEVENT
DTSTART;TZID=America/Chicago:20211101T080000
DTEND;TZID=America/Chicago:20211101T120000
DTSTAMP:20260422T174338
CREATED:20210914T223709Z
LAST-MODIFIED:20210914T223709Z
UID:10003828-1635753600-1635768000@www.springcreekoaks.org
SUMMARY:CH 1 court 1\, Tennis Pro Danny
DESCRIPTION:
URL:https://www.springcreekoaks.org/reservations/ch-1-court-1-tennis-pro-danny-2/2021-11-01/
CATEGORIES:Tennis
END:VEVENT
BEGIN:VEVENT
DTSTART;TZID=America/Chicago:20211101T080000
DTEND;TZID=America/Chicago:20211101T120000
DTSTAMP:20260422T174338
CREATED:20211031T213749Z
LAST-MODIFIED:20211031T213749Z
UID:10004002-1635753600-1635768000@www.springcreekoaks.org
SUMMARY:Kuehnle courts 3-4\, tennis pro Danny (CH 1 court unusable)
DESCRIPTION:
URL:https://www.springcreekoaks.org/reservations/kuehnle-courts-3-4-tennis-pro-danny-ch-1-court-unusable/2021-11-01/
CATEGORIES:Tennis
END:VEVENT
BEGIN:VEVENT
DTSTART;TZID=America/Chicago:20211101T083000
DTEND;TZID=America/Chicago:20211101T120000
DTSTAMP:20260422T174338
CREATED:20210812T110227Z
LAST-MODIFIED:20210812T110227Z
UID:10003705-1635755400-1635768000@www.springcreekoaks.org
SUMMARY:CH 2 courts 1-4\, Champ 2 North
DESCRIPTION:
URL:https://www.springcreekoaks.org/reservations/ch-2-courts-1-4-champ-2-north/2021-11-01/
CATEGORIES:Tennis
END:VEVENT
BEGIN:VEVENT
DTSTART;TZID=America/Chicago:20211101T160000
DTEND;TZID=America/Chicago:20211101T190000
DTSTAMP:20260422T174338
CREATED:20240109T180920Z
LAST-MODIFIED:20240109T180920Z
UID:10003905-1635782400-1635793200@www.springcreekoaks.org
SUMMARY:CH 2 courts 1-3\, Tennis Pro Danny
DESCRIPTION:
URL:https://www.springcreekoaks.org/reservations/ch-2-courts-1-3-tennis-pro-danny/2021-11-01/
CATEGORIES:Tennis
END:VEVENT
BEGIN:VEVENT
DTSTART;TZID=America/Chicago:20211101T190000
DTEND;TZID=America/Chicago:20211101T220000
DTSTAMP:20260422T174338
CREATED:20210914T170257Z
LAST-MODIFIED:20210914T170257Z
UID:10002346-1635793200-1635804000@www.springcreekoaks.org
SUMMARY:CH 2 courts 1-6\, Ladies night league
DESCRIPTION:
URL:https://www.springcreekoaks.org/reservations/ch-2-courts-1-6-ladies-night-league/2021-11-01/
CATEGORIES:Tennis
END:VEVENT
BEGIN:VEVENT
DTSTART;TZID=America/Chicago:20211102T080000
DTEND;TZID=America/Chicago:20211102T090000
DTSTAMP:20260422T174338
CREATED:20210811T141524Z
LAST-MODIFIED:20210811T141524Z
UID:10003668-1635840000-1635843600@www.springcreekoaks.org
SUMMARY:CH 2 court 6\, Mason
DESCRIPTION:
URL:https://www.springcreekoaks.org/reservations/ch-2-court-6-mason-11/2021-11-02/
CATEGORIES:Tennis
END:VEVENT
BEGIN:VEVENT
DTSTART;TZID=America/Chicago:20211102T080000
DTEND;TZID=America/Chicago:20211102T120000
DTSTAMP:20260422T174338
CREATED:20210914T223604Z
LAST-MODIFIED:20210914T223604Z
UID:10003815-1635840000-1635854400@www.springcreekoaks.org
SUMMARY:CH 1 court 1\, Tennis Pro Danny
DESCRIPTION:
URL:https://www.springcreekoaks.org/reservations/ch-1-court-1-tennis-pro-danny/2021-11-02/
CATEGORIES:Tennis
END:VEVENT
BEGIN:VEVENT
DTSTART;TZID=America/Chicago:20211102T080000
DTEND;TZID=America/Chicago:20211102T120000
DTSTAMP:20260422T174338
CREATED:20211031T213749Z
LAST-MODIFIED:20211031T213749Z
UID:10004003-1635840000-1635854400@www.springcreekoaks.org
SUMMARY:Kuehnle courts 3-4\, tennis pro Danny (CH 1 court unusable)
DESCRIPTION:
URL:https://www.springcreekoaks.org/reservations/kuehnle-courts-3-4-tennis-pro-danny-ch-1-court-unusable/2021-11-02/
CATEGORIES:Tennis
END:VEVENT
END:VCALENDAR