BEGIN:VCALENDAR
VERSION:2.0
PRODID:-//Spring Creek Oaks - ECPv6.15.20//NONSGML v1.0//EN
CALSCALE:GREGORIAN
METHOD:PUBLISH
X-WR-CALNAME:Spring Creek Oaks
X-ORIGINAL-URL:https://www.springcreekoaks.org
X-WR-CALDESC:Events for Spring Creek Oaks
REFRESH-INTERVAL;VALUE=DURATION:PT1H
X-Robots-Tag:noindex
X-PUBLISHED-TTL:PT1H
BEGIN:VTIMEZONE
TZID:America/Chicago
BEGIN:DAYLIGHT
TZOFFSETFROM:-0600
TZOFFSETTO:-0500
TZNAME:CDT
DTSTART:20230312T080000
END:DAYLIGHT
BEGIN:STANDARD
TZOFFSETFROM:-0500
TZOFFSETTO:-0600
TZNAME:CST
DTSTART:20231105T070000
END:STANDARD
BEGIN:DAYLIGHT
TZOFFSETFROM:-0600
TZOFFSETTO:-0500
TZNAME:CDT
DTSTART:20240310T080000
END:DAYLIGHT
BEGIN:STANDARD
TZOFFSETFROM:-0500
TZOFFSETTO:-0600
TZNAME:CST
DTSTART:20241103T070000
END:STANDARD
BEGIN:DAYLIGHT
TZOFFSETFROM:-0600
TZOFFSETTO:-0500
TZNAME:CDT
DTSTART:20250309T080000
END:DAYLIGHT
BEGIN:STANDARD
TZOFFSETFROM:-0500
TZOFFSETTO:-0600
TZNAME:CST
DTSTART:20251102T070000
END:STANDARD
END:VTIMEZONE
BEGIN:VEVENT
DTSTART;TZID=America/Chicago:20240117T090000
DTEND;TZID=America/Chicago:20240117T113000
DTSTAMP:20260422T183233
CREATED:20231205T012455Z
LAST-MODIFIED:20240107T024742Z
UID:10004058-1705482000-1705491000@www.springcreekoaks.org
SUMMARY:CH 1 courts 2-3\, Hudson
DESCRIPTION:
URL:https://www.springcreekoaks.org/reservations/ch-1-courts-2-3-hudson-2/2024-01-17/
CATEGORIES:Tennis
END:VEVENT
BEGIN:VEVENT
DTSTART;TZID=America/Chicago:20240117T100000
DTEND;TZID=America/Chicago:20240117T110000
DTSTAMP:20260422T183233
CREATED:20240115T175343Z
LAST-MODIFIED:20240416T023303Z
UID:10006869-1705485600-1705489200@www.springcreekoaks.org
SUMMARY:Kuehnle courts 3-4\, Coach Danny
DESCRIPTION:
URL:https://www.springcreekoaks.org/reservations/kuehnle-courts-3-4-coach-danny-5/2024-01-17/
CATEGORIES:Tennis
END:VEVENT
BEGIN:VEVENT
DTSTART;TZID=America/Chicago:20240117T160000
DTEND;TZID=America/Chicago:20240117T200000
DTSTAMP:20260422T183233
CREATED:20240117T135025Z
LAST-MODIFIED:20240117T135536Z
UID:10007143-1705507200-1705521600@www.springcreekoaks.org
SUMMARY:Field 2 - Orioles - 11U
DESCRIPTION:
URL:https://www.springcreekoaks.org/reservations/field-2-orioles-11u-2/2024-01-17/
LOCATION:Baseball Field 2\, United States
CATEGORIES:Baseball Fields
END:VEVENT
BEGIN:VEVENT
DTSTART;TZID=America/Chicago:20240117T170000
DTEND;TZID=America/Chicago:20240117T190000
DTSTAMP:20260422T183233
CREATED:20240115T175440Z
LAST-MODIFIED:20240115T180134Z
UID:10006941-1705510800-1705518000@www.springcreekoaks.org
SUMMARY:Kuehnle courts 3-4\, Coach Danny
DESCRIPTION:
URL:https://www.springcreekoaks.org/reservations/kuehnle-courts-3-4-coach-danny-6/2024-01-17/
CATEGORIES:Tennis
END:VEVENT
BEGIN:VEVENT
DTSTART;TZID=America/Chicago:20240117T180000
DTEND;TZID=America/Chicago:20240117T220000
DTSTAMP:20260422T183233
CREATED:20220808T175634Z
LAST-MODIFIED:20220808T175634Z
UID:10004339-1705514400-1705528800@www.springcreekoaks.org
SUMMARY:SCO Book Club CH2
DESCRIPTION:
URL:https://www.springcreekoaks.org/reservations/sco-book-club-ch2-2/2024-01-17/
CATEGORIES:Clubhouses
END:VEVENT
BEGIN:VEVENT
DTSTART;TZID=America/Chicago:20240118T083000
DTEND;TZID=America/Chicago:20240118T120000
DTSTAMP:20260422T183233
CREATED:20231126T144446Z
LAST-MODIFIED:20231126T144859Z
UID:10003307-1705566600-1705579200@www.springcreekoaks.org
SUMMARY:CH 1 courts 2-3\, Palmer
DESCRIPTION:
URL:https://www.springcreekoaks.org/reservations/ch-1-courts-2-3-palmer/2024-01-18/
CATEGORIES:Tennis
END:VEVENT
BEGIN:VEVENT
DTSTART;TZID=America/Chicago:20240118T090000
DTEND;TZID=America/Chicago:20240118T110000
DTSTAMP:20260422T183233
CREATED:20240115T175542Z
LAST-MODIFIED:20240416T023143Z
UID:10007013-1705568400-1705575600@www.springcreekoaks.org
SUMMARY:Kuehnle courts 3-4\, Coach Danny
DESCRIPTION:
URL:https://www.springcreekoaks.org/reservations/kuehnle-courts-3-4-coach-danny-7/2024-01-18/
CATEGORIES:Tennis
END:VEVENT
BEGIN:VEVENT
DTSTART;TZID=America/Chicago:20240118T090000
DTEND;TZID=America/Chicago:20240118T110000
DTSTAMP:20260422T183233
CREATED:20240118T041008Z
LAST-MODIFIED:20240118T041008Z
UID:10007461-1705568400-1705575600@www.springcreekoaks.org
SUMMARY:CH 2 court 3\, Lopez
DESCRIPTION:
URL:https://www.springcreekoaks.org/reservations/ch-2-court-3-lopez-42/
CATEGORIES:Tennis
END:VEVENT
BEGIN:VEVENT
DTSTART;TZID=America/Chicago:20240118T160000
DTEND;TZID=America/Chicago:20240118T200000
DTSTAMP:20260422T183233
CREATED:20240117T135415Z
LAST-MODIFIED:20240117T135415Z
UID:10007345-1705593600-1705608000@www.springcreekoaks.org
SUMMARY:Field 1 - Young Guns - 12U
DESCRIPTION:
URL:https://www.springcreekoaks.org/reservations/field-1-young-guns-12u/2024-01-18/
LOCATION:Baseball Field 1\, United States
CATEGORIES:Baseball Fields
END:VEVENT
BEGIN:VEVENT
DTSTART;TZID=America/Chicago:20240118T160000
DTEND;TZID=America/Chicago:20240118T200000
DTSTAMP:20260422T183233
CREATED:20240117T135753Z
LAST-MODIFIED:20240117T140132Z
UID:10007391-1705593600-1705608000@www.springcreekoaks.org
SUMMARY:Field 3 - Hot Rod - 7U
DESCRIPTION:
URL:https://www.springcreekoaks.org/reservations/field-3-hot-rod-7u/2024-01-18/
LOCATION:Baseball Field 3\, United States
CATEGORIES:Baseball Fields
END:VEVENT
BEGIN:VEVENT
DTSTART;TZID=America/Chicago:20240118T170000
DTEND;TZID=America/Chicago:20240118T193000
DTSTAMP:20260422T183233
CREATED:20240115T175721Z
LAST-MODIFIED:20240416T023026Z
UID:10007085-1705597200-1705606200@www.springcreekoaks.org
SUMMARY:Kuehnle courts 3-4\, Coach Danny
DESCRIPTION:
URL:https://www.springcreekoaks.org/reservations/kuehnle-courts-3-4-coach-danny-8/2024-01-18/
CATEGORIES:Tennis
END:VEVENT
BEGIN:VEVENT
DTSTART;TZID=America/Chicago:20240118T190000
DTEND;TZID=America/Chicago:20240118T220000
DTSTAMP:20260422T183233
CREATED:20240113T021559Z
LAST-MODIFIED:20240131T152936Z
UID:10006523-1705604400-1705615200@www.springcreekoaks.org
SUMMARY:CH 2 PB courts 3-4\, P. Guzman
DESCRIPTION:
URL:https://www.springcreekoaks.org/reservations/ch-1-courts-2-3-p-guzman/2024-01-18/
CATEGORIES:Tennis
END:VEVENT
BEGIN:VEVENT
DTSTART;TZID=America/Chicago:20240119T100000
DTEND;TZID=America/Chicago:20240119T130000
DTSTAMP:20260422T183233
CREATED:20240118T041051Z
LAST-MODIFIED:20240118T041051Z
UID:10007462-1705658400-1705669200@www.springcreekoaks.org
SUMMARY:CH 2 courts 2-3\, Lopez
DESCRIPTION:
URL:https://www.springcreekoaks.org/reservations/ch-2-courts-2-3-lopez-2/
CATEGORIES:Tennis
END:VEVENT
BEGIN:VEVENT
DTSTART;TZID=America/Chicago:20240119T160000
DTEND;TZID=America/Chicago:20240119T200000
DTSTAMP:20260422T183233
CREATED:20240117T135855Z
LAST-MODIFIED:20240117T135855Z
UID:10007422-1705680000-1705694400@www.springcreekoaks.org
SUMMARY:Field 1 - Skeeters - 10U
DESCRIPTION:
URL:https://www.springcreekoaks.org/reservations/field-1-skeeters-10u/2024-01-19/
LOCATION:Baseball Field 1\, United States
CATEGORIES:Baseball Fields
END:VEVENT
BEGIN:VEVENT
DTSTART;TZID=America/Chicago:20240119T180000
DTEND;TZID=America/Chicago:20240119T190000
DTSTAMP:20260422T183233
CREATED:20240115T175843Z
LAST-MODIFIED:20240118T192404Z
UID:10007105-1705687200-1705690800@www.springcreekoaks.org
SUMMARY:Kuehnle courts 3-4\, Coach Danny
DESCRIPTION:
URL:https://www.springcreekoaks.org/reservations/kuehnle-courts-3-4-coach-danny-9/2024-01-19/
CATEGORIES:Tennis
END:VEVENT
BEGIN:VEVENT
DTSTART;TZID=America/Chicago:20240120T080000
DTEND;TZID=America/Chicago:20240120T100000
DTSTAMP:20260422T183233
CREATED:20220407T142613Z
LAST-MODIFIED:20231115T201658Z
UID:10004638-1705737600-1705744800@www.springcreekoaks.org
SUMMARY:SCO weekly pickup game (LLERENA)
DESCRIPTION:All SCO residents are invited to play and have some fun.
URL:https://www.springcreekoaks.org/reservations/llerenas-soccer-practice/2024-01-20/
LOCATION:Large Soccer Field (Bilma)\, United States
CATEGORIES:Soccer Fields
END:VEVENT
BEGIN:VEVENT
DTSTART;TZID=America/Chicago:20240120T080000
DTEND;TZID=America/Chicago:20240120T110000
DTSTAMP:20260422T183233
CREATED:20240117T135955Z
LAST-MODIFIED:20240117T135955Z
UID:10007444-1705737600-1705748400@www.springcreekoaks.org
SUMMARY:Field 1 - Coyotes - 12U
DESCRIPTION:
URL:https://www.springcreekoaks.org/reservations/field-1-coyotes-12u-3/2024-01-20/
LOCATION:Baseball Field 1\, United States
CATEGORIES:Baseball Fields
END:VEVENT
BEGIN:VEVENT
DTSTART;TZID=America/Chicago:20240120T083000
DTEND;TZID=America/Chicago:20240120T120000
DTSTAMP:20260422T183233
CREATED:20231126T144446Z
LAST-MODIFIED:20231126T144859Z
UID:10003308-1705739400-1705752000@www.springcreekoaks.org
SUMMARY:CH 1 courts 2-3\, Palmer
DESCRIPTION:
URL:https://www.springcreekoaks.org/reservations/ch-1-courts-2-3-palmer/2024-01-20/
CATEGORIES:Tennis
END:VEVENT
BEGIN:VEVENT
DTSTART;TZID=America/Chicago:20240121T140000
DTEND;TZID=America/Chicago:20240121T170000
DTSTAMP:20260422T183233
CREATED:20231231T003512Z
LAST-MODIFIED:20231231T003512Z
UID:10006233-1705845600-1705856400@www.springcreekoaks.org
SUMMARY:McDowell Eagle Scout CH2
DESCRIPTION:
URL:https://www.springcreekoaks.org/reservations/mcdowell-eagle-scout-ch2/
LOCATION:Clubhouse 2\, 6002 Bur Oak Dr\, Spring\, 77379\, United States
GEO:30.037539;-95.5070911
X-APPLE-STRUCTURED-LOCATION;VALUE=URI;X-ADDRESS=Clubhouse 2 6002 Bur Oak Dr Spring 77379 United States;X-APPLE-RADIUS=500;X-TITLE=6002 Bur Oak Dr:geo:-95.5070911,30.037539
END:VEVENT
BEGIN:VEVENT
DTSTART;TZID=America/Chicago:20240122T083000
DTEND;TZID=America/Chicago:20240122T110000
DTSTAMP:20260422T183233
CREATED:20240115T174755Z
LAST-MODIFIED:20240115T180718Z
UID:10006583-1705912200-1705921200@www.springcreekoaks.org
SUMMARY:Kuehnle courts 3-4\, Coach Danny
DESCRIPTION:
URL:https://www.springcreekoaks.org/reservations/kuehnle-courts-3-4-coach-danny/2024-01-22/
CATEGORIES:Tennis
END:VEVENT
BEGIN:VEVENT
DTSTART;TZID=America/Chicago:20240122T160000
DTEND;TZID=America/Chicago:20240122T200000
DTSTAMP:20260422T183233
CREATED:20240117T135025Z
LAST-MODIFIED:20240117T135536Z
UID:10007144-1705939200-1705953600@www.springcreekoaks.org
SUMMARY:Field 2 - Orioles - 11U
DESCRIPTION:
URL:https://www.springcreekoaks.org/reservations/field-2-orioles-11u-2/2024-01-22/
LOCATION:Baseball Field 2\, United States
CATEGORIES:Baseball Fields
END:VEVENT
BEGIN:VEVENT
DTSTART;TZID=America/Chicago:20240122T170000
DTEND;TZID=America/Chicago:20240122T190000
DTSTAMP:20260422T183233
CREATED:20240115T174912Z
LAST-MODIFIED:20240115T180603Z
UID:10006654-1705942800-1705950000@www.springcreekoaks.org
SUMMARY:Kuehnle courts 3-4\, Coach Danny
DESCRIPTION:
URL:https://www.springcreekoaks.org/reservations/kuehnle-courts-3-4-coach-danny-2/2024-01-22/
CATEGORIES:Tennis
END:VEVENT
BEGIN:VEVENT
DTSTART;TZID=America/Chicago:20240122T180000
DTEND;TZID=America/Chicago:20240122T210000
DTSTAMP:20260422T183233
CREATED:20231231T003326Z
LAST-MODIFIED:20231231T003326Z
UID:10006357-1705946400-1705957200@www.springcreekoaks.org
SUMMARY:NCL Wildflowers CH2
DESCRIPTION:
URL:https://www.springcreekoaks.org/reservations/ncl-wildflowers-ch2-9/
LOCATION:Clubhouse 2\, 6002 Bur Oak Dr\, Spring\, 77379\, United States
GEO:30.037539;-95.5070911
X-APPLE-STRUCTURED-LOCATION;VALUE=URI;X-ADDRESS=Clubhouse 2 6002 Bur Oak Dr Spring 77379 United States;X-APPLE-RADIUS=500;X-TITLE=6002 Bur Oak Dr:geo:-95.5070911,30.037539
END:VEVENT
BEGIN:VEVENT
DTSTART;TZID=America/Chicago:20240123T083000
DTEND;TZID=America/Chicago:20240123T120000
DTSTAMP:20260422T183233
CREATED:20231126T144446Z
LAST-MODIFIED:20231126T144859Z
UID:10003309-1705998600-1706011200@www.springcreekoaks.org
SUMMARY:CH 1 courts 2-3\, Palmer
DESCRIPTION:
URL:https://www.springcreekoaks.org/reservations/ch-1-courts-2-3-palmer/2024-01-23/
CATEGORIES:Tennis
END:VEVENT
BEGIN:VEVENT
DTSTART;TZID=America/Chicago:20240123T090000
DTEND;TZID=America/Chicago:20240123T110000
DTSTAMP:20260422T183233
CREATED:20240115T175133Z
LAST-MODIFIED:20240416T023409Z
UID:10006726-1706000400-1706007600@www.springcreekoaks.org
SUMMARY:Kuehnle courts 3-4\, Coach Danny
DESCRIPTION:
URL:https://www.springcreekoaks.org/reservations/kuehnle-courts-3-4-coach-danny-3/2024-01-23/
CATEGORIES:Tennis
END:VEVENT
BEGIN:VEVENT
DTSTART;TZID=America/Chicago:20240123T160000
DTEND;TZID=America/Chicago:20240123T200000
DTSTAMP:20260422T183233
CREATED:20240117T135415Z
LAST-MODIFIED:20240117T135415Z
UID:10007346-1706025600-1706040000@www.springcreekoaks.org
SUMMARY:Field 1 - Young Guns - 12U
DESCRIPTION:
URL:https://www.springcreekoaks.org/reservations/field-1-young-guns-12u/2024-01-23/
LOCATION:Baseball Field 1\, United States
CATEGORIES:Baseball Fields
END:VEVENT
BEGIN:VEVENT
DTSTART;TZID=America/Chicago:20240123T160000
DTEND;TZID=America/Chicago:20240123T200000
DTSTAMP:20260422T183233
CREATED:20240117T135653Z
LAST-MODIFIED:20240117T135653Z
UID:10007376-1706025600-1706040000@www.springcreekoaks.org
SUMMARY:Field 2 - Hooks - 7U
DESCRIPTION:
URL:https://www.springcreekoaks.org/reservations/field-2-hooks-7u/2024-01-23/
LOCATION:Baseball Field 2\, United States
CATEGORIES:Baseball Fields
END:VEVENT
BEGIN:VEVENT
DTSTART;TZID=America/Chicago:20240123T160000
DTEND;TZID=America/Chicago:20240123T200000
DTSTAMP:20260422T183233
CREATED:20240117T135753Z
LAST-MODIFIED:20240117T140132Z
UID:10007392-1706025600-1706040000@www.springcreekoaks.org
SUMMARY:Field 3 - Hot Rod - 7U
DESCRIPTION:
URL:https://www.springcreekoaks.org/reservations/field-3-hot-rod-7u/2024-01-23/
LOCATION:Baseball Field 3\, United States
CATEGORIES:Baseball Fields
END:VEVENT
BEGIN:VEVENT
DTSTART;TZID=America/Chicago:20240123T170000
DTEND;TZID=America/Chicago:20240123T193000
DTSTAMP:20260422T183233
CREATED:20240115T175240Z
LAST-MODIFIED:20240115T180452Z
UID:10006798-1706029200-1706038200@www.springcreekoaks.org
SUMMARY:Kuehnle courts 3-4\, Coach Danny
DESCRIPTION:
URL:https://www.springcreekoaks.org/reservations/kuehnle-courts-3-4-coach-danny-4/2024-01-23/
CATEGORIES:Tennis
END:VEVENT
BEGIN:VEVENT
DTSTART;TZID=America/Chicago:20240123T180000
DTEND;TZID=America/Chicago:20240123T210000
DTSTAMP:20260422T183233
CREATED:20240102T164637Z
LAST-MODIFIED:20240102T164908Z
UID:10003017-1706032800-1706043600@www.springcreekoaks.org
SUMMARY:CH 1 courts 2-3 (pickleball)\, A. Cortez
DESCRIPTION:
URL:https://www.springcreekoaks.org/reservations/ch-1-courts-2-3-pickleball-a-cortez/2024-01-23/
CATEGORIES:Tennis
END:VEVENT
END:VCALENDAR