BEGIN:VCALENDAR
VERSION:2.0
PRODID:-//Spring Creek Oaks - ECPv6.15.20//NONSGML v1.0//EN
CALSCALE:GREGORIAN
METHOD:PUBLISH
X-WR-CALNAME:Spring Creek Oaks
X-ORIGINAL-URL:https://www.springcreekoaks.org
X-WR-CALDESC:Events for Spring Creek Oaks
REFRESH-INTERVAL;VALUE=DURATION:PT1H
X-Robots-Tag:noindex
X-PUBLISHED-TTL:PT1H
BEGIN:VTIMEZONE
TZID:America/Chicago
BEGIN:DAYLIGHT
TZOFFSETFROM:-0600
TZOFFSETTO:-0500
TZNAME:CDT
DTSTART:20210314T080000
END:DAYLIGHT
BEGIN:STANDARD
TZOFFSETFROM:-0500
TZOFFSETTO:-0600
TZNAME:CST
DTSTART:20211107T070000
END:STANDARD
BEGIN:DAYLIGHT
TZOFFSETFROM:-0600
TZOFFSETTO:-0500
TZNAME:CDT
DTSTART:20220313T080000
END:DAYLIGHT
BEGIN:STANDARD
TZOFFSETFROM:-0500
TZOFFSETTO:-0600
TZNAME:CST
DTSTART:20221106T070000
END:STANDARD
BEGIN:DAYLIGHT
TZOFFSETFROM:-0600
TZOFFSETTO:-0500
TZNAME:CDT
DTSTART:20230312T080000
END:DAYLIGHT
BEGIN:STANDARD
TZOFFSETFROM:-0500
TZOFFSETTO:-0600
TZNAME:CST
DTSTART:20231105T070000
END:STANDARD
END:VTIMEZONE
BEGIN:VEVENT
DTSTART;TZID=America/Chicago:20220322T080000
DTEND;TZID=America/Chicago:20220322T093000
DTSTAMP:20260425T061507
CREATED:20220131T204916Z
LAST-MODIFIED:20220131T204916Z
UID:10000021-1647936000-1647941400@www.springcreekoaks.org
SUMMARY:CH 2 court 6\, Mason
DESCRIPTION:
URL:https://www.springcreekoaks.org/reservations/ch-2-court-6-mason-13/2022-03-22/
LOCATION:TX
CATEGORIES:Tennis
END:VEVENT
BEGIN:VEVENT
DTSTART;TZID=America/Chicago:20220322T080000
DTEND;TZID=America/Chicago:20220322T120000
DTSTAMP:20260425T061507
CREATED:20220203T004639Z
LAST-MODIFIED:20220203T004639Z
UID:10004413-1647936000-1647950400@www.springcreekoaks.org
SUMMARY:CH 1 court 1\, Tennis Pro Danny
DESCRIPTION:
URL:https://www.springcreekoaks.org/reservations/ch-1-court-1-tennis-pro-danny-4/2022-03-22/
LOCATION:TX
CATEGORIES:Tennis
END:VEVENT
BEGIN:VEVENT
DTSTART;TZID=America/Chicago:20220322T083000
DTEND;TZID=America/Chicago:20220322T123000
DTSTAMP:20260425T061507
CREATED:20220307T012346Z
LAST-MODIFIED:20220307T012346Z
UID:10000794-1647937800-1647952200@www.springcreekoaks.org
SUMMARY:Kuehnle courts 1-4\, JR Baines rain makeup
DESCRIPTION:
URL:https://www.springcreekoaks.org/reservations/kuehnle-courts-1-4-jr-baines-rain-makeup/
LOCATION:TX
CATEGORIES:Tennis
END:VEVENT
BEGIN:VEVENT
DTSTART;TZID=America/Chicago:20220322T190000
DTEND;TZID=America/Chicago:20220322T220000
DTSTAMP:20260425T061507
CREATED:20220322T125925Z
LAST-MODIFIED:20220322T125925Z
UID:10000763-1647975600-1647986400@www.springcreekoaks.org
SUMMARY:CH 2 courts 1-6\, NHTA A-2 rain makeup
DESCRIPTION:
URL:https://www.springcreekoaks.org/reservations/ch-2-courts-1-6-nhta-a-2-rain-makeup-3/
LOCATION:TX
CATEGORIES:Tennis
END:VEVENT
BEGIN:VEVENT
DTSTART;TZID=America/Chicago:20220323T080000
DTEND;TZID=America/Chicago:20220323T100000
DTSTAMP:20260425T061507
CREATED:20220203T004757Z
LAST-MODIFIED:20220203T004757Z
UID:10004431-1648022400-1648029600@www.springcreekoaks.org
SUMMARY:Kuehnle courts 3-4\, Tennis pro Danny
DESCRIPTION:
URL:https://www.springcreekoaks.org/reservations/kuehnle-courts-3-4-tennis-pro-danny-7/2022-03-23/
LOCATION:TX
CATEGORIES:Tennis
END:VEVENT
BEGIN:VEVENT
DTSTART;TZID=America/Chicago:20220323T083000
DTEND;TZID=America/Chicago:20220323T120000
DTSTAMP:20260425T061507
CREATED:20220305T010326Z
LAST-MODIFIED:20220306T002252Z
UID:10000453-1648024200-1648036800@www.springcreekoaks.org
SUMMARY:CH 2 courts 1-2\, JR open 2 rain makeup
DESCRIPTION:
URL:https://www.springcreekoaks.org/reservations/ch-2-court-1-jr-open-2-rain-makeup-2/
LOCATION:TX
CATEGORIES:Tennis
END:VEVENT
BEGIN:VEVENT
DTSTART;TZID=America/Chicago:20220323T083000
DTEND;TZID=America/Chicago:20220323T123000
DTSTAMP:20260425T061507
CREATED:20220307T012432Z
LAST-MODIFIED:20220322T125707Z
UID:10000678-1648024200-1648038600@www.springcreekoaks.org
SUMMARY:CH 2 courts 4-6\, JR Baines rain makeup
DESCRIPTION:
URL:https://www.springcreekoaks.org/reservations/ch-2-courts-4-jr-baines-rain-makeup/
LOCATION:TX
CATEGORIES:Tennis
END:VEVENT
BEGIN:VEVENT
DTSTART;TZID=America/Chicago:20220323T090000
DTEND;TZID=America/Chicago:20220323T120000
DTSTAMP:20260425T061507
CREATED:20220131T210803Z
LAST-MODIFIED:20220131T210803Z
UID:10004398-1648026000-1648036800@www.springcreekoaks.org
SUMMARY:CH 1 courts 2-3 (pickleball)\, Hudson
DESCRIPTION:
URL:https://www.springcreekoaks.org/reservations/ch-1-courts-2-3-pickleball-hudson-2/2022-03-23/
LOCATION:TX
CATEGORIES:Tennis
END:VEVENT
BEGIN:VEVENT
DTSTART;TZID=America/Chicago:20220323T090000
DTEND;TZID=America/Chicago:20220323T120000
DTSTAMP:20260425T061507
CREATED:20220322T191446Z
LAST-MODIFIED:20220323T130712Z
UID:10000438-1648026000-1648036800@www.springcreekoaks.org
SUMMARY:Kuehnle courts 1-2\, Mason rain makeup
DESCRIPTION:
URL:https://www.springcreekoaks.org/reservations/kuehnle-courts-1-2-mason/
LOCATION:TX
CATEGORIES:Tennis
END:VEVENT
BEGIN:VEVENT
DTSTART;TZID=America/Chicago:20220323T130000
DTEND;TZID=America/Chicago:20220323T190000
DTSTAMP:20260425T061507
CREATED:20220321T192329Z
LAST-MODIFIED:20220321T192329Z
UID:10000400-1648040400-1648062000@www.springcreekoaks.org
SUMMARY:Ch 1 courts closed due to repair work
DESCRIPTION:
URL:https://www.springcreekoaks.org/reservations/ch-1-courts-closed-due-to-repair-work/2022-03-23/
LOCATION:TX
CATEGORIES:Tennis
END:VEVENT
BEGIN:VEVENT
DTSTART;TZID=America/Chicago:20220323T170000
DTEND;TZID=America/Chicago:20220323T190000
DTSTAMP:20260425T061507
CREATED:20220124T162052Z
LAST-MODIFIED:20220221T184741Z
UID:10004210-1648054800-1648062000@www.springcreekoaks.org
SUMMARY:10U Tigers Baseball Practice - Field 1
DESCRIPTION:10U Baseball Practice – Field 1 \nChad Haynie
URL:https://www.springcreekoaks.org/reservations/10u-baseball-practice-chad-haynie/2022-03-23/
LOCATION:TX
CATEGORIES:Baseball Fields
END:VEVENT
BEGIN:VEVENT
DTSTART;TZID=America/Chicago:20220323T170000
DTEND;TZID=America/Chicago:20220323T190000
DTSTAMP:20260425T061507
CREATED:20220216T191511Z
LAST-MODIFIED:20220216T191511Z
UID:10004481-1648054800-1648062000@www.springcreekoaks.org
SUMMARY:6U Ponies Softball Practice - Field 4
DESCRIPTION:Field 4 \nReservation Contact: Abigail Crisman
URL:https://www.springcreekoaks.org/reservations/6u-ponies-softball-practice-field-4/2022-03-23/
LOCATION:TX
CATEGORIES:Baseball Fields
END:VEVENT
BEGIN:VEVENT
DTSTART;TZID=America/Chicago:20220323T180000
DTEND;TZID=America/Chicago:20220323T200000
DTSTAMP:20260425T061507
CREATED:20200805T160749Z
LAST-MODIFIED:20200805T161100Z
UID:10001375-1648058400-1648065600@www.springcreekoaks.org
SUMMARY:CIFUENTES (Big Soccer Field)
DESCRIPTION:
URL:https://www.springcreekoaks.org/reservations/cifuentes-open-play-big-soccer-field/2022-03-23/
LOCATION:TX
CATEGORIES:Soccer Fields
END:VEVENT
BEGIN:VEVENT
DTSTART;TZID=America/Chicago:20220324T083000
DTEND;TZID=America/Chicago:20220324T120000
DTSTAMP:20260425T061507
CREATED:20220125T032411Z
LAST-MODIFIED:20220125T032411Z
UID:10004249-1648110600-1648123200@www.springcreekoaks.org
SUMMARY:CH 2 courts 1-4\, NW Champ
DESCRIPTION:
URL:https://www.springcreekoaks.org/reservations/ch-2-courts-1-4-nw-champ-7/2022-03-24/
LOCATION:TX
CATEGORIES:Tennis
END:VEVENT
BEGIN:VEVENT
DTSTART;TZID=America/Chicago:20220324T083000
DTEND;TZID=America/Chicago:20220324T120000
DTSTAMP:20260425T061507
CREATED:20220125T032722Z
LAST-MODIFIED:20220125T032722Z
UID:10004256-1648110600-1648123200@www.springcreekoaks.org
SUMMARY:Kuehnle courts 1-4\, NW Bailey
DESCRIPTION:
URL:https://www.springcreekoaks.org/reservations/kuehnle-courts-1-4-nw-bailey-2/2022-03-24/
LOCATION:TX
CATEGORIES:Tennis
END:VEVENT
BEGIN:VEVENT
DTSTART;TZID=America/Chicago:20220324T083000
DTEND;TZID=America/Chicago:20220324T120000
DTSTAMP:20260425T061507
CREATED:20220305T003512Z
LAST-MODIFIED:20220305T003512Z
UID:10000450-1648110600-1648123200@www.springcreekoaks.org
SUMMARY:CH 2 courts 5-6\, JR open 2 rain makeup
DESCRIPTION:
URL:https://www.springcreekoaks.org/reservations/ch-2-courts-5-6-jr-open-2-rain-makeup/
LOCATION:TX
CATEGORIES:Tennis
END:VEVENT
BEGIN:VEVENT
DTSTART;TZID=America/Chicago:20220324T090000
DTEND;TZID=America/Chicago:20220324T120000
DTSTAMP:20260425T061507
CREATED:20220203T004901Z
LAST-MODIFIED:20220203T004901Z
UID:10004448-1648112400-1648123200@www.springcreekoaks.org
SUMMARY:CH 1 court 1\, Tennis pro Danny
DESCRIPTION:
URL:https://www.springcreekoaks.org/reservations/ch-1-court-1-tennis-pro-danny-5/2022-03-24/
LOCATION:TX
CATEGORIES:Tennis
END:VEVENT
BEGIN:VEVENT
DTSTART;TZID=America/Chicago:20220324T130000
DTEND;TZID=America/Chicago:20220324T190000
DTSTAMP:20260425T061507
CREATED:20220321T192329Z
LAST-MODIFIED:20220321T192329Z
UID:10000401-1648126800-1648148400@www.springcreekoaks.org
SUMMARY:Ch 1 courts closed due to repair work
DESCRIPTION:
URL:https://www.springcreekoaks.org/reservations/ch-1-courts-closed-due-to-repair-work/2022-03-24/
LOCATION:TX
CATEGORIES:Tennis
END:VEVENT
BEGIN:VEVENT
DTSTART;TZID=America/Chicago:20220325T080000
DTEND;TZID=America/Chicago:20220325T093000
DTSTAMP:20260425T061507
CREATED:20220131T205022Z
LAST-MODIFIED:20220131T205022Z
UID:10004376-1648195200-1648200600@www.springcreekoaks.org
SUMMARY:CH 2 court 6\, Mason
DESCRIPTION:
URL:https://www.springcreekoaks.org/reservations/ch-2-court-6-mason-14/2022-03-25/
LOCATION:TX
CATEGORIES:Tennis
END:VEVENT
BEGIN:VEVENT
DTSTART;TZID=America/Chicago:20220325T083000
DTEND;TZID=America/Chicago:20220325T120000
DTSTAMP:20260425T061507
CREATED:20220124T121859Z
LAST-MODIFIED:20220124T121859Z
UID:10004198-1648197000-1648209600@www.springcreekoaks.org
SUMMARY:CH 2 courts 1-4\, JR B-3
DESCRIPTION:
URL:https://www.springcreekoaks.org/reservations/ch-2-courts-1-4-jr-b-3-2/2022-03-25/
LOCATION:TX
CATEGORIES:Tennis
END:VEVENT
BEGIN:VEVENT
DTSTART;TZID=America/Chicago:20220325T100000
DTEND;TZID=America/Chicago:20220325T120000
DTSTAMP:20260425T061507
CREATED:20220203T005028Z
LAST-MODIFIED:20220203T005028Z
UID:10004465-1648202400-1648209600@www.springcreekoaks.org
SUMMARY:CH 1 court 1\, Tennis pro Danny
DESCRIPTION:
URL:https://www.springcreekoaks.org/reservations/ch-1-court-1-tennis-pro-danny-6/2022-03-25/
LOCATION:TX
CATEGORIES:Tennis
END:VEVENT
BEGIN:VEVENT
DTSTART;TZID=America/Chicago:20220325T130000
DTEND;TZID=America/Chicago:20220325T190000
DTSTAMP:20260425T061507
CREATED:20220321T192329Z
LAST-MODIFIED:20220321T192329Z
UID:10000402-1648213200-1648234800@www.springcreekoaks.org
SUMMARY:Ch 1 courts closed due to repair work
DESCRIPTION:
URL:https://www.springcreekoaks.org/reservations/ch-1-courts-closed-due-to-repair-work/2022-03-25/
LOCATION:TX
CATEGORIES:Tennis
END:VEVENT
BEGIN:VEVENT
DTSTART;TZID=America/Chicago:20220325T170000
DTEND;TZID=America/Chicago:20220325T190000
DTSTAMP:20260425T061507
CREATED:20220125T162843Z
LAST-MODIFIED:20220125T162843Z
UID:10004276-1648227600-1648234800@www.springcreekoaks.org
SUMMARY:14U Farm League Jaguars Practice - Field 3
DESCRIPTION:14U Farm League Jaguars Practice – Field 3
URL:https://www.springcreekoaks.org/reservations/14u-farm-league-jaguars-practice-field-3/2022-03-25/
LOCATION:TX
CATEGORIES:Baseball Fields
END:VEVENT
BEGIN:VEVENT
DTSTART;TZID=America/Chicago:20220325T170000
DTEND;TZID=America/Chicago:20220401T170000
DTSTAMP:20260425T061507
CREATED:20220324T212311Z
LAST-MODIFIED:20220328T190610Z
UID:10000779-1648227600-1648832400@www.springcreekoaks.org
SUMMARY:CH 1 court 1 closed due to net post repair
DESCRIPTION:
URL:https://www.springcreekoaks.org/reservations/ch-1-court-1-closed-due-to-net-post-repair/
LOCATION:TX
CATEGORIES:Tennis
END:VEVENT
BEGIN:VEVENT
DTSTART;TZID=America/Chicago:20220326T100000
DTEND;TZID=America/Chicago:20220326T120000
DTSTAMP:20260425T061507
CREATED:20220216T150652Z
LAST-MODIFIED:20220216T152538Z
UID:10000739-1648288800-1648296000@www.springcreekoaks.org
SUMMARY:18U Shock - Baseball Practice - Fields 1 & 4
DESCRIPTION:Reservation Contact: Mike McDowell
URL:https://www.springcreekoaks.org/reservations/high-school-baseball-practice-fields-1-4/2022-03-26/
LOCATION:TX
CATEGORIES:Baseball Fields
END:VEVENT
BEGIN:VEVENT
DTSTART;TZID=America/Chicago:20220327T130000
DTEND;TZID=America/Chicago:20220327T170000
DTSTAMP:20260425T061507
CREATED:20220321T233018Z
LAST-MODIFIED:20220321T233018Z
UID:10000300-1648386000-1648400400@www.springcreekoaks.org
SUMMARY:NCL wildflowers CH2
DESCRIPTION:
URL:https://www.springcreekoaks.org/reservations/ncl-wildflowers-ch2-2/
LOCATION:Clubhouse 2\, 6002 Bur Oak Dr\, Spring\, 77379\, United States
CATEGORIES:Clubhouses
GEO:30.037539;-95.5070911
X-APPLE-STRUCTURED-LOCATION;VALUE=URI;X-ADDRESS=Clubhouse 2 6002 Bur Oak Dr Spring 77379 United States;X-APPLE-RADIUS=500;X-TITLE=6002 Bur Oak Dr:geo:-95.5070911,30.037539
END:VEVENT
BEGIN:VEVENT
DTSTART;TZID=America/Chicago:20220328T080000
DTEND;TZID=America/Chicago:20220328T120000
DTSTAMP:20260425T061507
CREATED:20220203T004438Z
LAST-MODIFIED:20220203T004438Z
UID:10004230-1648454400-1648468800@www.springcreekoaks.org
SUMMARY:Kuehnle courts 3-4\, Tennis pro Danny
DESCRIPTION:
URL:https://www.springcreekoaks.org/reservations/kuehnle-courts-3-4-tennis-pro-danny-6/2022-03-28/
LOCATION:TX
CATEGORIES:Tennis
END:VEVENT
BEGIN:VEVENT
DTSTART;TZID=America/Chicago:20220328T080000
DTEND;TZID=America/Chicago:20220329T190000
DTSTAMP:20260425T061507
CREATED:20220324T212809Z
LAST-MODIFIED:20220324T212809Z
UID:10000216-1648454400-1648580400@www.springcreekoaks.org
SUMMARY:Kuehnle courts 1-4 closed due to work on lights
DESCRIPTION:
URL:https://www.springcreekoaks.org/reservations/kuehnle-courts-1-4-closed-due-to-work-on-lights/
LOCATION:TX
CATEGORIES:Tennis
END:VEVENT
BEGIN:VEVENT
DTSTART;TZID=America/Chicago:20220328T170000
DTEND;TZID=America/Chicago:20220328T190000
DTSTAMP:20260425T061507
CREATED:20220125T162843Z
LAST-MODIFIED:20220125T162843Z
UID:10004277-1648486800-1648494000@www.springcreekoaks.org
SUMMARY:14U Farm League Jaguars Practice - Field 3
DESCRIPTION:14U Farm League Jaguars Practice – Field 3
URL:https://www.springcreekoaks.org/reservations/14u-farm-league-jaguars-practice-field-3/2022-03-28/
LOCATION:TX
CATEGORIES:Baseball Fields
END:VEVENT
BEGIN:VEVENT
DTSTART;TZID=America/Chicago:20220328T180000
DTEND;TZID=America/Chicago:20220328T210000
DTSTAMP:20260425T061507
CREATED:20210916T194347Z
LAST-MODIFIED:20210916T194347Z
UID:10003981-1648490400-1648501200@www.springcreekoaks.org
SUMMARY:Leavins NCL CH2
DESCRIPTION:
URL:https://www.springcreekoaks.org/reservations/leavins-ncl-ch2-3/
LOCATION:Clubhouse 2\, 6002 Bur Oak Dr\, Spring\, 77379\, United States
CATEGORIES:Clubhouses
GEO:30.037539;-95.5070911
X-APPLE-STRUCTURED-LOCATION;VALUE=URI;X-ADDRESS=Clubhouse 2 6002 Bur Oak Dr Spring 77379 United States;X-APPLE-RADIUS=500;X-TITLE=6002 Bur Oak Dr:geo:-95.5070911,30.037539
END:VEVENT
END:VCALENDAR