BEGIN:VCALENDAR
VERSION:2.0
PRODID:-//Spring Creek Oaks - ECPv6.15.20//NONSGML v1.0//EN
CALSCALE:GREGORIAN
METHOD:PUBLISH
X-WR-CALNAME:Spring Creek Oaks
X-ORIGINAL-URL:https://www.springcreekoaks.org
X-WR-CALDESC:Events for Spring Creek Oaks
REFRESH-INTERVAL;VALUE=DURATION:PT1H
X-Robots-Tag:noindex
X-PUBLISHED-TTL:PT1H
BEGIN:VTIMEZONE
TZID:America/Chicago
BEGIN:DAYLIGHT
TZOFFSETFROM:-0600
TZOFFSETTO:-0500
TZNAME:CDT
DTSTART:20210314T080000
END:DAYLIGHT
BEGIN:STANDARD
TZOFFSETFROM:-0500
TZOFFSETTO:-0600
TZNAME:CST
DTSTART:20211107T070000
END:STANDARD
BEGIN:DAYLIGHT
TZOFFSETFROM:-0600
TZOFFSETTO:-0500
TZNAME:CDT
DTSTART:20220313T080000
END:DAYLIGHT
BEGIN:STANDARD
TZOFFSETFROM:-0500
TZOFFSETTO:-0600
TZNAME:CST
DTSTART:20221106T070000
END:STANDARD
BEGIN:DAYLIGHT
TZOFFSETFROM:-0600
TZOFFSETTO:-0500
TZNAME:CDT
DTSTART:20230312T080000
END:DAYLIGHT
BEGIN:STANDARD
TZOFFSETFROM:-0500
TZOFFSETTO:-0600
TZNAME:CST
DTSTART:20231105T070000
END:STANDARD
END:VTIMEZONE
BEGIN:VEVENT
DTSTART;TZID=America/Chicago:20220221T080000
DTEND;TZID=America/Chicago:20220221T120000
DTSTAMP:20260423T053534
CREATED:20220203T004438Z
LAST-MODIFIED:20220203T004438Z
UID:10004225-1645430400-1645444800@www.springcreekoaks.org
SUMMARY:Kuehnle courts 3-4\, Tennis pro Danny
DESCRIPTION:
URL:https://www.springcreekoaks.org/reservations/kuehnle-courts-3-4-tennis-pro-danny-6/2022-02-21/
CATEGORIES:Tennis
END:VEVENT
BEGIN:VEVENT
DTSTART;TZID=America/Chicago:20220221T090000
DTEND;TZID=America/Chicago:20220221T120000
DTSTAMP:20260423T053534
CREATED:20220216T235741Z
LAST-MODIFIED:20220216T235741Z
UID:10004221-1645434000-1645444800@www.springcreekoaks.org
SUMMARY:CH 2 court 1\, Hudson
DESCRIPTION:
URL:https://www.springcreekoaks.org/reservations/ch-2-court-1-hudson/
CATEGORIES:Tennis
END:VEVENT
BEGIN:VEVENT
DTSTART;TZID=America/Chicago:20220221T170000
DTEND;TZID=America/Chicago:20220221T190000
DTSTAMP:20260423T053534
CREATED:20220125T162843Z
LAST-MODIFIED:20220125T162843Z
UID:10004267-1645462800-1645470000@www.springcreekoaks.org
SUMMARY:14U Farm League Jaguars Practice - Field 3
DESCRIPTION:14U Farm League Jaguars Practice – Field 3
URL:https://www.springcreekoaks.org/reservations/14u-farm-league-jaguars-practice-field-3/2022-02-21/
CATEGORIES:Baseball Fields
END:VEVENT
BEGIN:VEVENT
DTSTART;TZID=America/Chicago:20220222T080000
DTEND;TZID=America/Chicago:20220222T093000
DTSTAMP:20260423T053534
CREATED:20220131T204916Z
LAST-MODIFIED:20220131T204916Z
UID:10000017-1645516800-1645522200@www.springcreekoaks.org
SUMMARY:CH 2 court 6\, Mason
DESCRIPTION:
URL:https://www.springcreekoaks.org/reservations/ch-2-court-6-mason-13/2022-02-22/
CATEGORIES:Tennis
END:VEVENT
BEGIN:VEVENT
DTSTART;TZID=America/Chicago:20220222T080000
DTEND;TZID=America/Chicago:20220222T120000
DTSTAMP:20260423T053534
CREATED:20220203T004639Z
LAST-MODIFIED:20220222T025334Z
UID:10004424-1645516800-1645531200@www.springcreekoaks.org
SUMMARY:Kuehnle courts 3-4\, Tennis Pro Danny
DESCRIPTION:
URL:https://www.springcreekoaks.org/reservations/ch-1-court-1-tennis-pro-danny-4-2022-02-22/
CATEGORIES:Tennis
END:VEVENT
BEGIN:VEVENT
DTSTART;TZID=America/Chicago:20220222T083000
DTEND;TZID=America/Chicago:20220222T120000
DTSTAMP:20260423T053534
CREATED:20220218T205932Z
LAST-MODIFIED:20220218T205932Z
UID:10000772-1645518600-1645531200@www.springcreekoaks.org
SUMMARY:Kuehnle courts 1-2\, NW Bailey rain makeup
DESCRIPTION:
URL:https://www.springcreekoaks.org/reservations/kuehnle-courts-1-2-nw-bailey-rain-makeup/2022-02-22/
CATEGORIES:Tennis
END:VEVENT
BEGIN:VEVENT
DTSTART;TZID=America/Chicago:20220222T090000
DTEND;TZID=America/Chicago:20220222T120000
DTSTAMP:20260423T053534
CREATED:20220217T005945Z
LAST-MODIFIED:20220217T015408Z
UID:10004220-1645520400-1645531200@www.springcreekoaks.org
SUMMARY:CH 2 courts 1-2\, NW A2 rain makeup
DESCRIPTION:
URL:https://www.springcreekoaks.org/reservations/ch-2-court-1-nw-a2-rain-makeup/
CATEGORIES:Tennis
END:VEVENT
BEGIN:VEVENT
DTSTART;TZID=America/Chicago:20220223T080000
DTEND;TZID=America/Chicago:20220223T100000
DTSTAMP:20260423T053534
CREATED:20220203T004757Z
LAST-MODIFIED:20220203T004757Z
UID:10004427-1645603200-1645610400@www.springcreekoaks.org
SUMMARY:Kuehnle courts 3-4\, Tennis pro Danny
DESCRIPTION:
URL:https://www.springcreekoaks.org/reservations/kuehnle-courts-3-4-tennis-pro-danny-7/2022-02-23/
CATEGORIES:Tennis
END:VEVENT
BEGIN:VEVENT
DTSTART;TZID=America/Chicago:20220223T090000
DTEND;TZID=America/Chicago:20220223T120000
DTSTAMP:20260423T053534
CREATED:20220131T210803Z
LAST-MODIFIED:20220131T210803Z
UID:10004394-1645606800-1645617600@www.springcreekoaks.org
SUMMARY:CH 1 courts 2-3 (pickleball)\, Hudson
DESCRIPTION:
URL:https://www.springcreekoaks.org/reservations/ch-1-courts-2-3-pickleball-hudson-2/2022-02-23/
CATEGORIES:Tennis
END:VEVENT
BEGIN:VEVENT
DTSTART;TZID=America/Chicago:20220223T170000
DTEND;TZID=America/Chicago:20220223T190000
DTSTAMP:20260423T053534
CREATED:20220124T162052Z
LAST-MODIFIED:20220221T184741Z
UID:10004206-1645635600-1645642800@www.springcreekoaks.org
SUMMARY:10U Tigers Baseball Practice - Field 1
DESCRIPTION:10U Baseball Practice – Field 1 \nChad Haynie
URL:https://www.springcreekoaks.org/reservations/10u-baseball-practice-chad-haynie/2022-02-23/
CATEGORIES:Baseball Fields
END:VEVENT
BEGIN:VEVENT
DTSTART;TZID=America/Chicago:20220223T170000
DTEND;TZID=America/Chicago:20220223T190000
DTSTAMP:20260423T053534
CREATED:20220216T191511Z
LAST-MODIFIED:20220216T191511Z
UID:10004477-1645635600-1645642800@www.springcreekoaks.org
SUMMARY:6U Ponies Softball Practice - Field 4
DESCRIPTION:Field 4 \nReservation Contact: Abigail Crisman
URL:https://www.springcreekoaks.org/reservations/6u-ponies-softball-practice-field-4/2022-02-23/
CATEGORIES:Baseball Fields
END:VEVENT
BEGIN:VEVENT
DTSTART;TZID=America/Chicago:20220223T180000
DTEND;TZID=America/Chicago:20220223T200000
DTSTAMP:20260423T053534
CREATED:20200805T160749Z
LAST-MODIFIED:20200805T161100Z
UID:10001371-1645639200-1645646400@www.springcreekoaks.org
SUMMARY:CIFUENTES (Big Soccer Field)
DESCRIPTION:
URL:https://www.springcreekoaks.org/reservations/cifuentes-open-play-big-soccer-field/2022-02-23/
CATEGORIES:Soccer Fields
END:VEVENT
BEGIN:VEVENT
DTSTART;TZID=America/Chicago:20220224T083000
DTEND;TZID=America/Chicago:20220224T120000
DTSTAMP:20260423T053534
CREATED:20220125T032411Z
LAST-MODIFIED:20220125T032411Z
UID:10004247-1645691400-1645704000@www.springcreekoaks.org
SUMMARY:CH 2 courts 1-4\, NW Champ
DESCRIPTION:
URL:https://www.springcreekoaks.org/reservations/ch-2-courts-1-4-nw-champ-7/2022-02-24/
CATEGORIES:Tennis
END:VEVENT
BEGIN:VEVENT
DTSTART;TZID=America/Chicago:20220224T090000
DTEND;TZID=America/Chicago:20220224T120000
DTSTAMP:20260423T053534
CREATED:20220203T004901Z
LAST-MODIFIED:20220203T004901Z
UID:10004444-1645693200-1645704000@www.springcreekoaks.org
SUMMARY:CH 1 court 1\, Tennis pro Danny
DESCRIPTION:
URL:https://www.springcreekoaks.org/reservations/ch-1-court-1-tennis-pro-danny-5/2022-02-24/
CATEGORIES:Tennis
END:VEVENT
BEGIN:VEVENT
DTSTART;TZID=America/Chicago:20220225T080000
DTEND;TZID=America/Chicago:20220225T093000
DTSTAMP:20260423T053534
CREATED:20220131T205022Z
LAST-MODIFIED:20220131T205022Z
UID:10004372-1645776000-1645781400@www.springcreekoaks.org
SUMMARY:CH 2 court 6\, Mason
DESCRIPTION:
URL:https://www.springcreekoaks.org/reservations/ch-2-court-6-mason-14/2022-02-25/
CATEGORIES:Tennis
END:VEVENT
BEGIN:VEVENT
DTSTART;TZID=America/Chicago:20220225T083000
DTEND;TZID=America/Chicago:20220225T120000
DTSTAMP:20260423T053534
CREATED:20220124T122208Z
LAST-MODIFIED:20220124T122208Z
UID:10004202-1645777800-1645790400@www.springcreekoaks.org
SUMMARY:CH 2 courts 1-4\, JR Open 2
DESCRIPTION:
URL:https://www.springcreekoaks.org/reservations/ch-2-courts-1-4-jr-open-2-4/2022-02-25/
CATEGORIES:Tennis
END:VEVENT
BEGIN:VEVENT
DTSTART;TZID=America/Chicago:20220225T100000
DTEND;TZID=America/Chicago:20220225T120000
DTSTAMP:20260423T053534
CREATED:20220203T005028Z
LAST-MODIFIED:20220203T005028Z
UID:10004461-1645783200-1645790400@www.springcreekoaks.org
SUMMARY:CH 1 court 1\, Tennis pro Danny
DESCRIPTION:
URL:https://www.springcreekoaks.org/reservations/ch-1-court-1-tennis-pro-danny-6/2022-02-25/
CATEGORIES:Tennis
END:VEVENT
BEGIN:VEVENT
DTSTART;TZID=America/Chicago:20220225T170000
DTEND;TZID=America/Chicago:20220225T190000
DTSTAMP:20260423T053534
CREATED:20220125T162843Z
LAST-MODIFIED:20220125T162843Z
UID:10004268-1645808400-1645815600@www.springcreekoaks.org
SUMMARY:14U Farm League Jaguars Practice - Field 3
DESCRIPTION:14U Farm League Jaguars Practice – Field 3
URL:https://www.springcreekoaks.org/reservations/14u-farm-league-jaguars-practice-field-3/2022-02-25/
CATEGORIES:Baseball Fields
END:VEVENT
BEGIN:VEVENT
DTSTART;VALUE=DATE:20220226
DTEND;VALUE=DATE:20220227
DTSTAMP:20260423T053534
CREATED:20220209T034009Z
LAST-MODIFIED:20220209T034009Z
UID:10000733-1645833600-1645919999@www.springcreekoaks.org
SUMMARY:Folk CH2
DESCRIPTION:
URL:https://www.springcreekoaks.org/reservations/folk-ch2/
LOCATION:Clubhouse 2\, 6002 Bur Oak Dr\, Spring\, 77379\, United States
CATEGORIES:Clubhouses
GEO:30.037539;-95.5070911
X-APPLE-STRUCTURED-LOCATION;VALUE=URI;X-ADDRESS=Clubhouse 2 6002 Bur Oak Dr Spring 77379 United States;X-APPLE-RADIUS=500;X-TITLE=6002 Bur Oak Dr:geo:-95.5070911,30.037539
END:VEVENT
BEGIN:VEVENT
DTSTART;TZID=America/Chicago:20220226T100000
DTEND;TZID=America/Chicago:20220226T120000
DTSTAMP:20260423T053534
CREATED:20220216T150652Z
LAST-MODIFIED:20220216T152538Z
UID:10000735-1645869600-1645876800@www.springcreekoaks.org
SUMMARY:18U Shock - Baseball Practice - Fields 1 & 4
DESCRIPTION:Reservation Contact: Mike McDowell
URL:https://www.springcreekoaks.org/reservations/high-school-baseball-practice-fields-1-4/2022-02-26/
CATEGORIES:Baseball Fields
END:VEVENT
BEGIN:VEVENT
DTSTART;VALUE=DATE:20220227
DTEND;VALUE=DATE:20220228
DTSTAMP:20260423T053534
CREATED:20220125T211839Z
LAST-MODIFIED:20220125T211839Z
UID:10004297-1645920000-1646006399@www.springcreekoaks.org
SUMMARY:Gulf coast Blood Drive CH2
DESCRIPTION:
URL:https://www.springcreekoaks.org/reservations/gulf-coast-blood-drive-ch2-4/
LOCATION:Clubhouse 2\, 6002 Bur Oak Dr\, Spring\, 77379\, United States
CATEGORIES:Clubhouses
GEO:30.037539;-95.5070911
X-APPLE-STRUCTURED-LOCATION;VALUE=URI;X-ADDRESS=Clubhouse 2 6002 Bur Oak Dr Spring 77379 United States;X-APPLE-RADIUS=500;X-TITLE=6002 Bur Oak Dr:geo:-95.5070911,30.037539
END:VEVENT
BEGIN:VEVENT
DTSTART;TZID=America/Chicago:20220228T080000
DTEND;TZID=America/Chicago:20220228T120000
DTSTAMP:20260423T053534
CREATED:20220203T004438Z
LAST-MODIFIED:20220203T004438Z
UID:10004226-1646035200-1646049600@www.springcreekoaks.org
SUMMARY:Kuehnle courts 3-4\, Tennis pro Danny
DESCRIPTION:
URL:https://www.springcreekoaks.org/reservations/kuehnle-courts-3-4-tennis-pro-danny-6/2022-02-28/
CATEGORIES:Tennis
END:VEVENT
BEGIN:VEVENT
DTSTART;TZID=America/Chicago:20220228T090000
DTEND;TZID=America/Chicago:20220228T090000
DTSTAMP:20260423T053534
CREATED:20220217T235351Z
LAST-MODIFIED:20220217T235351Z
UID:10000258-1646038800-1646038800@www.springcreekoaks.org
SUMMARY:Ch 2 court 1\, Camp rain makeup
DESCRIPTION:
URL:https://www.springcreekoaks.org/reservations/ch-2-court-1-camp-rain-makeup/
CATEGORIES:Tennis
END:VEVENT
BEGIN:VEVENT
DTSTART;TZID=America/Chicago:20220228T170000
DTEND;TZID=America/Chicago:20220228T190000
DTSTAMP:20260423T053534
CREATED:20220125T162843Z
LAST-MODIFIED:20220125T162843Z
UID:10004269-1646067600-1646074800@www.springcreekoaks.org
SUMMARY:14U Farm League Jaguars Practice - Field 3
DESCRIPTION:14U Farm League Jaguars Practice – Field 3
URL:https://www.springcreekoaks.org/reservations/14u-farm-league-jaguars-practice-field-3/2022-02-28/
CATEGORIES:Baseball Fields
END:VEVENT
BEGIN:VEVENT
DTSTART;TZID=America/Chicago:20220301T080000
DTEND;TZID=America/Chicago:20220301T093000
DTSTAMP:20260423T053534
CREATED:20220131T204916Z
LAST-MODIFIED:20220131T204916Z
UID:10000018-1646121600-1646127000@www.springcreekoaks.org
SUMMARY:CH 2 court 6\, Mason
DESCRIPTION:
URL:https://www.springcreekoaks.org/reservations/ch-2-court-6-mason-13/2022-03-01/
CATEGORIES:Tennis
END:VEVENT
BEGIN:VEVENT
DTSTART;TZID=America/Chicago:20220301T080000
DTEND;TZID=America/Chicago:20220301T120000
DTSTAMP:20260423T053534
CREATED:20220203T004639Z
LAST-MODIFIED:20220203T004639Z
UID:10004410-1646121600-1646136000@www.springcreekoaks.org
SUMMARY:CH 1 court 1\, Tennis Pro Danny
DESCRIPTION:
URL:https://www.springcreekoaks.org/reservations/ch-1-court-1-tennis-pro-danny-4/2022-03-01/
CATEGORIES:Tennis
END:VEVENT
BEGIN:VEVENT
DTSTART;TZID=America/Chicago:20220301T083000
DTEND;TZID=America/Chicago:20220301T120000
DTSTAMP:20260423T053534
CREATED:20220218T205932Z
LAST-MODIFIED:20220218T205932Z
UID:10000773-1646123400-1646136000@www.springcreekoaks.org
SUMMARY:Kuehnle courts 1-2\, NW Bailey rain makeup
DESCRIPTION:
URL:https://www.springcreekoaks.org/reservations/kuehnle-courts-1-2-nw-bailey-rain-makeup/2022-03-01/
CATEGORIES:Tennis
END:VEVENT
BEGIN:VEVENT
DTSTART;TZID=America/Chicago:20220301T190000
DTEND;TZID=America/Chicago:20220301T220000
DTSTAMP:20260423T053534
CREATED:20220309T124834Z
LAST-MODIFIED:20220309T124834Z
UID:10000304-1646161200-1646172000@www.springcreekoaks.org
SUMMARY:CH 2 courts 1-6\, Men’s league Bausch
DESCRIPTION:
URL:https://www.springcreekoaks.org/reservations/ch-2-courts-1-6-mens-league-bausch-2/2022-03-01/
CATEGORIES:Tennis
END:VEVENT
BEGIN:VEVENT
DTSTART;TZID=America/Chicago:20220301T190000
DTEND;TZID=America/Chicago:20220301T230000
DTSTAMP:20260423T053534
CREATED:20220228T022753Z
LAST-MODIFIED:20220228T022753Z
UID:10000457-1646161200-1646175600@www.springcreekoaks.org
SUMMARY:CH 2 courts 1-6\, men’s league Bausch
DESCRIPTION:
URL:https://www.springcreekoaks.org/reservations/ch-2-courts-1-6-mens-league-bausch/2022-03-01/
CATEGORIES:Tennis
END:VEVENT
BEGIN:VEVENT
DTSTART;TZID=America/Chicago:20220302T080000
DTEND;TZID=America/Chicago:20220302T100000
DTSTAMP:20260423T053534
CREATED:20220203T004757Z
LAST-MODIFIED:20220203T004757Z
UID:10004428-1646208000-1646215200@www.springcreekoaks.org
SUMMARY:Kuehnle courts 3-4\, Tennis pro Danny
DESCRIPTION:
URL:https://www.springcreekoaks.org/reservations/kuehnle-courts-3-4-tennis-pro-danny-7/2022-03-02/
CATEGORIES:Tennis
END:VEVENT
END:VCALENDAR