BEGIN:VCALENDAR
VERSION:2.0
PRODID:-//Spring Creek Oaks - ECPv6.15.20//NONSGML v1.0//EN
CALSCALE:GREGORIAN
METHOD:PUBLISH
X-WR-CALNAME:Spring Creek Oaks
X-ORIGINAL-URL:https://www.springcreekoaks.org
X-WR-CALDESC:Events for Spring Creek Oaks
REFRESH-INTERVAL;VALUE=DURATION:PT1H
X-Robots-Tag:noindex
X-PUBLISHED-TTL:PT1H
BEGIN:VTIMEZONE
TZID:America/Chicago
BEGIN:DAYLIGHT
TZOFFSETFROM:-0600
TZOFFSETTO:-0500
TZNAME:CDT
DTSTART:20200308T080000
END:DAYLIGHT
BEGIN:STANDARD
TZOFFSETFROM:-0500
TZOFFSETTO:-0600
TZNAME:CST
DTSTART:20201101T070000
END:STANDARD
BEGIN:DAYLIGHT
TZOFFSETFROM:-0600
TZOFFSETTO:-0500
TZNAME:CDT
DTSTART:20210314T080000
END:DAYLIGHT
BEGIN:STANDARD
TZOFFSETFROM:-0500
TZOFFSETTO:-0600
TZNAME:CST
DTSTART:20211107T070000
END:STANDARD
BEGIN:DAYLIGHT
TZOFFSETFROM:-0600
TZOFFSETTO:-0500
TZNAME:CDT
DTSTART:20220313T080000
END:DAYLIGHT
BEGIN:STANDARD
TZOFFSETFROM:-0500
TZOFFSETTO:-0600
TZNAME:CST
DTSTART:20221106T070000
END:STANDARD
END:VTIMEZONE
BEGIN:VEVENT
DTSTART;TZID=America/Chicago:20210910T080000
DTEND;TZID=America/Chicago:20210910T090000
DTSTAMP:20260422T173514
CREATED:20210811T141409Z
LAST-MODIFIED:20210811T141409Z
UID:10003599-1631260800-1631264400@www.springcreekoaks.org
SUMMARY:CH 2 court 6\, Mason
DESCRIPTION:
URL:https://www.springcreekoaks.org/reservations/ch-2-court-6-mason-10/2021-09-10/
CATEGORIES:Tennis
END:VEVENT
BEGIN:VEVENT
DTSTART;TZID=America/Chicago:20210910T083000
DTEND;TZID=America/Chicago:20210910T120000
DTSTAMP:20260422T173514
CREATED:20210818T183145Z
LAST-MODIFIED:20210818T183145Z
UID:10003740-1631262600-1631275200@www.springcreekoaks.org
SUMMARY:Kuehnle courts 1-4\, JR Open 2
DESCRIPTION:
URL:https://www.springcreekoaks.org/reservations/kuehnle-courts-1-4-jr-open-2-2/
CATEGORIES:Tennis
END:VEVENT
BEGIN:VEVENT
DTSTART;TZID=America/Chicago:20210910T083000
DTEND;TZID=America/Chicago:20210910T120000
DTSTAMP:20260422T173514
CREATED:20210818T183307Z
LAST-MODIFIED:20210818T183307Z
UID:10003741-1631262600-1631275200@www.springcreekoaks.org
SUMMARY:CH 2 courts 1-4\, JR A-2
DESCRIPTION:
URL:https://www.springcreekoaks.org/reservations/ch-2-courts-1-4-jr-a-2/2021-09-10/
CATEGORIES:Tennis
END:VEVENT
BEGIN:VEVENT
DTSTART;TZID=America/Chicago:20210911T080000
DTEND;TZID=America/Chicago:20210911T103000
DTSTAMP:20260422T173514
CREATED:20200805T161253Z
LAST-MODIFIED:20200805T161253Z
UID:10001107-1631347200-1631356200@www.springcreekoaks.org
SUMMARY:LLERENA (Big Soccer Field)
DESCRIPTION:
URL:https://www.springcreekoaks.org/reservations/llerena-big-soccer-field/2021-09-11/
CATEGORIES:Soccer Fields
END:VEVENT
BEGIN:VEVENT
DTSTART;TZID=America/Chicago:20210912T110000
DTEND;TZID=America/Chicago:20210912T130000
DTSTAMP:20260422T173514
CREATED:20210805T164830Z
LAST-MODIFIED:20210805T164830Z
UID:10003617-1631444400-1631451600@www.springcreekoaks.org
SUMMARY:NCL gown sale CH2
DESCRIPTION:
URL:https://www.springcreekoaks.org/reservations/ncl-gown-sale-ch2/
LOCATION:Clubhouse 2\, 6002 Bur Oak Dr\, Spring\, 77379\, United States
CATEGORIES:Clubhouses
GEO:30.037539;-95.5070911
X-APPLE-STRUCTURED-LOCATION;VALUE=URI;X-ADDRESS=Clubhouse 2 6002 Bur Oak Dr Spring 77379 United States;X-APPLE-RADIUS=500;X-TITLE=6002 Bur Oak Dr:geo:-95.5070911,30.037539
END:VEVENT
BEGIN:VEVENT
DTSTART;TZID=America/Chicago:20210913T083000
DTEND;TZID=America/Chicago:20210913T120000
DTSTAMP:20260422T173514
CREATED:20210815T195911Z
LAST-MODIFIED:20210815T195911Z
UID:10003717-1631521800-1631534400@www.springcreekoaks.org
SUMMARY:Kuehnle courts 1-4\, HLTA A3W
DESCRIPTION:
URL:https://www.springcreekoaks.org/reservations/kuehnle-courts-1-4-hlta-a3w/2021-09-13/
CATEGORIES:Tennis
END:VEVENT
BEGIN:VEVENT
DTSTART;TZID=America/Chicago:20210913T183000
DTEND;TZID=America/Chicago:20210913T193000
DTSTAMP:20260422T173514
CREATED:20210303T191235Z
LAST-MODIFIED:20210303T191235Z
UID:10003113-1631557800-1631561400@www.springcreekoaks.org
SUMMARY:HOA Meeting CH2
DESCRIPTION:
URL:https://www.springcreekoaks.org/reservations/hoa-meeting-ch2/2021-09-13/
LOCATION:Clubhouse 2\, 6002 Bur Oak Dr\, Spring\, 77379\, United States
CATEGORIES:Clubhouses
GEO:30.037539;-95.5070911
X-APPLE-STRUCTURED-LOCATION;VALUE=URI;X-ADDRESS=Clubhouse 2 6002 Bur Oak Dr Spring 77379 United States;X-APPLE-RADIUS=500;X-TITLE=6002 Bur Oak Dr:geo:-95.5070911,30.037539
END:VEVENT
BEGIN:VEVENT
DTSTART;TZID=America/Chicago:20210914T080000
DTEND;TZID=America/Chicago:20210914T090000
DTSTAMP:20260422T173514
CREATED:20210811T141524Z
LAST-MODIFIED:20210811T141524Z
UID:10003661-1631606400-1631610000@www.springcreekoaks.org
SUMMARY:CH 2 court 6\, Mason
DESCRIPTION:
URL:https://www.springcreekoaks.org/reservations/ch-2-court-6-mason-11/2021-09-14/
CATEGORIES:Tennis
END:VEVENT
BEGIN:VEVENT
DTSTART;TZID=America/Chicago:20210914T080000
DTEND;TZID=America/Chicago:20210914T120000
DTSTAMP:20260422T173514
CREATED:20210914T223604Z
LAST-MODIFIED:20210914T223604Z
UID:10003808-1631606400-1631620800@www.springcreekoaks.org
SUMMARY:CH 1 court 1\, Tennis Pro Danny
DESCRIPTION:
URL:https://www.springcreekoaks.org/reservations/ch-1-court-1-tennis-pro-danny/2021-09-14/
CATEGORIES:Tennis
END:VEVENT
BEGIN:VEVENT
DTSTART;TZID=America/Chicago:20210914T160000
DTEND;TZID=America/Chicago:20210914T190000
DTSTAMP:20260422T173514
CREATED:20210914T224140Z
LAST-MODIFIED:20210914T224140Z
UID:10003883-1631635200-1631646000@www.springcreekoaks.org
SUMMARY:CH 2 courts 1-3\, Tennis Pro Danny
DESCRIPTION:
URL:https://www.springcreekoaks.org/reservations/ch-2-courts-1-3-tennis-pro-danny/2021-09-14/
CATEGORIES:Tennis
END:VEVENT
BEGIN:VEVENT
DTSTART;TZID=America/Chicago:20210915T080000
DTEND;TZID=America/Chicago:20210915T120000
DTSTAMP:20260422T173514
CREATED:20210512T162316Z
LAST-MODIFIED:20210512T162316Z
UID:10003262-1631692800-1631707200@www.springcreekoaks.org
SUMMARY:CH 1 courts 2-3 (pickleball)\, Hudson
DESCRIPTION:
URL:https://www.springcreekoaks.org/reservations/ch-1-courts-2-3-pickleball-hudson/2021-09-15/
CATEGORIES:Tennis
END:VEVENT
BEGIN:VEVENT
DTSTART;TZID=America/Chicago:20210915T080000
DTEND;TZID=America/Chicago:20210915T120000
DTSTAMP:20260422T173514
CREATED:20210914T223912Z
LAST-MODIFIED:20210914T223912Z
UID:10003834-1631692800-1631707200@www.springcreekoaks.org
SUMMARY:CH 1 court 1\, Tennis Pro Danny
DESCRIPTION:
URL:https://www.springcreekoaks.org/reservations/ch-1-court-1-tennis-pro-danny-3/2021-09-15/
CATEGORIES:Tennis
END:VEVENT
BEGIN:VEVENT
DTSTART;TZID=America/Chicago:20210915T160000
DTEND;TZID=America/Chicago:20210915T190000
DTSTAMP:20260422T173514
CREATED:20240109T180921Z
LAST-MODIFIED:20240109T180921Z
UID:10003914-1631721600-1631732400@www.springcreekoaks.org
SUMMARY:CH 2 courts 1-3\, Tennis Pro Danny
DESCRIPTION:
URL:https://www.springcreekoaks.org/reservations/ch-2-courts-1-3-tennis-pro-danny/2021-09-15/
CATEGORIES:Tennis
END:VEVENT
BEGIN:VEVENT
DTSTART;TZID=America/Chicago:20210915T180000
DTEND;TZID=America/Chicago:20210915T200000
DTSTAMP:20260422T173514
CREATED:20200805T160749Z
LAST-MODIFIED:20200805T161100Z
UID:10001348-1631728800-1631736000@www.springcreekoaks.org
SUMMARY:CIFUENTES (Big Soccer Field)
DESCRIPTION:
URL:https://www.springcreekoaks.org/reservations/cifuentes-open-play-big-soccer-field/2021-09-15/
CATEGORIES:Soccer Fields
END:VEVENT
BEGIN:VEVENT
DTSTART;TZID=America/Chicago:20210915T180000
DTEND;TZID=America/Chicago:20210915T200000
DTSTAMP:20260422T173514
CREATED:20210824T133805Z
LAST-MODIFIED:20210824T133806Z
UID:10003768-1631728800-1631736000@www.springcreekoaks.org
SUMMARY:10U LIONS (Flag Football) Coach Stansifer
DESCRIPTION:
URL:https://www.springcreekoaks.org/reservations/10u-lions-flag-football-coach-stansifer-2/2021-09-15/
LOCATION:Small Soccer Field (CH 2)
CATEGORIES:Soccer Fields
END:VEVENT
BEGIN:VEVENT
DTSTART;TZID=America/Chicago:20210916T080000
DTEND;TZID=America/Chicago:20210916T120000
DTSTAMP:20260422T173514
CREATED:20240109T180915Z
LAST-MODIFIED:20240109T180915Z
UID:10003850-1631779200-1631793600@www.springcreekoaks.org
SUMMARY:CH 1 court 1\, Tennis Pro Danny
DESCRIPTION:
URL:https://www.springcreekoaks.org/reservations/ch-1-court-1-tennis-pro-danny-3/2021-09-16/
CATEGORIES:Tennis
END:VEVENT
BEGIN:VEVENT
DTSTART;TZID=America/Chicago:20210916T083000
DTEND;TZID=America/Chicago:20210916T120000
DTSTAMP:20260422T173514
CREATED:20210812T105514Z
LAST-MODIFIED:20210812T105514Z
UID:10003699-1631781000-1631793600@www.springcreekoaks.org
SUMMARY:CH 2 courts 1-4\, NWTL Junek
DESCRIPTION:
URL:https://www.springcreekoaks.org/reservations/ch-2-courts-1-4-nwtl-junek/2021-09-16/
CATEGORIES:Tennis
END:VEVENT
BEGIN:VEVENT
DTSTART;TZID=America/Chicago:20210916T160000
DTEND;TZID=America/Chicago:20210916T190000
DTSTAMP:20260422T173514
CREATED:20240109T180921Z
LAST-MODIFIED:20240109T180921Z
UID:10003930-1631808000-1631818800@www.springcreekoaks.org
SUMMARY:CH 2 courts 1-3\, Tennis Pro Danny
DESCRIPTION:
URL:https://www.springcreekoaks.org/reservations/ch-2-courts-1-3-tennis-pro-danny/2021-09-16/
CATEGORIES:Tennis
END:VEVENT
BEGIN:VEVENT
DTSTART;TZID=America/Chicago:20210917T080000
DTEND;TZID=America/Chicago:20210917T090000
DTSTAMP:20260422T173514
CREATED:20210811T141409Z
LAST-MODIFIED:20210811T141409Z
UID:10003600-1631865600-1631869200@www.springcreekoaks.org
SUMMARY:CH 2 court 6\, Mason
DESCRIPTION:
URL:https://www.springcreekoaks.org/reservations/ch-2-court-6-mason-10/2021-09-17/
CATEGORIES:Tennis
END:VEVENT
BEGIN:VEVENT
DTSTART;TZID=America/Chicago:20210917T080000
DTEND;TZID=America/Chicago:20210917T120000
DTSTAMP:20260422T173514
CREATED:20240109T180915Z
LAST-MODIFIED:20240109T180915Z
UID:10003866-1631865600-1631880000@www.springcreekoaks.org
SUMMARY:CH 1 court 1\, Tennis Pro Danny
DESCRIPTION:
URL:https://www.springcreekoaks.org/reservations/ch-1-court-1-tennis-pro-danny-3/2021-09-17/
CATEGORIES:Tennis
END:VEVENT
BEGIN:VEVENT
DTSTART;TZID=America/Chicago:20210917T083000
DTEND;TZID=America/Chicago:20210917T120000
DTSTAMP:20260422T173514
CREATED:20210818T183047Z
LAST-MODIFIED:20210818T183047Z
UID:10003736-1631867400-1631880000@www.springcreekoaks.org
SUMMARY:CH 2 courts 1-4\, JR Open 2
DESCRIPTION:
URL:https://www.springcreekoaks.org/reservations/ch-2-courts-1-4-jr-open-2-3/2021-09-17/
CATEGORIES:Tennis
END:VEVENT
BEGIN:VEVENT
DTSTART;TZID=America/Chicago:20210917T083000
DTEND;TZID=America/Chicago:20210917T120000
DTSTAMP:20260422T173514
CREATED:20210818T183710Z
LAST-MODIFIED:20210818T183710Z
UID:10003750-1631867400-1631880000@www.springcreekoaks.org
SUMMARY:Kuehnle courts 1-4\, JR B-3
DESCRIPTION:
URL:https://www.springcreekoaks.org/reservations/kuehnle-courts-1-4-jr-b-3/2021-09-17/
CATEGORIES:Tennis
END:VEVENT
BEGIN:VEVENT
DTSTART;TZID=America/Chicago:20210917T160000
DTEND;TZID=America/Chicago:20210917T190000
DTSTAMP:20260422T173514
CREATED:20240109T180922Z
LAST-MODIFIED:20240109T180922Z
UID:10003946-1631894400-1631905200@www.springcreekoaks.org
SUMMARY:CH 2 courts 1-3\, Tennis Pro Danny
DESCRIPTION:
URL:https://www.springcreekoaks.org/reservations/ch-2-courts-1-3-tennis-pro-danny/2021-09-17/
CATEGORIES:Tennis
END:VEVENT
BEGIN:VEVENT
DTSTART;TZID=America/Chicago:20210918T080000
DTEND;TZID=America/Chicago:20210918T103000
DTSTAMP:20260422T173514
CREATED:20200805T161253Z
LAST-MODIFIED:20200805T161253Z
UID:10001108-1631952000-1631961000@www.springcreekoaks.org
SUMMARY:LLERENA (Big Soccer Field)
DESCRIPTION:
URL:https://www.springcreekoaks.org/reservations/llerena-big-soccer-field/2021-09-18/
CATEGORIES:Soccer Fields
END:VEVENT
BEGIN:VEVENT
DTSTART;TZID=America/Chicago:20210918T083000
DTEND;TZID=America/Chicago:20210918T120000
DTSTAMP:20260422T173514
CREATED:20210914T171202Z
LAST-MODIFIED:20210914T171202Z
UID:10003806-1631953800-1631966400@www.springcreekoaks.org
SUMMARY:Kuehnle court 2\, HLTA A3W rain makeup
DESCRIPTION:
URL:https://www.springcreekoaks.org/reservations/kuehnle-court-2-hlta-a3w-rain-makeup/
CATEGORIES:Tennis
END:VEVENT
BEGIN:VEVENT
DTSTART;TZID=America/Chicago:20210919T080000
DTEND;TZID=America/Chicago:20210919T170000
DTSTAMP:20260422T173514
CREATED:20210820T194741Z
LAST-MODIFIED:20210820T194741Z
UID:10003756-1632038400-1632070800@www.springcreekoaks.org
SUMMARY:Gulf Coast Blood Drive CH2
DESCRIPTION:
URL:https://www.springcreekoaks.org/reservations/gulf-coast-blood-drive-ch2-3/
LOCATION:Clubhouse 2\, 6002 Bur Oak Dr\, Spring\, 77379\, United States
CATEGORIES:Clubhouses
GEO:30.037539;-95.5070911
X-APPLE-STRUCTURED-LOCATION;VALUE=URI;X-ADDRESS=Clubhouse 2 6002 Bur Oak Dr Spring 77379 United States;X-APPLE-RADIUS=500;X-TITLE=6002 Bur Oak Dr:geo:-95.5070911,30.037539
END:VEVENT
BEGIN:VEVENT
DTSTART;TZID=America/Chicago:20210920T080000
DTEND;TZID=America/Chicago:20210920T120000
DTSTAMP:20260422T173514
CREATED:20210914T223709Z
LAST-MODIFIED:20210914T223709Z
UID:10003822-1632124800-1632139200@www.springcreekoaks.org
SUMMARY:CH 1 court 1\, Tennis Pro Danny
DESCRIPTION:
URL:https://www.springcreekoaks.org/reservations/ch-1-court-1-tennis-pro-danny-2/2021-09-20/
CATEGORIES:Tennis
END:VEVENT
BEGIN:VEVENT
DTSTART;TZID=America/Chicago:20210920T083000
DTEND;TZID=America/Chicago:20210920T120000
DTSTAMP:20260422T173514
CREATED:20210812T110227Z
LAST-MODIFIED:20210812T110227Z
UID:10003703-1632126600-1632139200@www.springcreekoaks.org
SUMMARY:CH 2 courts 1-4\, Champ 2 North
DESCRIPTION:
URL:https://www.springcreekoaks.org/reservations/ch-2-courts-1-4-champ-2-north/2021-09-20/
CATEGORIES:Tennis
END:VEVENT
BEGIN:VEVENT
DTSTART;TZID=America/Chicago:20210920T160000
DTEND;TZID=America/Chicago:20210920T190000
DTSTAMP:20260422T173514
CREATED:20240109T180920Z
LAST-MODIFIED:20240109T180920Z
UID:10003899-1632153600-1632164400@www.springcreekoaks.org
SUMMARY:CH 2 courts 1-3\, Tennis Pro Danny
DESCRIPTION:
URL:https://www.springcreekoaks.org/reservations/ch-2-courts-1-3-tennis-pro-danny/2021-09-20/
CATEGORIES:Tennis
END:VEVENT
BEGIN:VEVENT
DTSTART;TZID=America/Chicago:20210920T180000
DTEND;TZID=America/Chicago:20210920T213000
DTSTAMP:20260422T173514
CREATED:20210916T193452Z
LAST-MODIFIED:20210916T193452Z
UID:10003729-1632160800-1632173400@www.springcreekoaks.org
SUMMARY:Leavins-NCL
DESCRIPTION:
URL:https://www.springcreekoaks.org/reservations/leavins-ncl/
LOCATION:Clubhouse 2\, 6002 Bur Oak Dr\, Spring\, 77379\, United States
CATEGORIES:Clubhouses
GEO:30.037539;-95.5070911
X-APPLE-STRUCTURED-LOCATION;VALUE=URI;X-ADDRESS=Clubhouse 2 6002 Bur Oak Dr Spring 77379 United States;X-APPLE-RADIUS=500;X-TITLE=6002 Bur Oak Dr:geo:-95.5070911,30.037539
END:VEVENT
END:VCALENDAR