BEGIN:VCALENDAR
VERSION:2.0
PRODID:-//Spring Creek Oaks - ECPv6.15.20//NONSGML v1.0//EN
CALSCALE:GREGORIAN
METHOD:PUBLISH
X-WR-CALNAME:Spring Creek Oaks
X-ORIGINAL-URL:https://www.springcreekoaks.org
X-WR-CALDESC:Events for Spring Creek Oaks
REFRESH-INTERVAL;VALUE=DURATION:PT1H
X-Robots-Tag:noindex
X-PUBLISHED-TTL:PT1H
BEGIN:VTIMEZONE
TZID:America/Chicago
BEGIN:DAYLIGHT
TZOFFSETFROM:-0600
TZOFFSETTO:-0500
TZNAME:CDT
DTSTART:20200308T080000
END:DAYLIGHT
BEGIN:STANDARD
TZOFFSETFROM:-0500
TZOFFSETTO:-0600
TZNAME:CST
DTSTART:20201101T070000
END:STANDARD
BEGIN:DAYLIGHT
TZOFFSETFROM:-0600
TZOFFSETTO:-0500
TZNAME:CDT
DTSTART:20210314T080000
END:DAYLIGHT
BEGIN:STANDARD
TZOFFSETFROM:-0500
TZOFFSETTO:-0600
TZNAME:CST
DTSTART:20211107T070000
END:STANDARD
BEGIN:DAYLIGHT
TZOFFSETFROM:-0600
TZOFFSETTO:-0500
TZNAME:CDT
DTSTART:20220313T080000
END:DAYLIGHT
BEGIN:STANDARD
TZOFFSETFROM:-0500
TZOFFSETTO:-0600
TZNAME:CST
DTSTART:20221106T070000
END:STANDARD
END:VTIMEZONE
BEGIN:VEVENT
DTSTART;TZID=America/Chicago:20210813T090000
DTEND;TZID=America/Chicago:20210817T150000
DTSTAMP:20260422T174032
CREATED:20210417T232111Z
LAST-MODIFIED:20210417T232111Z
UID:10002355-1628845200-1629212400@www.springcreekoaks.org
SUMMARY:Tennis Camp
DESCRIPTION:
URL:https://www.springcreekoaks.org/reservations/tennis-camp-3/2021-08-13/
CATEGORIES:Clubhouses,Tennis
END:VEVENT
BEGIN:VEVENT
DTSTART;TZID=America/Chicago:20210814T080000
DTEND;TZID=America/Chicago:20210814T103000
DTSTAMP:20260422T174032
CREATED:20200805T161253Z
LAST-MODIFIED:20200805T161253Z
UID:10001103-1628928000-1628937000@www.springcreekoaks.org
SUMMARY:LLERENA (Big Soccer Field)
DESCRIPTION:
URL:https://www.springcreekoaks.org/reservations/llerena-big-soccer-field/2021-08-14/
CATEGORIES:Soccer Fields
END:VEVENT
BEGIN:VEVENT
DTSTART;TZID=America/Chicago:20210814T080000
DTEND;TZID=America/Chicago:20210814T220000
DTSTAMP:20260422T174032
CREATED:20210303T190936Z
LAST-MODIFIED:20210304T175213Z
UID:10003107-1628928000-1628978400@www.springcreekoaks.org
SUMMARY:Ray CH2
DESCRIPTION:
URL:https://www.springcreekoaks.org/reservations/ray-ch2/
LOCATION:Clubhouse 2\, 6002 Bur Oak Dr\, Spring\, 77379\, United States
CATEGORIES:Clubhouses
GEO:30.037539;-95.5070911
X-APPLE-STRUCTURED-LOCATION;VALUE=URI;X-ADDRESS=Clubhouse 2 6002 Bur Oak Dr Spring 77379 United States;X-APPLE-RADIUS=500;X-TITLE=6002 Bur Oak Dr:geo:-95.5070911,30.037539
END:VEVENT
BEGIN:VEVENT
DTSTART;TZID=America/Chicago:20210815T143000
DTEND;TZID=America/Chicago:20210815T170000
DTSTAMP:20260422T174032
CREATED:20210523T221941Z
LAST-MODIFIED:20210523T221941Z
UID:10003383-1629037800-1629046800@www.springcreekoaks.org
SUMMARY:Children’s committee CH2
DESCRIPTION:
URL:https://www.springcreekoaks.org/reservations/childrens-committee-ch2/
CATEGORIES:Clubhouses
END:VEVENT
BEGIN:VEVENT
DTSTART;TZID=America/Chicago:20210816T080000
DTEND;TZID=America/Chicago:20210816T110000
DTSTAMP:20260422T174032
CREATED:20210623T010801Z
LAST-MODIFIED:20210623T010801Z
UID:10003553-1629100800-1629111600@www.springcreekoaks.org
SUMMARY:Kuehnle court 2\, Lopez
DESCRIPTION:
URL:https://www.springcreekoaks.org/reservations/kuehnle-court-2-lopez-11/2021-08-16/
CATEGORIES:Tennis
END:VEVENT
BEGIN:VEVENT
DTSTART;TZID=America/Chicago:20210816T080000
DTEND;TZID=America/Chicago:20210816T120000
DTSTAMP:20260422T174032
CREATED:20210617T183759Z
LAST-MODIFIED:20210617T183759Z
UID:10002484-1629100800-1629115200@www.springcreekoaks.org
SUMMARY:CH 2 court 1\, Tennis Pro Danny
DESCRIPTION:
URL:https://www.springcreekoaks.org/reservations/ch-2-court-1-tennis-pro-danny/2021-08-16/
CATEGORIES:Tennis
END:VEVENT
BEGIN:VEVENT
DTSTART;TZID=America/Chicago:20210816T083000
DTEND;TZID=America/Chicago:20210816T120000
DTSTAMP:20260422T174032
CREATED:20210512T170641Z
LAST-MODIFIED:20210512T170641Z
UID:10002380-1629102600-1629115200@www.springcreekoaks.org
SUMMARY:CH 2 court 6\, Hudson
DESCRIPTION:
URL:https://www.springcreekoaks.org/reservations/ch-2-court-6-hudson-3/2021-08-16/
CATEGORIES:Tennis
END:VEVENT
BEGIN:VEVENT
DTSTART;TZID=America/Chicago:20210816T160000
DTEND;TZID=America/Chicago:20210816T200000
DTSTAMP:20260422T174032
CREATED:20210617T184405Z
LAST-MODIFIED:20210617T184405Z
UID:10003487-1629129600-1629144000@www.springcreekoaks.org
SUMMARY:CH 2 court 1\, Tennis Pro Danny
DESCRIPTION:
URL:https://www.springcreekoaks.org/reservations/ch-2-court-1-tennis-pro-danny-6/2021-08-16/
CATEGORIES:Tennis
END:VEVENT
BEGIN:VEVENT
DTSTART;TZID=America/Chicago:20210817T080000
DTEND;TZID=America/Chicago:20210817T090000
DTSTAMP:20260422T174032
CREATED:20210811T141524Z
LAST-MODIFIED:20210811T141524Z
UID:10003657-1629187200-1629190800@www.springcreekoaks.org
SUMMARY:CH 2 court 6\, Mason
DESCRIPTION:
URL:https://www.springcreekoaks.org/reservations/ch-2-court-6-mason-11/2021-08-17/
CATEGORIES:Tennis
END:VEVENT
BEGIN:VEVENT
DTSTART;TZID=America/Chicago:20210817T080000
DTEND;TZID=America/Chicago:20210817T120000
DTSTAMP:20260422T174032
CREATED:20210617T183902Z
LAST-MODIFIED:20210617T183902Z
UID:10003404-1629187200-1629201600@www.springcreekoaks.org
SUMMARY:CH 2 court 1\, Tennis Pro Danny
DESCRIPTION:
URL:https://www.springcreekoaks.org/reservations/ch-2-court-1-tennis-pro-danny-2/2021-08-17/
CATEGORIES:Tennis
END:VEVENT
BEGIN:VEVENT
DTSTART;TZID=America/Chicago:20210818T080000
DTEND;TZID=America/Chicago:20210818T100000
DTSTAMP:20260422T174032
CREATED:20210813T010022Z
LAST-MODIFIED:20210813T010022Z
UID:10003710-1629273600-1629280800@www.springcreekoaks.org
SUMMARY:CH 2 courts 5-6\, Morse
DESCRIPTION:
URL:https://www.springcreekoaks.org/reservations/ch-2-courts-5-6-morse/
CATEGORIES:Tennis
END:VEVENT
BEGIN:VEVENT
DTSTART;TZID=America/Chicago:20210818T080000
DTEND;TZID=America/Chicago:20210818T120000
DTSTAMP:20260422T174032
CREATED:20210512T162316Z
LAST-MODIFIED:20210512T162316Z
UID:10003258-1629273600-1629288000@www.springcreekoaks.org
SUMMARY:CH 1 courts 2-3 (pickleball)\, Hudson
DESCRIPTION:
URL:https://www.springcreekoaks.org/reservations/ch-1-courts-2-3-pickleball-hudson/2021-08-18/
CATEGORIES:Tennis
END:VEVENT
BEGIN:VEVENT
DTSTART;TZID=America/Chicago:20210818T080000
DTEND;TZID=America/Chicago:20210818T120000
DTSTAMP:20260422T174032
CREATED:20210617T184143Z
LAST-MODIFIED:20210617T184143Z
UID:10003431-1629273600-1629288000@www.springcreekoaks.org
SUMMARY:CH 2 court 1\, Tennis Pro Danny
DESCRIPTION:
URL:https://www.springcreekoaks.org/reservations/ch-2-court-1-tennis-pro-danny-4/2021-08-18/
CATEGORIES:Tennis
END:VEVENT
BEGIN:VEVENT
DTSTART;TZID=America/Chicago:20210818T173000
DTEND;TZID=America/Chicago:20210818T193000
DTSTAMP:20260422T174032
CREATED:20210701T193330Z
LAST-MODIFIED:20210701T193330Z
UID:10003585-1629307800-1629315000@www.springcreekoaks.org
SUMMARY:Pack Swim CH2
DESCRIPTION:
URL:https://www.springcreekoaks.org/reservations/pack-swim-ch2/2021-08-18/
CATEGORIES:Clubhouses
END:VEVENT
BEGIN:VEVENT
DTSTART;TZID=America/Chicago:20210818T180000
DTEND;TZID=America/Chicago:20210818T200000
DTSTAMP:20260422T174032
CREATED:20200805T160749Z
LAST-MODIFIED:20200805T161100Z
UID:10001344-1629309600-1629316800@www.springcreekoaks.org
SUMMARY:CIFUENTES (Big Soccer Field)
DESCRIPTION:
URL:https://www.springcreekoaks.org/reservations/cifuentes-open-play-big-soccer-field/2021-08-18/
CATEGORIES:Soccer Fields
END:VEVENT
BEGIN:VEVENT
DTSTART;TZID=America/Chicago:20210819T080000
DTEND;TZID=America/Chicago:20210819T110000
DTSTAMP:20260422T174032
CREATED:20210623T035733Z
LAST-MODIFIED:20210623T035911Z
UID:10003561-1629360000-1629370800@www.springcreekoaks.org
SUMMARY:Kuehnle court 2\, Lopez
DESCRIPTION:
URL:https://www.springcreekoaks.org/reservations/kuehnle-court-2-lopez-12/2021-08-19/
CATEGORIES:Tennis
END:VEVENT
BEGIN:VEVENT
DTSTART;TZID=America/Chicago:20210819T080000
DTEND;TZID=America/Chicago:20210819T120000
DTSTAMP:20260422T174032
CREATED:20210809T002903Z
LAST-MODIFIED:20210809T002903Z
UID:10003620-1629360000-1629374400@www.springcreekoaks.org
SUMMARY:CH 2 courts 5-6\, Junek
DESCRIPTION:
URL:https://www.springcreekoaks.org/reservations/ch-2-courts-5-6-junek/2021-08-19/
CATEGORIES:Tennis
END:VEVENT
BEGIN:VEVENT
DTSTART;TZID=America/Chicago:20210819T173000
DTEND;TZID=America/Chicago:20210819T193000
DTSTAMP:20260422T174032
CREATED:20210701T193330Z
LAST-MODIFIED:20210701T193330Z
UID:10003586-1629394200-1629401400@www.springcreekoaks.org
SUMMARY:Pack Swim CH2
DESCRIPTION:
URL:https://www.springcreekoaks.org/reservations/pack-swim-ch2/2021-08-19/
CATEGORIES:Clubhouses
END:VEVENT
BEGIN:VEVENT
DTSTART;TZID=America/Chicago:20210820T080000
DTEND;TZID=America/Chicago:20210820T090000
DTSTAMP:20260422T174032
CREATED:20210811T141409Z
LAST-MODIFIED:20210811T141409Z
UID:10003596-1629446400-1629450000@www.springcreekoaks.org
SUMMARY:CH 2 court 6\, Mason
DESCRIPTION:
URL:https://www.springcreekoaks.org/reservations/ch-2-court-6-mason-10/2021-08-20/
CATEGORIES:Tennis
END:VEVENT
BEGIN:VEVENT
DTSTART;TZID=America/Chicago:20210820T080000
DTEND;TZID=America/Chicago:20210820T110000
DTSTAMP:20260422T174032
CREATED:20210412T170129Z
LAST-MODIFIED:20210512T174655Z
UID:10003226-1629446400-1629457200@www.springcreekoaks.org
SUMMARY:CH 2 court 6\, Mason
DESCRIPTION:
URL:https://www.springcreekoaks.org/reservations/ch-2-court-6-mason-9/2021-08-20/
CATEGORIES:Tennis
END:VEVENT
BEGIN:VEVENT
DTSTART;TZID=America/Chicago:20210820T080000
DTEND;TZID=America/Chicago:20210820T110000
DTSTAMP:20260422T174032
CREATED:20210511T004822Z
LAST-MODIFIED:20210511T004822Z
UID:10003293-1629446400-1629457200@www.springcreekoaks.org
SUMMARY:CH 2 court 3\, Lopez
DESCRIPTION:
URL:https://www.springcreekoaks.org/reservations/ch-2-court-3-lopez-13/2021-08-20/
CATEGORIES:Tennis
END:VEVENT
BEGIN:VEVENT
DTSTART;TZID=America/Chicago:20210820T083000
DTEND;TZID=America/Chicago:20210820T110000
DTSTAMP:20260422T174032
CREATED:20210813T005745Z
LAST-MODIFIED:20210813T005745Z
UID:10003709-1629448200-1629457200@www.springcreekoaks.org
SUMMARY:Kuehnle courts 1-2\, Hancock
DESCRIPTION:
URL:https://www.springcreekoaks.org/reservations/kuehnle-courts-1-2-hancock/
CATEGORIES:Tennis
END:VEVENT
BEGIN:VEVENT
DTSTART;TZID=America/Chicago:20210820T173000
DTEND;TZID=America/Chicago:20210820T193000
DTSTAMP:20260422T174032
CREATED:20210701T193330Z
LAST-MODIFIED:20210701T193330Z
UID:10003587-1629480600-1629487800@www.springcreekoaks.org
SUMMARY:Pack Swim CH2
DESCRIPTION:
URL:https://www.springcreekoaks.org/reservations/pack-swim-ch2/2021-08-20/
CATEGORIES:Clubhouses
END:VEVENT
BEGIN:VEVENT
DTSTART;TZID=America/Chicago:20210821T080000
DTEND;TZID=America/Chicago:20210821T103000
DTSTAMP:20260422T174032
CREATED:20200805T161253Z
LAST-MODIFIED:20200805T161253Z
UID:10001104-1629532800-1629541800@www.springcreekoaks.org
SUMMARY:LLERENA (Big Soccer Field)
DESCRIPTION:
URL:https://www.springcreekoaks.org/reservations/llerena-big-soccer-field/2021-08-21/
CATEGORIES:Soccer Fields
END:VEVENT
BEGIN:VEVENT
DTSTART;TZID=America/Chicago:20210821T080000
DTEND;TZID=America/Chicago:20210826T100000
DTSTAMP:20260422T174032
CREATED:20210821T190849Z
LAST-MODIFIED:20210821T190849Z
UID:10003757-1629532800-1629972000@www.springcreekoaks.org
SUMMARY:CH 2 court 3\, Tennis pro Danny
DESCRIPTION:
URL:https://www.springcreekoaks.org/reservations/ch-2-court-3-tennis-pro-danny/
CATEGORIES:Tennis
END:VEVENT
BEGIN:VEVENT
DTSTART;TZID=America/Chicago:20210821T090000
DTEND;TZID=America/Chicago:20210821T140000
DTSTAMP:20260422T174032
CREATED:20210701T193434Z
LAST-MODIFIED:20210701T193434Z
UID:10003589-1629536400-1629554400@www.springcreekoaks.org
SUMMARY:Pack Swim CH2
DESCRIPTION:
URL:https://www.springcreekoaks.org/reservations/pack-swim-ch2-2/
LOCATION:Clubhouse 2\, 6002 Bur Oak Dr\, Spring\, 77379\, United States
CATEGORIES:Clubhouses
GEO:30.037539;-95.5070911
X-APPLE-STRUCTURED-LOCATION;VALUE=URI;X-ADDRESS=Clubhouse 2 6002 Bur Oak Dr Spring 77379 United States;X-APPLE-RADIUS=500;X-TITLE=6002 Bur Oak Dr:geo:-95.5070911,30.037539
END:VEVENT
BEGIN:VEVENT
DTSTART;TZID=America/Chicago:20210823T083000
DTEND;TZID=America/Chicago:20210823T120000
DTSTAMP:20260422T174032
CREATED:20210512T170641Z
LAST-MODIFIED:20210512T170641Z
UID:10002381-1629707400-1629720000@www.springcreekoaks.org
SUMMARY:CH 2 court 6\, Hudson
DESCRIPTION:
URL:https://www.springcreekoaks.org/reservations/ch-2-court-6-hudson-3/2021-08-23/
CATEGORIES:Tennis
END:VEVENT
BEGIN:VEVENT
DTSTART;TZID=America/Chicago:20210824T080000
DTEND;TZID=America/Chicago:20210824T090000
DTSTAMP:20260422T174032
CREATED:20210811T141524Z
LAST-MODIFIED:20210811T141524Z
UID:10003658-1629792000-1629795600@www.springcreekoaks.org
SUMMARY:CH 2 court 6\, Mason
DESCRIPTION:
URL:https://www.springcreekoaks.org/reservations/ch-2-court-6-mason-11/2021-08-24/
CATEGORIES:Tennis
END:VEVENT
BEGIN:VEVENT
DTSTART;TZID=America/Chicago:20210824T180000
DTEND;TZID=America/Chicago:20210824T200000
DTSTAMP:20260422T174032
CREATED:20210824T133525Z
LAST-MODIFIED:20210824T133527Z
UID:10003764-1629828000-1629835200@www.springcreekoaks.org
SUMMARY:10U LIONS (Flag Football) Coach Stansifer
DESCRIPTION:
URL:https://www.springcreekoaks.org/reservations/10u-lions-flag-football-coach-stansifer/
LOCATION:Small Soccer Field (CH 2)
CATEGORIES:Soccer Fields
END:VEVENT
BEGIN:VEVENT
DTSTART;TZID=America/Chicago:20210825T080000
DTEND;TZID=America/Chicago:20210825T110000
DTSTAMP:20260422T174032
CREATED:20210818T223331Z
LAST-MODIFIED:20210818T223331Z
UID:10003752-1629878400-1629889200@www.springcreekoaks.org
SUMMARY:CH 2 courts 5-6\, Morse
DESCRIPTION:
URL:https://www.springcreekoaks.org/reservations/ch-2-courts-5-6-morse-2/2021-08-25/
CATEGORIES:Tennis
END:VEVENT
END:VCALENDAR