BEGIN:VCALENDAR
VERSION:2.0
PRODID:-//Spring Creek Oaks - ECPv6.15.20//NONSGML v1.0//EN
CALSCALE:GREGORIAN
METHOD:PUBLISH
X-WR-CALNAME:Spring Creek Oaks
X-ORIGINAL-URL:https://www.springcreekoaks.org
X-WR-CALDESC:Events for Spring Creek Oaks
REFRESH-INTERVAL;VALUE=DURATION:PT1H
X-Robots-Tag:noindex
X-PUBLISHED-TTL:PT1H
BEGIN:VTIMEZONE
TZID:America/Chicago
BEGIN:DAYLIGHT
TZOFFSETFROM:-0600
TZOFFSETTO:-0500
TZNAME:CDT
DTSTART:20230312T080000
END:DAYLIGHT
BEGIN:STANDARD
TZOFFSETFROM:-0500
TZOFFSETTO:-0600
TZNAME:CST
DTSTART:20231105T070000
END:STANDARD
BEGIN:DAYLIGHT
TZOFFSETFROM:-0600
TZOFFSETTO:-0500
TZNAME:CDT
DTSTART:20240310T080000
END:DAYLIGHT
BEGIN:STANDARD
TZOFFSETFROM:-0500
TZOFFSETTO:-0600
TZNAME:CST
DTSTART:20241103T070000
END:STANDARD
BEGIN:DAYLIGHT
TZOFFSETFROM:-0600
TZOFFSETTO:-0500
TZNAME:CDT
DTSTART:20250309T080000
END:DAYLIGHT
BEGIN:STANDARD
TZOFFSETFROM:-0500
TZOFFSETTO:-0600
TZNAME:CST
DTSTART:20251102T070000
END:STANDARD
END:VTIMEZONE
BEGIN:VEVENT
DTSTART;TZID=America/Chicago:20240316T083000
DTEND;TZID=America/Chicago:20240316T120000
DTSTAMP:20260420T052726
CREATED:20231126T144446Z
LAST-MODIFIED:20231126T144859Z
UID:10003332-1710577800-1710590400@www.springcreekoaks.org
SUMMARY:CH 1 courts 2-3\, Palmer
DESCRIPTION:
URL:https://www.springcreekoaks.org/reservations/ch-1-courts-2-3-palmer/2024-03-16/
CATEGORIES:Tennis
END:VEVENT
BEGIN:VEVENT
DTSTART;TZID=America/Chicago:20240316T080000
DTEND;TZID=America/Chicago:20240316T110000
DTSTAMP:20260420T052726
CREATED:20240117T135955Z
LAST-MODIFIED:20240117T135955Z
UID:10007452-1710576000-1710586800@www.springcreekoaks.org
SUMMARY:Field 1 - Coyotes - 12U
DESCRIPTION:
URL:https://www.springcreekoaks.org/reservations/field-1-coyotes-12u-3/2024-03-16/
LOCATION:Baseball Field 1\, United States
CATEGORIES:Baseball Fields
END:VEVENT
BEGIN:VEVENT
DTSTART;VALUE=DATE:20240316
DTEND;VALUE=DATE:20240317
DTSTAMP:20260420T052726
CREATED:20240119T225609Z
LAST-MODIFIED:20240122T000137Z
UID:10007477-1710547200-1710633599@www.springcreekoaks.org
SUMMARY:Ortiz CH1
DESCRIPTION:
URL:https://www.springcreekoaks.org/reservations/zag-ch1/
LOCATION:Clubhouse 1\, 17111 Misty Creek\, Spring\, TX\, 77379\, United States
CATEGORIES:Clubhouses
GEO:30.0346602;-95.5117522
X-APPLE-STRUCTURED-LOCATION;VALUE=URI;X-ADDRESS=Clubhouse 1 17111 Misty Creek Spring TX 77379 United States;X-APPLE-RADIUS=500;X-TITLE=17111 Misty Creek:geo:-95.5117522,30.0346602
END:VEVENT
BEGIN:VEVENT
DTSTART;VALUE=DATE:20240316
DTEND;VALUE=DATE:20240317
DTSTAMP:20260420T052726
CREATED:20240110T020815Z
LAST-MODIFIED:20240110T020815Z
UID:10006371-1710547200-1710633599@www.springcreekoaks.org
SUMMARY:Linerio CH2
DESCRIPTION:
URL:https://www.springcreekoaks.org/reservations/linerio-ch2-3/
LOCATION:Clubhouse 2\, 6002 Bur Oak Dr\, Spring\, 77379\, United States
CATEGORIES:Clubhouses
GEO:30.037539;-95.5070911
X-APPLE-STRUCTURED-LOCATION;VALUE=URI;X-ADDRESS=Clubhouse 2 6002 Bur Oak Dr Spring 77379 United States;X-APPLE-RADIUS=500;X-TITLE=6002 Bur Oak Dr:geo:-95.5070911,30.037539
END:VEVENT
BEGIN:VEVENT
DTSTART;TZID=America/Chicago:20240315T180000
DTEND;TZID=America/Chicago:20240315T190000
DTSTAMP:20260420T052726
CREATED:20240115T175843Z
LAST-MODIFIED:20240118T192404Z
UID:10007113-1710525600-1710529200@www.springcreekoaks.org
SUMMARY:Kuehnle courts 3-4\, Coach Danny
DESCRIPTION:
URL:https://www.springcreekoaks.org/reservations/kuehnle-courts-3-4-coach-danny-9/2024-03-15/
CATEGORIES:Tennis
END:VEVENT
BEGIN:VEVENT
DTSTART;TZID=America/Chicago:20240315T160000
DTEND;TZID=America/Chicago:20240315T200000
DTSTAMP:20260420T052726
CREATED:20240117T135855Z
LAST-MODIFIED:20240117T135855Z
UID:10007430-1710518400-1710532800@www.springcreekoaks.org
SUMMARY:Field 1 - Skeeters - 10U
DESCRIPTION:
URL:https://www.springcreekoaks.org/reservations/field-1-skeeters-10u/2024-03-15/
LOCATION:Baseball Field 1\, United States
CATEGORIES:Baseball Fields
END:VEVENT
BEGIN:VEVENT
DTSTART;TZID=America/Chicago:20240315T083000
DTEND;TZID=America/Chicago:20240315T123000
DTSTAMP:20260420T052726
CREATED:20240308T033025Z
LAST-MODIFIED:20240308T033025Z
UID:10008065-1710491400-1710505800@www.springcreekoaks.org
SUMMARY:CH 2 courts 1-4\, Lopez
DESCRIPTION:
URL:https://www.springcreekoaks.org/reservations/ch-2-courts-1-4-lopez/
CATEGORIES:Tennis
END:VEVENT
BEGIN:VEVENT
DTSTART;TZID=America/Chicago:20240314T190000
DTEND;TZID=America/Chicago:20240314T220000
DTSTAMP:20260420T052726
CREATED:20240113T021559Z
LAST-MODIFIED:20240131T152936Z
UID:10006531-1710442800-1710453600@www.springcreekoaks.org
SUMMARY:CH 2 PB courts 3-4\, P. Guzman
DESCRIPTION:
URL:https://www.springcreekoaks.org/reservations/ch-1-courts-2-3-p-guzman/2024-03-14/
CATEGORIES:Tennis
END:VEVENT
BEGIN:VEVENT
DTSTART;TZID=America/Chicago:20240314T170000
DTEND;TZID=America/Chicago:20240314T193000
DTSTAMP:20260420T052726
CREATED:20240115T175721Z
LAST-MODIFIED:20240416T023026Z
UID:10007093-1710435600-1710444600@www.springcreekoaks.org
SUMMARY:Kuehnle courts 3-4\, Coach Danny
DESCRIPTION:
URL:https://www.springcreekoaks.org/reservations/kuehnle-courts-3-4-coach-danny-8/2024-03-14/
CATEGORIES:Tennis
END:VEVENT
BEGIN:VEVENT
DTSTART;TZID=America/Chicago:20240314T160000
DTEND;TZID=America/Chicago:20240314T200000
DTSTAMP:20260420T052726
CREATED:20240201T200320Z
LAST-MODIFIED:20240424T120009Z
UID:10007849-1710432000-1710446400@www.springcreekoaks.org
SUMMARY:Field 2 - Blue Rocks - 7U
DESCRIPTION:
URL:https://www.springcreekoaks.org/reservations/field-2-blue-rocks-7u/2024-03-14/
LOCATION:Baseball Field 2\, United States
CATEGORIES:Baseball Fields
END:VEVENT
BEGIN:VEVENT
DTSTART;TZID=America/Chicago:20240314T160000
DTEND;TZID=America/Chicago:20240314T200000
DTSTAMP:20260420T052726
CREATED:20240201T124313Z
LAST-MODIFIED:20240424T115922Z
UID:10007529-1710432000-1710446400@www.springcreekoaks.org
SUMMARY:Field 4 - River Bandits - 6U
DESCRIPTION:
URL:https://www.springcreekoaks.org/reservations/field-4-river-bandits-6u/2024-03-14/
LOCATION:Baseball Field 4\, United States
CATEGORIES:Baseball Fields
END:VEVENT
BEGIN:VEVENT
DTSTART;TZID=America/Chicago:20240314T160000
DTEND;TZID=America/Chicago:20240314T200000
DTSTAMP:20260420T052726
CREATED:20240117T135753Z
LAST-MODIFIED:20240117T140132Z
UID:10007407-1710432000-1710446400@www.springcreekoaks.org
SUMMARY:Field 3 - Hot Rod - 7U
DESCRIPTION:
URL:https://www.springcreekoaks.org/reservations/field-3-hot-rod-7u/2024-03-14/
LOCATION:Baseball Field 3\, United States
CATEGORIES:Baseball Fields
END:VEVENT
BEGIN:VEVENT
DTSTART;TZID=America/Chicago:20240314T160000
DTEND;TZID=America/Chicago:20240314T200000
DTSTAMP:20260420T052726
CREATED:20240117T135415Z
LAST-MODIFIED:20240117T135415Z
UID:10007361-1710432000-1710446400@www.springcreekoaks.org
SUMMARY:Field 1 - Young Guns - 12U
DESCRIPTION:
URL:https://www.springcreekoaks.org/reservations/field-1-young-guns-12u/2024-03-14/
LOCATION:Baseball Field 1\, United States
CATEGORIES:Baseball Fields
END:VEVENT
BEGIN:VEVENT
DTSTART;TZID=America/Chicago:20240314T093000
DTEND;TZID=America/Chicago:20240314T110000
DTSTAMP:20260420T052726
CREATED:20240228T183637Z
LAST-MODIFIED:20240228T183637Z
UID:10008056-1710408600-1710414000@www.springcreekoaks.org
SUMMARY:CH 2 courts 1-3\, Coach Danny Spring break sports camp
DESCRIPTION:
URL:https://www.springcreekoaks.org/reservations/ch-2-courts-1-3-coach-danny-spring-break-sports-camp/2024-03-14/
CATEGORIES:Tennis
END:VEVENT
BEGIN:VEVENT
DTSTART;TZID=America/Chicago:20240314T083000
DTEND;TZID=America/Chicago:20240314T120000
DTSTAMP:20260420T052726
CREATED:20231126T144446Z
LAST-MODIFIED:20231126T144859Z
UID:10003331-1710405000-1710417600@www.springcreekoaks.org
SUMMARY:CH 1 courts 2-3\, Palmer
DESCRIPTION:
URL:https://www.springcreekoaks.org/reservations/ch-1-courts-2-3-palmer/2024-03-14/
CATEGORIES:Tennis
END:VEVENT
BEGIN:VEVENT
DTSTART;TZID=America/Chicago:20240313T170000
DTEND;TZID=America/Chicago:20240313T190000
DTSTAMP:20260420T052726
CREATED:20240115T175440Z
LAST-MODIFIED:20240115T180134Z
UID:10006949-1710349200-1710356400@www.springcreekoaks.org
SUMMARY:Kuehnle courts 3-4\, Coach Danny
DESCRIPTION:
URL:https://www.springcreekoaks.org/reservations/kuehnle-courts-3-4-coach-danny-6/2024-03-13/
CATEGORIES:Tennis
END:VEVENT
BEGIN:VEVENT
DTSTART;TZID=America/Chicago:20240313T160000
DTEND;TZID=America/Chicago:20240313T200000
DTSTAMP:20260420T052726
CREATED:20240201T124730Z
LAST-MODIFIED:20240424T115718Z
UID:10007659-1710345600-1710360000@www.springcreekoaks.org
SUMMARY:Field 1 - Jaguars - 14U
DESCRIPTION:
URL:https://www.springcreekoaks.org/reservations/field-1-jaguars-14u/2024-03-13/
LOCATION:Baseball Field 1\, United States
CATEGORIES:Baseball Fields
END:VEVENT
BEGIN:VEVENT
DTSTART;TZID=America/Chicago:20240313T160000
DTEND;TZID=America/Chicago:20240313T200000
DTSTAMP:20260420T052726
CREATED:20240117T135025Z
LAST-MODIFIED:20240117T135536Z
UID:10007159-1710345600-1710360000@www.springcreekoaks.org
SUMMARY:Field 2 - Orioles - 11U
DESCRIPTION:
URL:https://www.springcreekoaks.org/reservations/field-2-orioles-11u-2/2024-03-13/
LOCATION:Baseball Field 2\, United States
CATEGORIES:Baseball Fields
END:VEVENT
BEGIN:VEVENT
DTSTART;TZID=America/Chicago:20240313T093000
DTEND;TZID=America/Chicago:20240313T110000
DTSTAMP:20260420T052726
CREATED:20240228T183637Z
LAST-MODIFIED:20240228T183637Z
UID:10008055-1710322200-1710327600@www.springcreekoaks.org
SUMMARY:CH 2 courts 1-3\, Coach Danny Spring break sports camp
DESCRIPTION:
URL:https://www.springcreekoaks.org/reservations/ch-2-courts-1-3-coach-danny-spring-break-sports-camp/2024-03-13/
CATEGORIES:Tennis
END:VEVENT
BEGIN:VEVENT
DTSTART;TZID=America/Chicago:20240313T090000
DTEND;TZID=America/Chicago:20240313T113000
DTSTAMP:20260420T052726
CREATED:20231205T012455Z
LAST-MODIFIED:20240107T024742Z
UID:10004066-1710320400-1710329400@www.springcreekoaks.org
SUMMARY:CH 1 courts 2-3\, Hudson
DESCRIPTION:
URL:https://www.springcreekoaks.org/reservations/ch-1-courts-2-3-hudson-2/2024-03-13/
CATEGORIES:Tennis
END:VEVENT
BEGIN:VEVENT
DTSTART;TZID=America/Chicago:20240313T083000
DTEND;TZID=America/Chicago:20240313T120000
DTSTAMP:20260420T052726
CREATED:20240228T183827Z
LAST-MODIFIED:20240228T183827Z
UID:10008058-1710318600-1710331200@www.springcreekoaks.org
SUMMARY:Kuehnle court 2\, NW A2 rain makeup
DESCRIPTION:
URL:https://www.springcreekoaks.org/reservations/kuehnle-court-2-nw-a2-rain-makeup/
CATEGORIES:Tennis
END:VEVENT
BEGIN:VEVENT
DTSTART;TZID=America/Chicago:20240313T083000
DTEND;TZID=America/Chicago:20240313T120000
DTSTAMP:20260420T052726
CREATED:20240228T183741Z
LAST-MODIFIED:20240228T183741Z
UID:10008057-1710318600-1710331200@www.springcreekoaks.org
SUMMARY:CH 2 courts 4-6\, NW A2 rain makeup
DESCRIPTION:
URL:https://www.springcreekoaks.org/reservations/ch-2-courts-4-6-nw-a2-rain-makeup/
CATEGORIES:Tennis
END:VEVENT
BEGIN:VEVENT
DTSTART;TZID=America/Chicago:20240312T190000
DTEND;TZID=America/Chicago:20240312T230000
DTSTAMP:20260420T052726
CREATED:20240311T233744Z
LAST-MODIFIED:20240311T233744Z
UID:10008071-1710270000-1710284400@www.springcreekoaks.org
SUMMARY:CH 2 courts 1-6\, Men’s league\, Vross
DESCRIPTION:
URL:https://www.springcreekoaks.org/reservations/ch-2-courts-1-6-mens-league-vross-5/2024-03-12/
CATEGORIES:Tennis
END:VEVENT
BEGIN:VEVENT
DTSTART;TZID=America/Chicago:20240312T180000
DTEND;TZID=America/Chicago:20240312T210000
DTSTAMP:20260420T052726
CREATED:20240130T071535Z
LAST-MODIFIED:20240131T153044Z
UID:10007504-1710266400-1710277200@www.springcreekoaks.org
SUMMARY:CH 2 PB courts 1-2\, A. Cortez
DESCRIPTION:
URL:https://www.springcreekoaks.org/reservations/ch-2-pb-courts-1-2-a-cortez/2024-03-12/
CATEGORIES:Tennis
END:VEVENT
BEGIN:VEVENT
DTSTART;TZID=America/Chicago:20240312T170000
DTEND;TZID=America/Chicago:20240312T193000
DTSTAMP:20260420T052726
CREATED:20240115T175240Z
LAST-MODIFIED:20240115T180452Z
UID:10006805-1710262800-1710271800@www.springcreekoaks.org
SUMMARY:Kuehnle courts 3-4\, Coach Danny
DESCRIPTION:
URL:https://www.springcreekoaks.org/reservations/kuehnle-courts-3-4-coach-danny-4/2024-03-12/
CATEGORIES:Tennis
END:VEVENT
BEGIN:VEVENT
DTSTART;TZID=America/Chicago:20240312T160000
DTEND;TZID=America/Chicago:20240312T200000
DTSTAMP:20260420T052726
CREATED:20240201T124313Z
LAST-MODIFIED:20240424T115922Z
UID:10007528-1710259200-1710273600@www.springcreekoaks.org
SUMMARY:Field 4 - River Bandits - 6U
DESCRIPTION:
URL:https://www.springcreekoaks.org/reservations/field-4-river-bandits-6u/2024-03-12/
LOCATION:Baseball Field 4\, United States
CATEGORIES:Baseball Fields
END:VEVENT
BEGIN:VEVENT
DTSTART;TZID=America/Chicago:20240312T160000
DTEND;TZID=America/Chicago:20240312T200000
DTSTAMP:20260420T052726
CREATED:20240117T135753Z
LAST-MODIFIED:20240117T140132Z
UID:10007406-1710259200-1710273600@www.springcreekoaks.org
SUMMARY:Field 3 - Hot Rod - 7U
DESCRIPTION:
URL:https://www.springcreekoaks.org/reservations/field-3-hot-rod-7u/2024-03-12/
LOCATION:Baseball Field 3\, United States
CATEGORIES:Baseball Fields
END:VEVENT
BEGIN:VEVENT
DTSTART;TZID=America/Chicago:20240312T160000
DTEND;TZID=America/Chicago:20240312T200000
DTSTAMP:20260420T052726
CREATED:20240117T135653Z
LAST-MODIFIED:20240117T135653Z
UID:10007383-1710259200-1710273600@www.springcreekoaks.org
SUMMARY:Field 2 - Hooks - 7U
DESCRIPTION:
URL:https://www.springcreekoaks.org/reservations/field-2-hooks-7u/2024-03-12/
LOCATION:Baseball Field 2\, United States
CATEGORIES:Baseball Fields
END:VEVENT
BEGIN:VEVENT
DTSTART;TZID=America/Chicago:20240312T160000
DTEND;TZID=America/Chicago:20240312T200000
DTSTAMP:20260420T052726
CREATED:20240117T135415Z
LAST-MODIFIED:20240117T135415Z
UID:10007360-1710259200-1710273600@www.springcreekoaks.org
SUMMARY:Field 1 - Young Guns - 12U
DESCRIPTION:
URL:https://www.springcreekoaks.org/reservations/field-1-young-guns-12u/2024-03-12/
LOCATION:Baseball Field 1\, United States
CATEGORIES:Baseball Fields
END:VEVENT
BEGIN:VEVENT
DTSTART;TZID=America/Chicago:20240312T093000
DTEND;TZID=America/Chicago:20240312T110000
DTSTAMP:20260420T052726
CREATED:20240228T183637Z
LAST-MODIFIED:20240228T183637Z
UID:10008054-1710235800-1710241200@www.springcreekoaks.org
SUMMARY:CH 2 courts 1-3\, Coach Danny Spring break sports camp
DESCRIPTION:
URL:https://www.springcreekoaks.org/reservations/ch-2-courts-1-3-coach-danny-spring-break-sports-camp/2024-03-12/
CATEGORIES:Tennis
END:VEVENT
END:VCALENDAR