BEGIN:VCALENDAR
VERSION:2.0
PRODID:-//Spring Creek Oaks - ECPv6.15.20//NONSGML v1.0//EN
CALSCALE:GREGORIAN
METHOD:PUBLISH
X-WR-CALNAME:Spring Creek Oaks
X-ORIGINAL-URL:https://www.springcreekoaks.org
X-WR-CALDESC:Events for Spring Creek Oaks
REFRESH-INTERVAL;VALUE=DURATION:PT1H
X-Robots-Tag:noindex
X-PUBLISHED-TTL:PT1H
BEGIN:VTIMEZONE
TZID:America/Chicago
BEGIN:DAYLIGHT
TZOFFSETFROM:-0600
TZOFFSETTO:-0500
TZNAME:CDT
DTSTART:20230312T080000
END:DAYLIGHT
BEGIN:STANDARD
TZOFFSETFROM:-0500
TZOFFSETTO:-0600
TZNAME:CST
DTSTART:20231105T070000
END:STANDARD
BEGIN:DAYLIGHT
TZOFFSETFROM:-0600
TZOFFSETTO:-0500
TZNAME:CDT
DTSTART:20240310T080000
END:DAYLIGHT
BEGIN:STANDARD
TZOFFSETFROM:-0500
TZOFFSETTO:-0600
TZNAME:CST
DTSTART:20241103T070000
END:STANDARD
BEGIN:DAYLIGHT
TZOFFSETFROM:-0600
TZOFFSETTO:-0500
TZNAME:CDT
DTSTART:20250309T080000
END:DAYLIGHT
BEGIN:STANDARD
TZOFFSETFROM:-0500
TZOFFSETTO:-0600
TZNAME:CST
DTSTART:20251102T070000
END:STANDARD
END:VTIMEZONE
BEGIN:VEVENT
DTSTART;TZID=America/Chicago:20240311T170000
DTEND;TZID=America/Chicago:20240311T190000
DTSTAMP:20260420T150402
CREATED:20240115T174912Z
LAST-MODIFIED:20240115T180603Z
UID:10006661-1710176400-1710183600@www.springcreekoaks.org
SUMMARY:Kuehnle courts 3-4\, Coach Danny
DESCRIPTION:
URL:https://www.springcreekoaks.org/reservations/kuehnle-courts-3-4-coach-danny-2/2024-03-11/
CATEGORIES:Tennis
END:VEVENT
BEGIN:VEVENT
DTSTART;TZID=America/Chicago:20240311T160000
DTEND;TZID=America/Chicago:20240311T200000
DTSTAMP:20260420T150402
CREATED:20240216T161846Z
LAST-MODIFIED:20240424T115530Z
UID:10007924-1710172800-1710187200@www.springcreekoaks.org
SUMMARY:Field 1 - Ducks - 12U
DESCRIPTION:
URL:https://www.springcreekoaks.org/reservations/field-1-ducks-12u/2024-03-11/
LOCATION:Baseball Field 1\, United States
CATEGORIES:Baseball Fields
END:VEVENT
BEGIN:VEVENT
DTSTART;TZID=America/Chicago:20240311T160000
DTEND;TZID=America/Chicago:20240311T200000
DTSTAMP:20260420T150402
CREATED:20240201T142117Z
LAST-MODIFIED:20240424T115832Z
UID:10007783-1710172800-1710187200@www.springcreekoaks.org
SUMMARY:Field 3 - Rail Riders - 6U
DESCRIPTION:
URL:https://www.springcreekoaks.org/reservations/field-3-rail-riders-6u/2024-03-11/
LOCATION:Baseball Field 3\, United States
CATEGORIES:Baseball Fields
END:VEVENT
BEGIN:VEVENT
DTSTART;TZID=America/Chicago:20240311T160000
DTEND;TZID=America/Chicago:20240311T200000
DTSTAMP:20260420T150402
CREATED:20240117T135025Z
LAST-MODIFIED:20240117T135536Z
UID:10007158-1710172800-1710187200@www.springcreekoaks.org
SUMMARY:Field 2 - Orioles - 11U
DESCRIPTION:
URL:https://www.springcreekoaks.org/reservations/field-2-orioles-11u-2/2024-03-11/
LOCATION:Baseball Field 2\, United States
CATEGORIES:Baseball Fields
END:VEVENT
BEGIN:VEVENT
DTSTART;TZID=America/Chicago:20240311T093000
DTEND;TZID=America/Chicago:20240311T110000
DTSTAMP:20260420T150402
CREATED:20240228T183637Z
LAST-MODIFIED:20240228T183637Z
UID:10008053-1710149400-1710154800@www.springcreekoaks.org
SUMMARY:CH 2 courts 1-3\, Coach Danny Spring break sports camp
DESCRIPTION:
URL:https://www.springcreekoaks.org/reservations/ch-2-courts-1-3-coach-danny-spring-break-sports-camp/2024-03-11/
CATEGORIES:Tennis
END:VEVENT
BEGIN:VEVENT
DTSTART;TZID=America/Chicago:20240310T160000
DTEND;TZID=America/Chicago:20240310T200000
DTSTAMP:20260420T150402
CREATED:20240201T124730Z
LAST-MODIFIED:20240424T115718Z
UID:10007658-1710086400-1710100800@www.springcreekoaks.org
SUMMARY:Field 1 - Jaguars - 14U
DESCRIPTION:
URL:https://www.springcreekoaks.org/reservations/field-1-jaguars-14u/2024-03-10/
LOCATION:Baseball Field 1\, United States
CATEGORIES:Baseball Fields
END:VEVENT
BEGIN:VEVENT
DTSTART;TZID=America/Chicago:20240310T160000
DTEND;TZID=America/Chicago:20240310T190000
DTSTAMP:20260420T150402
CREATED:20240308T201827Z
LAST-MODIFIED:20240308T234537Z
UID:10008068-1710086400-1710097200@www.springcreekoaks.org
SUMMARY:CH 2 PB court 1\, Maha G.
DESCRIPTION:
URL:https://www.springcreekoaks.org/reservations/ch-2-pb-court-1-maha-g/2024-03-10/
CATEGORIES:Tennis
END:VEVENT
BEGIN:VEVENT
DTSTART;TZID=America/Chicago:20240310T160000
DTEND;TZID=America/Chicago:20240310T180000
DTSTAMP:20260420T150402
CREATED:20240106T030429Z
LAST-MODIFIED:20240110T201650Z
UID:10000105-1710086400-1710093600@www.springcreekoaks.org
SUMMARY:Freddie Patio homes CH2
DESCRIPTION:
URL:https://www.springcreekoaks.org/reservations/freddie-patio-homes-ch2/
LOCATION:Clubhouse 2\, 6002 Bur Oak Dr\, Spring\, 77379\, United States
GEO:30.037539;-95.5070911
X-APPLE-STRUCTURED-LOCATION;VALUE=URI;X-ADDRESS=Clubhouse 2 6002 Bur Oak Dr Spring 77379 United States;X-APPLE-RADIUS=500;X-TITLE=6002 Bur Oak Dr:geo:-95.5070911,30.037539
END:VEVENT
BEGIN:VEVENT
DTSTART;TZID=America/Chicago:20240310T110000
DTEND;TZID=America/Chicago:20240310T150000
DTSTAMP:20260420T150402
CREATED:20240219T120310Z
LAST-MODIFIED:20240424T115624Z
UID:10007986-1710068400-1710082800@www.springcreekoaks.org
SUMMARY:Field 1 - Foster - 12U
DESCRIPTION:
URL:https://www.springcreekoaks.org/reservations/field-1-foster-12u/2024-03-10/
LOCATION:Baseball Field 1\, United States
CATEGORIES:Baseball Fields
END:VEVENT
BEGIN:VEVENT
DTSTART;VALUE=DATE:20240310
DTEND;VALUE=DATE:20240311
DTSTAMP:20260420T150402
CREATED:20240119T225454Z
LAST-MODIFIED:20240119T225454Z
UID:10007476-1710028800-1710115199@www.springcreekoaks.org
SUMMARY:Zagrzecki CH1
DESCRIPTION:
URL:https://www.springcreekoaks.org/reservations/zagrzecki-ch1/
LOCATION:Clubhouse 1\, 17111 Misty Creek\, Spring\, TX\, 77379\, United States
CATEGORIES:Clubhouses
GEO:30.0346602;-95.5117522
X-APPLE-STRUCTURED-LOCATION;VALUE=URI;X-ADDRESS=Clubhouse 1 17111 Misty Creek Spring TX 77379 United States;X-APPLE-RADIUS=500;X-TITLE=17111 Misty Creek:geo:-95.5117522,30.0346602
END:VEVENT
BEGIN:VEVENT
DTSTART;TZID=America/Chicago:20240309T160000
DTEND;TZID=America/Chicago:20240309T190000
DTSTAMP:20260420T150402
CREATED:20240308T201827Z
LAST-MODIFIED:20240308T234537Z
UID:10008067-1710000000-1710010800@www.springcreekoaks.org
SUMMARY:CH 2 PB court 1\, Maha G.
DESCRIPTION:
URL:https://www.springcreekoaks.org/reservations/ch-2-pb-court-1-maha-g/2024-03-09/
CATEGORIES:Tennis
END:VEVENT
BEGIN:VEVENT
DTSTART;TZID=America/Chicago:20240309T083000
DTEND;TZID=America/Chicago:20240309T120000
DTSTAMP:20260420T150402
CREATED:20240302T191424Z
LAST-MODIFIED:20240302T191424Z
UID:10008061-1709973000-1709985600@www.springcreekoaks.org
SUMMARY:CH 2 courts 1-6\, NCS matches
DESCRIPTION:
URL:https://www.springcreekoaks.org/reservations/ch-2-courts-1-6-ncs-matches/
CATEGORIES:Tennis
END:VEVENT
BEGIN:VEVENT
DTSTART;TZID=America/Chicago:20240309T083000
DTEND;TZID=America/Chicago:20240309T120000
DTSTAMP:20260420T150402
CREATED:20231126T144446Z
LAST-MODIFIED:20231126T144859Z
UID:10003329-1709973000-1709985600@www.springcreekoaks.org
SUMMARY:CH 1 courts 2-3\, Palmer
DESCRIPTION:
URL:https://www.springcreekoaks.org/reservations/ch-1-courts-2-3-palmer/2024-03-09/
CATEGORIES:Tennis
END:VEVENT
BEGIN:VEVENT
DTSTART;TZID=America/Chicago:20240309T080000
DTEND;TZID=America/Chicago:20240309T110000
DTSTAMP:20260420T150402
CREATED:20240117T135955Z
LAST-MODIFIED:20240117T135955Z
UID:10007451-1709971200-1709982000@www.springcreekoaks.org
SUMMARY:Field 1 - Coyotes - 12U
DESCRIPTION:
URL:https://www.springcreekoaks.org/reservations/field-1-coyotes-12u-3/2024-03-09/
LOCATION:Baseball Field 1\, United States
CATEGORIES:Baseball Fields
END:VEVENT
BEGIN:VEVENT
DTSTART;VALUE=DATE:20240309
DTEND;VALUE=DATE:20240310
DTSTAMP:20260420T150402
CREATED:20230609T050422Z
LAST-MODIFIED:20230609T050422Z
UID:10002841-1709942400-1710028799@www.springcreekoaks.org
SUMMARY:Santillan CH2
DESCRIPTION:
URL:https://www.springcreekoaks.org/reservations/santillan-ch2-7/
LOCATION:Clubhouse 2\, 6002 Bur Oak Dr\, Spring\, 77379\, United States
CATEGORIES:Clubhouses
GEO:30.037539;-95.5070911
X-APPLE-STRUCTURED-LOCATION;VALUE=URI;X-ADDRESS=Clubhouse 2 6002 Bur Oak Dr Spring 77379 United States;X-APPLE-RADIUS=500;X-TITLE=6002 Bur Oak Dr:geo:-95.5070911,30.037539
END:VEVENT
BEGIN:VEVENT
DTSTART;TZID=America/Chicago:20240308T180000
DTEND;TZID=America/Chicago:20240308T190000
DTSTAMP:20260420T150402
CREATED:20240115T175843Z
LAST-MODIFIED:20240118T192404Z
UID:10007112-1709920800-1709924400@www.springcreekoaks.org
SUMMARY:Kuehnle courts 3-4\, Coach Danny
DESCRIPTION:
URL:https://www.springcreekoaks.org/reservations/kuehnle-courts-3-4-coach-danny-9/2024-03-08/
CATEGORIES:Tennis
END:VEVENT
BEGIN:VEVENT
DTSTART;TZID=America/Chicago:20240308T160000
DTEND;TZID=America/Chicago:20240308T200000
DTSTAMP:20260420T150402
CREATED:20240117T135855Z
LAST-MODIFIED:20240117T135855Z
UID:10007429-1709913600-1709928000@www.springcreekoaks.org
SUMMARY:Field 1 - Skeeters - 10U
DESCRIPTION:
URL:https://www.springcreekoaks.org/reservations/field-1-skeeters-10u/2024-03-08/
LOCATION:Baseball Field 1\, United States
CATEGORIES:Baseball Fields
END:VEVENT
BEGIN:VEVENT
DTSTART;TZID=America/Chicago:20240308T153000
DTEND;TZID=America/Chicago:20240308T173000
DTSTAMP:20260420T150402
CREATED:20240208T140209Z
LAST-MODIFIED:20240208T140209Z
UID:10007911-1709911800-1709919000@www.springcreekoaks.org
SUMMARY:CH 2 courts 1-3\, NCS practice
DESCRIPTION:
URL:https://www.springcreekoaks.org/reservations/ch-2-courts-1-3-ncs-practice-6/
CATEGORIES:Tennis
END:VEVENT
BEGIN:VEVENT
DTSTART;TZID=America/Chicago:20240308T083000
DTEND;TZID=America/Chicago:20240308T120000
DTSTAMP:20260420T150402
CREATED:20240117T020953Z
LAST-MODIFIED:20240117T020953Z
UID:10007141-1709886600-1709899200@www.springcreekoaks.org
SUMMARY:CH 2 courts 1-4\, JR B3
DESCRIPTION:
URL:https://www.springcreekoaks.org/reservations/ch-2-courts-1-4-jr-b3-3/2024-03-08/
CATEGORIES:Tennis
END:VEVENT
BEGIN:VEVENT
DTSTART;TZID=America/Chicago:20240307T190000
DTEND;TZID=America/Chicago:20240307T220000
DTSTAMP:20260420T150402
CREATED:20240113T021559Z
LAST-MODIFIED:20240131T152936Z
UID:10006530-1709838000-1709848800@www.springcreekoaks.org
SUMMARY:CH 2 PB courts 3-4\, P. Guzman
DESCRIPTION:
URL:https://www.springcreekoaks.org/reservations/ch-1-courts-2-3-p-guzman/2024-03-07/
CATEGORIES:Tennis
END:VEVENT
BEGIN:VEVENT
DTSTART;TZID=America/Chicago:20240307T170000
DTEND;TZID=America/Chicago:20240307T210000
DTSTAMP:20260420T150402
CREATED:20191114T164535Z
LAST-MODIFIED:20191114T164535Z
UID:10000359-1709830800-1709845200@www.springcreekoaks.org
SUMMARY:CH2 5pm-9pm Waterboard Monthly Meeting
DESCRIPTION:
URL:https://www.springcreekoaks.org/reservations/ch2-5pm-9pm-waterboard-monthly-meeting/2024-03-07/
LOCATION:Clubhouse 2\, 6002 Bur Oak Dr\, Spring\, 77379\, United States
CATEGORIES:Clubhouses
GEO:30.037539;-95.5070911
X-APPLE-STRUCTURED-LOCATION;VALUE=URI;X-ADDRESS=Clubhouse 2 6002 Bur Oak Dr Spring 77379 United States;X-APPLE-RADIUS=500;X-TITLE=6002 Bur Oak Dr:geo:-95.5070911,30.037539
END:VEVENT
BEGIN:VEVENT
DTSTART;TZID=America/Chicago:20240307T170000
DTEND;TZID=America/Chicago:20240307T193000
DTSTAMP:20260420T150402
CREATED:20240115T175721Z
LAST-MODIFIED:20240416T023026Z
UID:10007092-1709830800-1709839800@www.springcreekoaks.org
SUMMARY:Kuehnle courts 3-4\, Coach Danny
DESCRIPTION:
URL:https://www.springcreekoaks.org/reservations/kuehnle-courts-3-4-coach-danny-8/2024-03-07/
CATEGORIES:Tennis
END:VEVENT
BEGIN:VEVENT
DTSTART;TZID=America/Chicago:20240307T160000
DTEND;TZID=America/Chicago:20240307T200000
DTSTAMP:20260420T150402
CREATED:20240201T200320Z
LAST-MODIFIED:20240424T120009Z
UID:10007848-1709827200-1709841600@www.springcreekoaks.org
SUMMARY:Field 2 - Blue Rocks - 7U
DESCRIPTION:
URL:https://www.springcreekoaks.org/reservations/field-2-blue-rocks-7u/2024-03-07/
LOCATION:Baseball Field 2\, United States
CATEGORIES:Baseball Fields
END:VEVENT
BEGIN:VEVENT
DTSTART;TZID=America/Chicago:20240307T160000
DTEND;TZID=America/Chicago:20240307T200000
DTSTAMP:20260420T150402
CREATED:20240201T124313Z
LAST-MODIFIED:20240424T115922Z
UID:10007527-1709827200-1709841600@www.springcreekoaks.org
SUMMARY:Field 4 - River Bandits - 6U
DESCRIPTION:
URL:https://www.springcreekoaks.org/reservations/field-4-river-bandits-6u/2024-03-07/
LOCATION:Baseball Field 4\, United States
CATEGORIES:Baseball Fields
END:VEVENT
BEGIN:VEVENT
DTSTART;TZID=America/Chicago:20240307T160000
DTEND;TZID=America/Chicago:20240307T200000
DTSTAMP:20260420T150402
CREATED:20240117T135753Z
LAST-MODIFIED:20240117T140132Z
UID:10007405-1709827200-1709841600@www.springcreekoaks.org
SUMMARY:Field 3 - Hot Rod - 7U
DESCRIPTION:
URL:https://www.springcreekoaks.org/reservations/field-3-hot-rod-7u/2024-03-07/
LOCATION:Baseball Field 3\, United States
CATEGORIES:Baseball Fields
END:VEVENT
BEGIN:VEVENT
DTSTART;TZID=America/Chicago:20240307T160000
DTEND;TZID=America/Chicago:20240307T200000
DTSTAMP:20260420T150402
CREATED:20240117T135415Z
LAST-MODIFIED:20240117T135415Z
UID:10007359-1709827200-1709841600@www.springcreekoaks.org
SUMMARY:Field 1 - Young Guns - 12U
DESCRIPTION:
URL:https://www.springcreekoaks.org/reservations/field-1-young-guns-12u/2024-03-07/
LOCATION:Baseball Field 1\, United States
CATEGORIES:Baseball Fields
END:VEVENT
BEGIN:VEVENT
DTSTART;TZID=America/Chicago:20240307T153000
DTEND;TZID=America/Chicago:20240307T173000
DTSTAMP:20260420T150402
CREATED:20240129T181937Z
LAST-MODIFIED:20240129T181937Z
UID:10007493-1709825400-1709832600@www.springcreekoaks.org
SUMMARY:CH 2 courts 1-3\, NCS practice
DESCRIPTION:
URL:https://www.springcreekoaks.org/reservations/ch-2-courts-1-3-ncs-practice-4/2024-03-07/
CATEGORIES:Tennis
END:VEVENT
BEGIN:VEVENT
DTSTART;TZID=America/Chicago:20240307T153000
DTEND;TZID=America/Chicago:20240307T173000
DTSTAMP:20260420T150402
CREATED:20240129T180239Z
LAST-MODIFIED:20240129T182941Z
UID:10007486-1709825400-1709832600@www.springcreekoaks.org
SUMMARY:CH 2 courts 1-6\, NCS match
DESCRIPTION:
URL:https://www.springcreekoaks.org/reservations/ch-2-courts-1-6-ncs-match-day/
CATEGORIES:Tennis
END:VEVENT
BEGIN:VEVENT
DTSTART;TZID=America/Chicago:20240307T090000
DTEND;TZID=America/Chicago:20240307T110000
DTSTAMP:20260420T150402
CREATED:20240115T175542Z
LAST-MODIFIED:20240416T023143Z
UID:10007020-1709802000-1709809200@www.springcreekoaks.org
SUMMARY:Kuehnle courts 3-4\, Coach Danny
DESCRIPTION:
URL:https://www.springcreekoaks.org/reservations/kuehnle-courts-3-4-coach-danny-7/2024-03-07/
CATEGORIES:Tennis
END:VEVENT
BEGIN:VEVENT
DTSTART;TZID=America/Chicago:20240307T083000
DTEND;TZID=America/Chicago:20240307T120000
DTSTAMP:20260420T150402
CREATED:20231126T144446Z
LAST-MODIFIED:20231126T144859Z
UID:10003328-1709800200-1709812800@www.springcreekoaks.org
SUMMARY:CH 1 courts 2-3\, Palmer
DESCRIPTION:
URL:https://www.springcreekoaks.org/reservations/ch-1-courts-2-3-palmer/2024-03-07/
CATEGORIES:Tennis
END:VEVENT
END:VCALENDAR