BEGIN:VCALENDAR
VERSION:2.0
PRODID:-//Spring Creek Oaks - ECPv6.15.20//NONSGML v1.0//EN
CALSCALE:GREGORIAN
METHOD:PUBLISH
X-WR-CALNAME:Spring Creek Oaks
X-ORIGINAL-URL:https://www.springcreekoaks.org
X-WR-CALDESC:Events for Spring Creek Oaks
REFRESH-INTERVAL;VALUE=DURATION:PT1H
X-Robots-Tag:noindex
X-PUBLISHED-TTL:PT1H
BEGIN:VTIMEZONE
TZID:America/Chicago
BEGIN:DAYLIGHT
TZOFFSETFROM:-0600
TZOFFSETTO:-0500
TZNAME:CDT
DTSTART:20220313T080000
END:DAYLIGHT
BEGIN:STANDARD
TZOFFSETFROM:-0500
TZOFFSETTO:-0600
TZNAME:CST
DTSTART:20221106T070000
END:STANDARD
BEGIN:DAYLIGHT
TZOFFSETFROM:-0600
TZOFFSETTO:-0500
TZNAME:CDT
DTSTART:20230312T080000
END:DAYLIGHT
BEGIN:STANDARD
TZOFFSETFROM:-0500
TZOFFSETTO:-0600
TZNAME:CST
DTSTART:20231105T070000
END:STANDARD
BEGIN:DAYLIGHT
TZOFFSETFROM:-0600
TZOFFSETTO:-0500
TZNAME:CDT
DTSTART:20240310T080000
END:DAYLIGHT
BEGIN:STANDARD
TZOFFSETFROM:-0500
TZOFFSETTO:-0600
TZNAME:CST
DTSTART:20241103T070000
END:STANDARD
END:VTIMEZONE
BEGIN:VEVENT
DTSTART;TZID=America/Chicago:20230911T190000
DTEND;TZID=America/Chicago:20230911T220000
DTSTAMP:20260425T081056
CREATED:20230909T134836Z
LAST-MODIFIED:20230909T134836Z
UID:10006291-1694458800-1694469600@www.springcreekoaks.org
SUMMARY:CH 2 courts 1-6\, NHTA A2
DESCRIPTION:
URL:https://www.springcreekoaks.org/reservations/ch-2-courts-1-6-nhta-a2-3/2023-09-11/
LOCATION:TX
CATEGORIES:Tennis
END:VEVENT
BEGIN:VEVENT
DTSTART;TZID=America/Chicago:20230911T190000
DTEND;TZID=America/Chicago:20230911T200000
DTSTAMP:20260425T081056
CREATED:20230814T131523Z
LAST-MODIFIED:20230814T131523Z
UID:10005879-1694458800-1694462400@www.springcreekoaks.org
SUMMARY:Kuehnle courts 3-4\, Adult drop-in drill\, all levels
DESCRIPTION:
URL:https://www.springcreekoaks.org/reservations/kuehnle-courts-3-4-adult-drop-in-drill-all-levels/2023-09-11/
LOCATION:TX
CATEGORIES:Tennis
END:VEVENT
BEGIN:VEVENT
DTSTART;TZID=America/Chicago:20230911T180000
DTEND;TZID=America/Chicago:20230911T210000
DTSTAMP:20260425T081056
CREATED:20220721T213401Z
LAST-MODIFIED:20230116T204916Z
UID:10004191-1694455200-1694466000@www.springcreekoaks.org
SUMMARY:SCO Board Meeting CH2
DESCRIPTION:
URL:https://www.springcreekoaks.org/reservations/sco-board-meeting-ch2/2023-09-11/
LOCATION:Clubhouse 2\, 6002 Bur Oak Dr\, Spring\, 77379\, United States
CATEGORIES:Clubhouses
GEO:30.037539;-95.5070911
X-APPLE-STRUCTURED-LOCATION;VALUE=URI;X-ADDRESS=Clubhouse 2 6002 Bur Oak Dr Spring 77379 United States;X-APPLE-RADIUS=500;X-TITLE=6002 Bur Oak Dr:geo:-95.5070911,30.037539
END:VEVENT
BEGIN:VEVENT
DTSTART;TZID=America/Chicago:20230911T180000
DTEND;TZID=America/Chicago:20230911T200000
DTSTAMP:20260425T081056
CREATED:20230724T185620Z
LAST-MODIFIED:20231013T145755Z
UID:10003469-1694455200-1694462400@www.springcreekoaks.org
SUMMARY:Jenny Tyger (3rd graders soccer)
DESCRIPTION:
URL:https://www.springcreekoaks.org/reservations/jenny-tyger-3rd-graders-soccer/2023-09-11/
LOCATION:Small Soccer Field (CH 2)
CATEGORIES:Soccer Fields
END:VEVENT
BEGIN:VEVENT
DTSTART;TZID=America/Chicago:20230911T180000
DTEND;TZID=America/Chicago:20230911T190000
DTSTAMP:20260425T081056
CREATED:20230814T131344Z
LAST-MODIFIED:20230814T131344Z
UID:10005860-1694455200-1694458800@www.springcreekoaks.org
SUMMARY:Kuehnle courts 3-4\, Yellow ball class
DESCRIPTION:
URL:https://www.springcreekoaks.org/reservations/kuehnle-courts-3-4-yellow-ball-class/2023-09-11/
LOCATION:TX
CATEGORIES:Tennis
END:VEVENT
BEGIN:VEVENT
DTSTART;TZID=America/Chicago:20230911T170000
DTEND;TZID=America/Chicago:20230911T200000
DTSTAMP:20260425T081056
CREATED:20230830T115016Z
LAST-MODIFIED:20230830T115016Z
UID:10001282-1694451600-1694462400@www.springcreekoaks.org
SUMMARY:Girls Lacrosse
DESCRIPTION:
URL:https://www.springcreekoaks.org/reservations/girls-lacrosse/2023-09-11/
LOCATION:Large Soccer Field (Bilma)\, United States
CATEGORIES:Soccer Fields
END:VEVENT
BEGIN:VEVENT
DTSTART;TZID=America/Chicago:20230911T170000
DTEND;TZID=America/Chicago:20230911T180000
DTSTAMP:20260425T081056
CREATED:20230814T131224Z
LAST-MODIFIED:20230814T131224Z
UID:10005841-1694451600-1694455200@www.springcreekoaks.org
SUMMARY:Kuehnle courts 3-4\, Orange ball class
DESCRIPTION:
URL:https://www.springcreekoaks.org/reservations/kuehnle-courts-3-4-orange-ball-class/2023-09-11/
LOCATION:TX
CATEGORIES:Tennis
END:VEVENT
BEGIN:VEVENT
DTSTART;TZID=America/Chicago:20230911T160000
DTEND;TZID=America/Chicago:20230911T200000
DTSTAMP:20260425T081056
CREATED:20230828T175357Z
LAST-MODIFIED:20230828T175820Z
UID:10003630-1694448000-1694462400@www.springcreekoaks.org
SUMMARY:Field 4 - Blue Rocks - 7U
DESCRIPTION:
URL:https://www.springcreekoaks.org/reservations/field-4-ibrahim-7u/2023-09-11/
LOCATION:Baseball Field 4\, United States
CATEGORIES:Baseball Fields
END:VEVENT
BEGIN:VEVENT
DTSTART;TZID=America/Chicago:20230911T160000
DTEND;TZID=America/Chicago:20230911T200000
DTSTAMP:20260425T081056
CREATED:20230824T141412Z
LAST-MODIFIED:20230824T141412Z
UID:10006186-1694448000-1694462400@www.springcreekoaks.org
SUMMARY:Field 3 - Jaguars - 14U
DESCRIPTION:
URL:https://www.springcreekoaks.org/reservations/field-3-jaguars-14u-2/2023-09-11/
LOCATION:Baseball Field 3\, United States
CATEGORIES:Baseball Fields
END:VEVENT
BEGIN:VEVENT
DTSTART;TZID=America/Chicago:20230911T160000
DTEND;TZID=America/Chicago:20230911T200000
DTSTAMP:20260425T081056
CREATED:20230710T115703Z
LAST-MODIFIED:20230710T115703Z
UID:10005778-1694448000-1694462400@www.springcreekoaks.org
SUMMARY:Field 2 - Orioles - 11U
DESCRIPTION:
URL:https://www.springcreekoaks.org/reservations/field-2-orioles-11u/2023-09-11/
LOCATION:Baseball Field 2\, United States
CATEGORIES:Baseball Fields
END:VEVENT
BEGIN:VEVENT
DTSTART;TZID=America/Chicago:20230911T160000
DTEND;TZID=America/Chicago:20230911T200000
DTSTAMP:20260425T081056
CREATED:20230703T125231Z
LAST-MODIFIED:20230703T125231Z
UID:10005728-1694448000-1694462400@www.springcreekoaks.org
SUMMARY:Field 1 - Texas Havoc - 10U
DESCRIPTION:
URL:https://www.springcreekoaks.org/reservations/field-1-texas-havoc-10u/2023-09-11/
LOCATION:Baseball Field 1\, United States
CATEGORIES:Baseball Fields
END:VEVENT
BEGIN:VEVENT
DTSTART;TZID=America/Chicago:20230911T100000
DTEND;TZID=America/Chicago:20230911T110000
DTSTAMP:20260425T081056
CREATED:20230814T131112Z
LAST-MODIFIED:20230814T131112Z
UID:10005822-1694426400-1694430000@www.springcreekoaks.org
SUMMARY:Kuehnle courts 3-4\, Intermediate Home School class
DESCRIPTION:
URL:https://www.springcreekoaks.org/reservations/kuehnle-courts-3-4-intermediate-home-school-class/2023-09-11/
LOCATION:TX
CATEGORIES:Tennis
END:VEVENT
BEGIN:VEVENT
DTSTART;TZID=America/Chicago:20230911T090000
DTEND;TZID=America/Chicago:20230911T140000
DTSTAMP:20260425T081056
CREATED:20230328T012811Z
LAST-MODIFIED:20230328T012811Z
UID:10002173-1694422800-1694440800@www.springcreekoaks.org
SUMMARY:SCO Tennis Camp CH2
DESCRIPTION:
URL:https://www.springcreekoaks.org/reservations/sco-tennis-camp-ch2-3/2023-09-11/
LOCATION:Clubhouse 2\, 6002 Bur Oak Dr\, Spring\, 77379\, United States
CATEGORIES:Clubhouses
GEO:30.037539;-95.5070911
X-APPLE-STRUCTURED-LOCATION;VALUE=URI;X-ADDRESS=Clubhouse 2 6002 Bur Oak Dr Spring 77379 United States;X-APPLE-RADIUS=500;X-TITLE=6002 Bur Oak Dr:geo:-95.5070911,30.037539
END:VEVENT
BEGIN:VEVENT
DTSTART;TZID=America/Chicago:20230911T083000
DTEND;TZID=America/Chicago:20230911T120000
DTSTAMP:20260425T081056
CREATED:20230823T105349Z
LAST-MODIFIED:20230823T105349Z
UID:10006104-1694421000-1694433600@www.springcreekoaks.org
SUMMARY:CH 2 courts 1-4\, HLTA Champ 2 North
DESCRIPTION:
URL:https://www.springcreekoaks.org/reservations/ch-2-courts-1-4-hlta-champ-2-north-4/2023-09-11/
LOCATION:TX
CATEGORIES:Tennis
END:VEVENT
BEGIN:VEVENT
DTSTART;TZID=America/Chicago:20230911T083000
DTEND;TZID=America/Chicago:20230911T100000
DTSTAMP:20260425T081056
CREATED:20230814T130951Z
LAST-MODIFIED:20230814T130951Z
UID:10003569-1694421000-1694426400@www.springcreekoaks.org
SUMMARY:Kuehnle courts 3-4\, Ladies open drill\, tennis pro Danny
DESCRIPTION:
URL:https://www.springcreekoaks.org/reservations/kuehnle-courts-3-4-ladies-open-drill-tennis-pro-danny/2023-09-11/
LOCATION:TX
CATEGORIES:Tennis
END:VEVENT
BEGIN:VEVENT
DTSTART;TZID=America/Chicago:20230910T090000
DTEND;TZID=America/Chicago:20230910T140000
DTSTAMP:20260425T081056
CREATED:20230328T012811Z
LAST-MODIFIED:20230328T012811Z
UID:10002172-1694336400-1694354400@www.springcreekoaks.org
SUMMARY:SCO Tennis Camp CH2
DESCRIPTION:
URL:https://www.springcreekoaks.org/reservations/sco-tennis-camp-ch2-3/2023-09-10/
LOCATION:Clubhouse 2\, 6002 Bur Oak Dr\, Spring\, 77379\, United States
CATEGORIES:Clubhouses
GEO:30.037539;-95.5070911
X-APPLE-STRUCTURED-LOCATION;VALUE=URI;X-ADDRESS=Clubhouse 2 6002 Bur Oak Dr Spring 77379 United States;X-APPLE-RADIUS=500;X-TITLE=6002 Bur Oak Dr:geo:-95.5070911,30.037539
END:VEVENT
BEGIN:VEVENT
DTSTART;TZID=America/Chicago:20230909T090000
DTEND;TZID=America/Chicago:20230909T140000
DTSTAMP:20260425T081056
CREATED:20230328T012811Z
LAST-MODIFIED:20230328T012811Z
UID:10002171-1694250000-1694268000@www.springcreekoaks.org
SUMMARY:SCO Tennis Camp CH2
DESCRIPTION:
URL:https://www.springcreekoaks.org/reservations/sco-tennis-camp-ch2-3/2023-09-09/
LOCATION:Clubhouse 2\, 6002 Bur Oak Dr\, Spring\, 77379\, United States
CATEGORIES:Clubhouses
GEO:30.037539;-95.5070911
X-APPLE-STRUCTURED-LOCATION;VALUE=URI;X-ADDRESS=Clubhouse 2 6002 Bur Oak Dr Spring 77379 United States;X-APPLE-RADIUS=500;X-TITLE=6002 Bur Oak Dr:geo:-95.5070911,30.037539
END:VEVENT
BEGIN:VEVENT
DTSTART;TZID=America/Chicago:20230909T090000
DTEND;TZID=America/Chicago:20230909T120000
DTSTAMP:20260425T081056
CREATED:20230907T224820Z
LAST-MODIFIED:20230907T224820Z
UID:10006242-1694250000-1694260800@www.springcreekoaks.org
SUMMARY:CH 1 court 1\, Pickleball meet and greet
DESCRIPTION:
URL:https://www.springcreekoaks.org/reservations/ch-1-court-1-pickleball-meet-and-greet/2023-09-09/
LOCATION:TX
CATEGORIES:Tennis
END:VEVENT
BEGIN:VEVENT
DTSTART;TZID=America/Chicago:20230909T090000
DTEND;TZID=America/Chicago:20230909T120000
DTSTAMP:20260425T081056
CREATED:20230819T184138Z
LAST-MODIFIED:20230907T224528Z
UID:10003406-1694250000-1694260800@www.springcreekoaks.org
SUMMARY:CH 1 courts 2-3\, Palmer
DESCRIPTION:
URL:https://www.springcreekoaks.org/reservations/ch-1-courts-2-3-pickleball-meet-and-greet-5/2023-09-09/
LOCATION:TX
CATEGORIES:Tennis
END:VEVENT
BEGIN:VEVENT
DTSTART;TZID=America/Chicago:20230909T080000
DTEND;TZID=America/Chicago:20230909T110000
DTSTAMP:20260425T081056
CREATED:20230801T112011Z
LAST-MODIFIED:20230801T112011Z
UID:10003444-1694246400-1694257200@www.springcreekoaks.org
SUMMARY:Field 1 - Coyotes - 12U
DESCRIPTION:
URL:https://www.springcreekoaks.org/reservations/field-1-coyotes-12u/2023-09-09/
LOCATION:Baseball Field 1\, United States
CATEGORIES:Baseball Fields
END:VEVENT
BEGIN:VEVENT
DTSTART;TZID=America/Chicago:20230909T080000
DTEND;TZID=America/Chicago:20230909T100000
DTSTAMP:20260425T081056
CREATED:20220407T142613Z
LAST-MODIFIED:20231115T201658Z
UID:10004619-1694246400-1694253600@www.springcreekoaks.org
SUMMARY:SCO weekly pickup game (LLERENA)
DESCRIPTION:All SCO residents are invited to play and have some fun.
URL:https://www.springcreekoaks.org/reservations/llerenas-soccer-practice/2023-09-09/
LOCATION:Large Soccer Field (Bilma)\, United States
CATEGORIES:Soccer Fields
END:VEVENT
BEGIN:VEVENT
DTSTART;VALUE=DATE:20230909
DTEND;VALUE=DATE:20230910
DTSTAMP:20260425T081056
CREATED:20230909T184144Z
LAST-MODIFIED:20230909T184144Z
UID:10003755-1694217600-1694303999@www.springcreekoaks.org
SUMMARY:DENIS ch2
DESCRIPTION:
URL:https://www.springcreekoaks.org/reservations/denis-ch2-2/
LOCATION:Clubhouse 2\, 6002 Bur Oak Dr\, Spring\, 77379\, United States
CATEGORIES:Clubhouses
GEO:30.037539;-95.5070911
X-APPLE-STRUCTURED-LOCATION;VALUE=URI;X-ADDRESS=Clubhouse 2 6002 Bur Oak Dr Spring 77379 United States;X-APPLE-RADIUS=500;X-TITLE=6002 Bur Oak Dr:geo:-95.5070911,30.037539
END:VEVENT
BEGIN:VEVENT
DTSTART;TZID=America/Chicago:20230908T180000
DTEND;TZID=America/Chicago:20230908T190000
DTSTAMP:20260425T081056
CREATED:20230814T133222Z
LAST-MODIFIED:20230814T133222Z
UID:10006087-1694196000-1694199600@www.springcreekoaks.org
SUMMARY:Kuehnle courts 3-4\, Yellow ball class
DESCRIPTION:
URL:https://www.springcreekoaks.org/reservations/kuehnle-courts-3-4-yellow-ball-class-5/2023-09-08/
LOCATION:TX
CATEGORIES:Tennis
END:VEVENT
BEGIN:VEVENT
DTSTART;TZID=America/Chicago:20230908T090000
DTEND;TZID=America/Chicago:20230908T140000
DTSTAMP:20260425T081056
CREATED:20230328T012811Z
LAST-MODIFIED:20230328T012811Z
UID:10002170-1694163600-1694181600@www.springcreekoaks.org
SUMMARY:SCO Tennis Camp CH2
DESCRIPTION:
URL:https://www.springcreekoaks.org/reservations/sco-tennis-camp-ch2-3/2023-09-08/
LOCATION:Clubhouse 2\, 6002 Bur Oak Dr\, Spring\, 77379\, United States
CATEGORIES:Clubhouses
GEO:30.037539;-95.5070911
X-APPLE-STRUCTURED-LOCATION;VALUE=URI;X-ADDRESS=Clubhouse 2 6002 Bur Oak Dr Spring 77379 United States;X-APPLE-RADIUS=500;X-TITLE=6002 Bur Oak Dr:geo:-95.5070911,30.037539
END:VEVENT
BEGIN:VEVENT
DTSTART;TZID=America/Chicago:20230908T083000
DTEND;TZID=America/Chicago:20230908T113000
DTSTAMP:20260425T081056
CREATED:20230907T213410Z
LAST-MODIFIED:20230907T213410Z
UID:10006241-1694161800-1694172600@www.springcreekoaks.org
SUMMARY:CH 2 courts 3 and 6\, Hudson
DESCRIPTION:
URL:https://www.springcreekoaks.org/reservations/ch-2-courts-3-and-6-hudson/
LOCATION:TX
CATEGORIES:Tennis
END:VEVENT
BEGIN:VEVENT
DTSTART;TZID=America/Chicago:20230907T180000
DTEND;TZID=America/Chicago:20230907T220000
DTSTAMP:20260425T081056
CREATED:20230906T013717Z
LAST-MODIFIED:20230906T013717Z
UID:10003627-1694109600-1694124000@www.springcreekoaks.org
SUMMARY:Bowman CH1 courts
DESCRIPTION:
URL:https://www.springcreekoaks.org/reservations/bowman-ch1-courts/
LOCATION:CH 1 Tennis Courts\, 17111 Misty Creek Dr\, Spring\, TX\, 77379\, United States
CATEGORIES:Tennis
GEO:30.0346602;-95.5117522
X-APPLE-STRUCTURED-LOCATION;VALUE=URI;X-ADDRESS=CH 1 Tennis Courts 17111 Misty Creek Dr Spring TX 77379 United States;X-APPLE-RADIUS=500;X-TITLE=17111 Misty Creek Dr:geo:-95.5117522,30.0346602
END:VEVENT
BEGIN:VEVENT
DTSTART;TZID=America/Chicago:20230907T180000
DTEND;TZID=America/Chicago:20230907T200000
DTSTAMP:20260425T081056
CREATED:20230724T185620Z
LAST-MODIFIED:20231013T145755Z
UID:10003468-1694109600-1694116800@www.springcreekoaks.org
SUMMARY:Jenny Tyger (3rd graders soccer)
DESCRIPTION:
URL:https://www.springcreekoaks.org/reservations/jenny-tyger-3rd-graders-soccer/2023-09-07/
LOCATION:Small Soccer Field (CH 2)
CATEGORIES:Soccer Fields
END:VEVENT
BEGIN:VEVENT
DTSTART;TZID=America/Chicago:20230907T180000
DTEND;TZID=America/Chicago:20230907T193000
DTSTAMP:20260425T081056
CREATED:20230814T133101Z
LAST-MODIFIED:20230814T133101Z
UID:10006068-1694109600-1694115000@www.springcreekoaks.org
SUMMARY:Kuehnle courts 3-4\, Yellow ball class
DESCRIPTION:
URL:https://www.springcreekoaks.org/reservations/kuehnle-courts-3-4-yellow-ball-class-4/2023-09-07/
LOCATION:TX
CATEGORIES:Tennis
END:VEVENT
BEGIN:VEVENT
DTSTART;TZID=America/Chicago:20230907T170000
DTEND;TZID=America/Chicago:20230907T220000
DTSTAMP:20260425T081056
CREATED:20230129T135835Z
LAST-MODIFIED:20230129T135835Z
UID:10001848-1694106000-1694124000@www.springcreekoaks.org
SUMMARY:Bilma Board Meeting CH2
DESCRIPTION:
URL:https://www.springcreekoaks.org/reservations/bilma-board-meeting-ch2/2023-09-07/
LOCATION:TX
CATEGORIES:Clubhouses
END:VEVENT
BEGIN:VEVENT
DTSTART;TZID=America/Chicago:20230907T170000
DTEND;TZID=America/Chicago:20230907T210000
DTSTAMP:20260425T081056
CREATED:20191114T164535Z
LAST-MODIFIED:20191114T164535Z
UID:10000353-1694106000-1694120400@www.springcreekoaks.org
SUMMARY:CH2 5pm-9pm Waterboard Monthly Meeting
DESCRIPTION:
URL:https://www.springcreekoaks.org/reservations/ch2-5pm-9pm-waterboard-monthly-meeting/2023-09-07/
LOCATION:Clubhouse 2\, 6002 Bur Oak Dr\, Spring\, 77379\, United States
CATEGORIES:Clubhouses
GEO:30.037539;-95.5070911
X-APPLE-STRUCTURED-LOCATION;VALUE=URI;X-ADDRESS=Clubhouse 2 6002 Bur Oak Dr Spring 77379 United States;X-APPLE-RADIUS=500;X-TITLE=6002 Bur Oak Dr:geo:-95.5070911,30.037539
END:VEVENT
END:VCALENDAR