BEGIN:VCALENDAR
VERSION:2.0
PRODID:-//Spring Creek Oaks - ECPv6.15.20//NONSGML v1.0//EN
CALSCALE:GREGORIAN
METHOD:PUBLISH
X-WR-CALNAME:Spring Creek Oaks
X-ORIGINAL-URL:https://www.springcreekoaks.org
X-WR-CALDESC:Events for Spring Creek Oaks
REFRESH-INTERVAL;VALUE=DURATION:PT1H
X-Robots-Tag:noindex
X-PUBLISHED-TTL:PT1H
BEGIN:VTIMEZONE
TZID:America/Chicago
BEGIN:DAYLIGHT
TZOFFSETFROM:-0600
TZOFFSETTO:-0500
TZNAME:CDT
DTSTART:20200308T080000
END:DAYLIGHT
BEGIN:STANDARD
TZOFFSETFROM:-0500
TZOFFSETTO:-0600
TZNAME:CST
DTSTART:20201101T070000
END:STANDARD
BEGIN:DAYLIGHT
TZOFFSETFROM:-0600
TZOFFSETTO:-0500
TZNAME:CDT
DTSTART:20210314T080000
END:DAYLIGHT
BEGIN:STANDARD
TZOFFSETFROM:-0500
TZOFFSETTO:-0600
TZNAME:CST
DTSTART:20211107T070000
END:STANDARD
BEGIN:DAYLIGHT
TZOFFSETFROM:-0600
TZOFFSETTO:-0500
TZNAME:CDT
DTSTART:20220313T080000
END:DAYLIGHT
BEGIN:STANDARD
TZOFFSETFROM:-0500
TZOFFSETTO:-0600
TZNAME:CST
DTSTART:20221106T070000
END:STANDARD
END:VTIMEZONE
BEGIN:VEVENT
DTSTART;VALUE=DATE:20211226
DTEND;VALUE=DATE:20211227
DTSTAMP:20260422T225842
CREATED:20211123T014722Z
LAST-MODIFIED:20211123T014722Z
UID:10004047-1640476800-1640563199@www.springcreekoaks.org
SUMMARY:Smith CH1
DESCRIPTION:
URL:https://www.springcreekoaks.org/reservations/smith-ch1-4/
LOCATION:Clubhouse 1\, 17111 Misty Creek\, Spring\, TX\, 77379\, United States
CATEGORIES:Clubhouses
GEO:30.0346602;-95.5117522
X-APPLE-STRUCTURED-LOCATION;VALUE=URI;X-ADDRESS=Clubhouse 1 17111 Misty Creek Spring TX 77379 United States;X-APPLE-RADIUS=500;X-TITLE=17111 Misty Creek:geo:-95.5117522,30.0346602
END:VEVENT
BEGIN:VEVENT
DTSTART;TZID=America/Chicago:20211225T090000
DTEND;TZID=America/Chicago:20211225T120000
DTSTAMP:20260422T225842
CREATED:20211120T135241Z
LAST-MODIFIED:20211120T135241Z
UID:10004039-1640422800-1640433600@www.springcreekoaks.org
SUMMARY:Ch 2 court 1\, Camp
DESCRIPTION:
URL:https://www.springcreekoaks.org/reservations/ch-2-court-1-camp-4/2021-12-25/
CATEGORIES:Tennis
END:VEVENT
BEGIN:VEVENT
DTSTART;TZID=America/Chicago:20211225T080000
DTEND;TZID=America/Chicago:20211225T103000
DTSTAMP:20260422T225842
CREATED:20200805T161253Z
LAST-MODIFIED:20200805T161253Z
UID:10001122-1640419200-1640428200@www.springcreekoaks.org
SUMMARY:LLERENA (Big Soccer Field)
DESCRIPTION:
URL:https://www.springcreekoaks.org/reservations/llerena-big-soccer-field/2021-12-25/
CATEGORIES:Soccer Fields
END:VEVENT
BEGIN:VEVENT
DTSTART;TZID=America/Chicago:20211224T160000
DTEND;TZID=America/Chicago:20211224T190000
DTSTAMP:20260422T225842
CREATED:20240109T180922Z
LAST-MODIFIED:20240109T180922Z
UID:10003960-1640361600-1640372400@www.springcreekoaks.org
SUMMARY:CH 2 courts 1-3\, Tennis Pro Danny
DESCRIPTION:
URL:https://www.springcreekoaks.org/reservations/ch-2-courts-1-3-tennis-pro-danny/2021-12-24/
CATEGORIES:Tennis
END:VEVENT
BEGIN:VEVENT
DTSTART;TZID=America/Chicago:20211224T080000
DTEND;TZID=America/Chicago:20211224T170000
DTSTAMP:20260422T225842
CREATED:20211130T203827Z
LAST-MODIFIED:20211130T203827Z
UID:10004124-1640332800-1640365200@www.springcreekoaks.org
SUMMARY:Kuehnle courts 3-4\, tennis pro Danny
DESCRIPTION:
URL:https://www.springcreekoaks.org/reservations/kuehnle-courts-3-4-tennis-pro-danny-4/2021-12-24/
CATEGORIES:Tennis
END:VEVENT
BEGIN:VEVENT
DTSTART;TZID=America/Chicago:20211224T080000
DTEND;TZID=America/Chicago:20211224T120000
DTSTAMP:20260422T225842
CREATED:20240109T180915Z
LAST-MODIFIED:20240109T180915Z
UID:10003880-1640332800-1640347200@www.springcreekoaks.org
SUMMARY:CH 1 court 1\, Tennis Pro Danny
DESCRIPTION:
URL:https://www.springcreekoaks.org/reservations/ch-1-court-1-tennis-pro-danny-3/2021-12-24/
CATEGORIES:Tennis
END:VEVENT
BEGIN:VEVENT
DTSTART;TZID=America/Chicago:20211224T080000
DTEND;TZID=America/Chicago:20211224T090000
DTSTAMP:20260422T225842
CREATED:20210811T141409Z
LAST-MODIFIED:20210811T141409Z
UID:10003614-1640332800-1640336400@www.springcreekoaks.org
SUMMARY:CH 2 court 6\, Mason
DESCRIPTION:
URL:https://www.springcreekoaks.org/reservations/ch-2-court-6-mason-10/2021-12-24/
CATEGORIES:Tennis
END:VEVENT
BEGIN:VEVENT
DTSTART;VALUE=DATE:20211224
DTEND;VALUE=DATE:20211225
DTSTAMP:20260422T225842
CREATED:20211220T171339Z
LAST-MODIFIED:20211220T171339Z
UID:10000256-1640304000-1640390399@www.springcreekoaks.org
SUMMARY:Santillan CH2
DESCRIPTION:
URL:https://www.springcreekoaks.org/reservations/santillan-ch2-2/
LOCATION:Clubhouse 2\, 6002 Bur Oak Dr\, Spring\, 77379\, United States
CATEGORIES:Clubhouses
GEO:30.037539;-95.5070911
X-APPLE-STRUCTURED-LOCATION;VALUE=URI;X-ADDRESS=Clubhouse 2 6002 Bur Oak Dr Spring 77379 United States;X-APPLE-RADIUS=500;X-TITLE=6002 Bur Oak Dr:geo:-95.5070911,30.037539
END:VEVENT
BEGIN:VEVENT
DTSTART;VALUE=DATE:20211224
DTEND;VALUE=DATE:20211225
DTSTAMP:20260422T225842
CREATED:20211203T235450Z
LAST-MODIFIED:20211203T235450Z
UID:10004155-1640304000-1640390399@www.springcreekoaks.org
SUMMARY:Syzdek CH1
DESCRIPTION:
URL:https://www.springcreekoaks.org/reservations/syzdek-ch1-2/
LOCATION:Clubhouse 1\, 17111 Misty Creek\, Spring\, TX\, 77379\, United States
CATEGORIES:Clubhouses
GEO:30.0346602;-95.5117522
X-APPLE-STRUCTURED-LOCATION;VALUE=URI;X-ADDRESS=Clubhouse 1 17111 Misty Creek Spring TX 77379 United States;X-APPLE-RADIUS=500;X-TITLE=17111 Misty Creek:geo:-95.5117522,30.0346602
END:VEVENT
BEGIN:VEVENT
DTSTART;TZID=America/Chicago:20211223T160000
DTEND;TZID=America/Chicago:20211223T190000
DTSTAMP:20260422T225842
CREATED:20240109T180921Z
LAST-MODIFIED:20240109T180921Z
UID:10003944-1640275200-1640286000@www.springcreekoaks.org
SUMMARY:CH 2 courts 1-3\, Tennis Pro Danny
DESCRIPTION:
URL:https://www.springcreekoaks.org/reservations/ch-2-courts-1-3-tennis-pro-danny/2021-12-23/
CATEGORIES:Tennis
END:VEVENT
BEGIN:VEVENT
DTSTART;TZID=America/Chicago:20211223T090000
DTEND;TZID=America/Chicago:20211223T130000
DTSTAMP:20260422T225842
CREATED:20211204T000536Z
LAST-MODIFIED:20211204T000536Z
UID:10004159-1640250000-1640264400@www.springcreekoaks.org
SUMMARY:Tennis camp CH2
DESCRIPTION:
URL:https://www.springcreekoaks.org/reservations/tennis-camp-ch2-3/2021-12-23/
CATEGORIES:Clubhouses
END:VEVENT
BEGIN:VEVENT
DTSTART;TZID=America/Chicago:20211223T080000
DTEND;TZID=America/Chicago:20211223T140000
DTSTAMP:20260422T225842
CREATED:20211201T230238Z
LAST-MODIFIED:20211201T230238Z
UID:10004147-1640246400-1640268000@www.springcreekoaks.org
SUMMARY:Ch 2 courts 1-3\, Winter camp
DESCRIPTION:
URL:https://www.springcreekoaks.org/reservations/ch-2-courts-1-3-winter-camp/2021-12-23/
CATEGORIES:Tennis
END:VEVENT
BEGIN:VEVENT
DTSTART;TZID=America/Chicago:20211223T080000
DTEND;TZID=America/Chicago:20211223T120000
DTSTAMP:20260422T225842
CREATED:20240109T180915Z
LAST-MODIFIED:20240109T180915Z
UID:10003864-1640246400-1640260800@www.springcreekoaks.org
SUMMARY:CH 1 court 1\, Tennis Pro Danny
DESCRIPTION:
URL:https://www.springcreekoaks.org/reservations/ch-1-court-1-tennis-pro-danny-3/2021-12-23/
CATEGORIES:Tennis
END:VEVENT
BEGIN:VEVENT
DTSTART;TZID=America/Chicago:20211222T180000
DTEND;TZID=America/Chicago:20211222T200000
DTSTAMP:20260422T225842
CREATED:20210824T133805Z
LAST-MODIFIED:20210824T133806Z
UID:10003782-1640196000-1640203200@www.springcreekoaks.org
SUMMARY:10U LIONS (Flag Football) Coach Stansifer
DESCRIPTION:
URL:https://www.springcreekoaks.org/reservations/10u-lions-flag-football-coach-stansifer-2/2021-12-22/
LOCATION:Small Soccer Field (CH 2)
CATEGORIES:Soccer Fields
END:VEVENT
BEGIN:VEVENT
DTSTART;TZID=America/Chicago:20211222T180000
DTEND;TZID=America/Chicago:20211222T200000
DTSTAMP:20260422T225842
CREATED:20200805T160749Z
LAST-MODIFIED:20200805T161100Z
UID:10001362-1640196000-1640203200@www.springcreekoaks.org
SUMMARY:CIFUENTES (Big Soccer Field)
DESCRIPTION:
URL:https://www.springcreekoaks.org/reservations/cifuentes-open-play-big-soccer-field/2021-12-22/
CATEGORIES:Soccer Fields
END:VEVENT
BEGIN:VEVENT
DTSTART;TZID=America/Chicago:20211222T160000
DTEND;TZID=America/Chicago:20211222T190000
DTSTAMP:20260422T225842
CREATED:20240109T180921Z
LAST-MODIFIED:20240109T180921Z
UID:10003928-1640188800-1640199600@www.springcreekoaks.org
SUMMARY:CH 2 courts 1-3\, Tennis Pro Danny
DESCRIPTION:
URL:https://www.springcreekoaks.org/reservations/ch-2-courts-1-3-tennis-pro-danny/2021-12-22/
CATEGORIES:Tennis
END:VEVENT
BEGIN:VEVENT
DTSTART;TZID=America/Chicago:20211222T090000
DTEND;TZID=America/Chicago:20211222T130000
DTSTAMP:20260422T225842
CREATED:20211204T000536Z
LAST-MODIFIED:20211204T000536Z
UID:10004158-1640163600-1640178000@www.springcreekoaks.org
SUMMARY:Tennis camp CH2
DESCRIPTION:
URL:https://www.springcreekoaks.org/reservations/tennis-camp-ch2-3/2021-12-22/
CATEGORIES:Clubhouses
END:VEVENT
BEGIN:VEVENT
DTSTART;TZID=America/Chicago:20211222T090000
DTEND;TZID=America/Chicago:20211222T120000
DTSTAMP:20260422T225842
CREATED:20211120T135534Z
LAST-MODIFIED:20211201T230637Z
UID:10004044-1640163600-1640174400@www.springcreekoaks.org
SUMMARY:Ch 2 courts 4-5\, Camp
DESCRIPTION:
URL:https://www.springcreekoaks.org/reservations/ch-2-courts-1-2-camp-2-2021-12-22/
CATEGORIES:Tennis
END:VEVENT
BEGIN:VEVENT
DTSTART;TZID=America/Chicago:20211222T080000
DTEND;TZID=America/Chicago:20211222T140000
DTSTAMP:20260422T225842
CREATED:20211201T230238Z
LAST-MODIFIED:20211201T230238Z
UID:10004146-1640160000-1640181600@www.springcreekoaks.org
SUMMARY:Ch 2 courts 1-3\, Winter camp
DESCRIPTION:
URL:https://www.springcreekoaks.org/reservations/ch-2-courts-1-3-winter-camp/2021-12-22/
CATEGORIES:Tennis
END:VEVENT
BEGIN:VEVENT
DTSTART;TZID=America/Chicago:20211222T080000
DTEND;TZID=America/Chicago:20211222T120000
DTSTAMP:20260422T225842
CREATED:20210914T223912Z
LAST-MODIFIED:20210914T223912Z
UID:10003848-1640160000-1640174400@www.springcreekoaks.org
SUMMARY:CH 1 court 1\, Tennis Pro Danny
DESCRIPTION:
URL:https://www.springcreekoaks.org/reservations/ch-1-court-1-tennis-pro-danny-3/2021-12-22/
CATEGORIES:Tennis
END:VEVENT
BEGIN:VEVENT
DTSTART;TZID=America/Chicago:20211222T080000
DTEND;TZID=America/Chicago:20211222T120000
DTSTAMP:20260422T225842
CREATED:20210512T162316Z
LAST-MODIFIED:20210512T162316Z
UID:10003276-1640160000-1640174400@www.springcreekoaks.org
SUMMARY:CH 1 courts 2-3 (pickleball)\, Hudson
DESCRIPTION:
URL:https://www.springcreekoaks.org/reservations/ch-1-courts-2-3-pickleball-hudson/2021-12-22/
CATEGORIES:Tennis
END:VEVENT
BEGIN:VEVENT
DTSTART;TZID=America/Chicago:20211221T160000
DTEND;TZID=America/Chicago:20211221T210000
DTSTAMP:20260422T225842
CREATED:20210908T200056Z
LAST-MODIFIED:20210908T200056Z
UID:10003791-1640102400-1640120400@www.springcreekoaks.org
SUMMARY:Pack CH2
DESCRIPTION:
URL:https://www.springcreekoaks.org/reservations/pack-ch2/
LOCATION:Clubhouse 2\, 6002 Bur Oak Dr\, Spring\, 77379\, United States
CATEGORIES:Clubhouses
GEO:30.037539;-95.5070911
X-APPLE-STRUCTURED-LOCATION;VALUE=URI;X-ADDRESS=Clubhouse 2 6002 Bur Oak Dr Spring 77379 United States;X-APPLE-RADIUS=500;X-TITLE=6002 Bur Oak Dr:geo:-95.5070911,30.037539
END:VEVENT
BEGIN:VEVENT
DTSTART;TZID=America/Chicago:20211221T160000
DTEND;TZID=America/Chicago:20211221T190000
DTSTAMP:20260422T225842
CREATED:20210914T224140Z
LAST-MODIFIED:20210914T224140Z
UID:10003897-1640102400-1640113200@www.springcreekoaks.org
SUMMARY:CH 2 courts 1-3\, Tennis Pro Danny
DESCRIPTION:
URL:https://www.springcreekoaks.org/reservations/ch-2-courts-1-3-tennis-pro-danny/2021-12-21/
CATEGORIES:Tennis
END:VEVENT
BEGIN:VEVENT
DTSTART;TZID=America/Chicago:20211221T090000
DTEND;TZID=America/Chicago:20211221T130000
DTSTAMP:20260422T225842
CREATED:20211204T000536Z
LAST-MODIFIED:20211204T000536Z
UID:10004157-1640077200-1640091600@www.springcreekoaks.org
SUMMARY:Tennis camp CH2
DESCRIPTION:
URL:https://www.springcreekoaks.org/reservations/tennis-camp-ch2-3/2021-12-21/
CATEGORIES:Clubhouses
END:VEVENT
BEGIN:VEVENT
DTSTART;TZID=America/Chicago:20211221T080000
DTEND;TZID=America/Chicago:20211221T140000
DTSTAMP:20260422T225842
CREATED:20211201T230238Z
LAST-MODIFIED:20211201T230238Z
UID:10004145-1640073600-1640095200@www.springcreekoaks.org
SUMMARY:Ch 2 courts 1-3\, Winter camp
DESCRIPTION:
URL:https://www.springcreekoaks.org/reservations/ch-2-courts-1-3-winter-camp/2021-12-21/
CATEGORIES:Tennis
END:VEVENT
BEGIN:VEVENT
DTSTART;TZID=America/Chicago:20211221T080000
DTEND;TZID=America/Chicago:20211221T090000
DTSTAMP:20260422T225842
CREATED:20210811T141524Z
LAST-MODIFIED:20210811T141524Z
UID:10003675-1640073600-1640077200@www.springcreekoaks.org
SUMMARY:CH 2 court 6\, Mason
DESCRIPTION:
URL:https://www.springcreekoaks.org/reservations/ch-2-court-6-mason-11/2021-12-21/
CATEGORIES:Tennis
END:VEVENT
BEGIN:VEVENT
DTSTART;TZID=America/Chicago:20211220T160000
DTEND;TZID=America/Chicago:20211220T190000
DTSTAMP:20260422T225842
CREATED:20240109T180920Z
LAST-MODIFIED:20240109T180920Z
UID:10003912-1640016000-1640026800@www.springcreekoaks.org
SUMMARY:CH 2 courts 1-3\, Tennis Pro Danny
DESCRIPTION:
URL:https://www.springcreekoaks.org/reservations/ch-2-courts-1-3-tennis-pro-danny/2021-12-20/
CATEGORIES:Tennis
END:VEVENT
BEGIN:VEVENT
DTSTART;TZID=America/Chicago:20211220T090000
DTEND;TZID=America/Chicago:20211220T130000
DTSTAMP:20260422T225842
CREATED:20211204T000536Z
LAST-MODIFIED:20211204T000536Z
UID:10004156-1639990800-1640005200@www.springcreekoaks.org
SUMMARY:Tennis camp CH2
DESCRIPTION:
URL:https://www.springcreekoaks.org/reservations/tennis-camp-ch2-3/2021-12-20/
CATEGORIES:Clubhouses
END:VEVENT
BEGIN:VEVENT
DTSTART;TZID=America/Chicago:20211220T080000
DTEND;TZID=America/Chicago:20211220T140000
DTSTAMP:20260422T225842
CREATED:20211201T230238Z
LAST-MODIFIED:20211201T230238Z
UID:10004144-1639987200-1640008800@www.springcreekoaks.org
SUMMARY:Ch 2 courts 1-3\, Winter camp
DESCRIPTION:
URL:https://www.springcreekoaks.org/reservations/ch-2-courts-1-3-winter-camp/2021-12-20/
CATEGORIES:Tennis
END:VEVENT
BEGIN:VEVENT
DTSTART;VALUE=DATE:20211219
DTEND;VALUE=DATE:20211220
DTSTAMP:20260422T225842
CREATED:20211107T181516Z
LAST-MODIFIED:20211107T181516Z
UID:10004012-1639872000-1639958399@www.springcreekoaks.org
SUMMARY:Klein CH 2
DESCRIPTION:
URL:https://www.springcreekoaks.org/reservations/klein-ch-2/
LOCATION:Clubhouse 2\, 6002 Bur Oak Dr\, Spring\, 77379\, United States
CATEGORIES:Clubhouses
GEO:30.037539;-95.5070911
X-APPLE-STRUCTURED-LOCATION;VALUE=URI;X-ADDRESS=Clubhouse 2 6002 Bur Oak Dr Spring 77379 United States;X-APPLE-RADIUS=500;X-TITLE=6002 Bur Oak Dr:geo:-95.5070911,30.037539
END:VEVENT
END:VCALENDAR