BEGIN:VCALENDAR
VERSION:2.0
PRODID:-//Spring Creek Oaks - ECPv6.15.20//NONSGML v1.0//EN
CALSCALE:GREGORIAN
METHOD:PUBLISH
X-WR-CALNAME:Spring Creek Oaks
X-ORIGINAL-URL:https://www.springcreekoaks.org
X-WR-CALDESC:Events for Spring Creek Oaks
REFRESH-INTERVAL;VALUE=DURATION:PT1H
X-Robots-Tag:noindex
X-PUBLISHED-TTL:PT1H
BEGIN:VTIMEZONE
TZID:America/Chicago
BEGIN:DAYLIGHT
TZOFFSETFROM:-0600
TZOFFSETTO:-0500
TZNAME:CDT
DTSTART:20200308T080000
END:DAYLIGHT
BEGIN:STANDARD
TZOFFSETFROM:-0500
TZOFFSETTO:-0600
TZNAME:CST
DTSTART:20201101T070000
END:STANDARD
BEGIN:DAYLIGHT
TZOFFSETFROM:-0600
TZOFFSETTO:-0500
TZNAME:CDT
DTSTART:20210314T080000
END:DAYLIGHT
BEGIN:STANDARD
TZOFFSETFROM:-0500
TZOFFSETTO:-0600
TZNAME:CST
DTSTART:20211107T070000
END:STANDARD
BEGIN:DAYLIGHT
TZOFFSETFROM:-0600
TZOFFSETTO:-0500
TZNAME:CDT
DTSTART:20220313T080000
END:DAYLIGHT
BEGIN:STANDARD
TZOFFSETFROM:-0500
TZOFFSETTO:-0600
TZNAME:CST
DTSTART:20221106T070000
END:STANDARD
END:VTIMEZONE
BEGIN:VEVENT
DTSTART;TZID=America/Chicago:20211016T080000
DTEND;TZID=America/Chicago:20211016T103000
DTSTAMP:20260422T165951
CREATED:20200805T161253Z
LAST-MODIFIED:20200805T161253Z
UID:10001112-1634371200-1634380200@www.springcreekoaks.org
SUMMARY:LLERENA (Big Soccer Field)
DESCRIPTION:
URL:https://www.springcreekoaks.org/reservations/llerena-big-soccer-field/2021-10-16/
CATEGORIES:Soccer Fields
END:VEVENT
BEGIN:VEVENT
DTSTART;VALUE=DATE:20211016
DTEND;VALUE=DATE:20211017
DTSTAMP:20260422T165951
CREATED:20210824T004121Z
LAST-MODIFIED:20210827T003133Z
UID:10003732-1634342400-1634428799@www.springcreekoaks.org
SUMMARY:Estrada CH2
DESCRIPTION:
URL:https://www.springcreekoaks.org/reservations/estrada-ch2-2/
LOCATION:Clubhouse 2\, 6002 Bur Oak Dr\, Spring\, 77379\, United States
CATEGORIES:Clubhouses
GEO:30.037539;-95.5070911
X-APPLE-STRUCTURED-LOCATION;VALUE=URI;X-ADDRESS=Clubhouse 2 6002 Bur Oak Dr Spring 77379 United States;X-APPLE-RADIUS=500;X-TITLE=6002 Bur Oak Dr:geo:-95.5070911,30.037539
END:VEVENT
BEGIN:VEVENT
DTSTART;TZID=America/Chicago:20211015T160000
DTEND;TZID=America/Chicago:20211015T190000
DTSTAMP:20260422T165951
CREATED:20240109T180922Z
LAST-MODIFIED:20240109T180922Z
UID:10003950-1634313600-1634324400@www.springcreekoaks.org
SUMMARY:CH 2 courts 1-3\, Tennis Pro Danny
DESCRIPTION:
URL:https://www.springcreekoaks.org/reservations/ch-2-courts-1-3-tennis-pro-danny/2021-10-15/
CATEGORIES:Tennis
END:VEVENT
BEGIN:VEVENT
DTSTART;TZID=America/Chicago:20211015T083000
DTEND;TZID=America/Chicago:20211015T120000
DTSTAMP:20260422T165951
CREATED:20210818T183307Z
LAST-MODIFIED:20210818T183307Z
UID:10003742-1634286600-1634299200@www.springcreekoaks.org
SUMMARY:CH 2 courts 1-4\, JR A-2
DESCRIPTION:
URL:https://www.springcreekoaks.org/reservations/ch-2-courts-1-4-jr-a-2/2021-10-15/
CATEGORIES:Tennis
END:VEVENT
BEGIN:VEVENT
DTSTART;TZID=America/Chicago:20211015T080000
DTEND;TZID=America/Chicago:20211015T120000
DTSTAMP:20260422T165951
CREATED:20240109T180915Z
LAST-MODIFIED:20240109T180915Z
UID:10003870-1634284800-1634299200@www.springcreekoaks.org
SUMMARY:CH 1 court 1\, Tennis Pro Danny
DESCRIPTION:
URL:https://www.springcreekoaks.org/reservations/ch-1-court-1-tennis-pro-danny-3/2021-10-15/
CATEGORIES:Tennis
END:VEVENT
BEGIN:VEVENT
DTSTART;TZID=America/Chicago:20211015T080000
DTEND;TZID=America/Chicago:20211015T120000
DTSTAMP:20260422T165951
CREATED:20211015T124341Z
LAST-MODIFIED:20211015T124341Z
UID:10003999-1634284800-1634299200@www.springcreekoaks.org
SUMMARY:Kuehnle courts 1-4\, Junek
DESCRIPTION:
URL:https://www.springcreekoaks.org/reservations/kuehnle-courts-1-4-junek-2/
CATEGORIES:Tennis
END:VEVENT
BEGIN:VEVENT
DTSTART;TZID=America/Chicago:20211015T080000
DTEND;TZID=America/Chicago:20211015T090000
DTSTAMP:20260422T165951
CREATED:20210811T141409Z
LAST-MODIFIED:20210811T141409Z
UID:10003604-1634284800-1634288400@www.springcreekoaks.org
SUMMARY:CH 2 court 6\, Mason
DESCRIPTION:
URL:https://www.springcreekoaks.org/reservations/ch-2-court-6-mason-10/2021-10-15/
CATEGORIES:Tennis
END:VEVENT
BEGIN:VEVENT
DTSTART;TZID=America/Chicago:20211014T160000
DTEND;TZID=America/Chicago:20211014T190000
DTSTAMP:20260422T165951
CREATED:20240109T180921Z
LAST-MODIFIED:20240109T180921Z
UID:10003934-1634227200-1634238000@www.springcreekoaks.org
SUMMARY:CH 2 courts 1-3\, Tennis Pro Danny
DESCRIPTION:
URL:https://www.springcreekoaks.org/reservations/ch-2-courts-1-3-tennis-pro-danny/2021-10-14/
CATEGORIES:Tennis
END:VEVENT
BEGIN:VEVENT
DTSTART;TZID=America/Chicago:20211014T083000
DTEND;TZID=America/Chicago:20211014T120000
DTSTAMP:20260422T165951
CREATED:20210812T105514Z
LAST-MODIFIED:20211014T122748Z
UID:10003702-1634200200-1634212800@www.springcreekoaks.org
SUMMARY:Kuehnle courts 1-4\, NWTL Junek
DESCRIPTION:
URL:https://www.springcreekoaks.org/reservations/ch-2-courts-1-4-nwtl-junek-2021-10-14/
CATEGORIES:Tennis
END:VEVENT
BEGIN:VEVENT
DTSTART;TZID=America/Chicago:20211014T080000
DTEND;TZID=America/Chicago:20211014T120000
DTSTAMP:20260422T165951
CREATED:20240109T180915Z
LAST-MODIFIED:20240109T180915Z
UID:10003854-1634198400-1634212800@www.springcreekoaks.org
SUMMARY:CH 1 court 1\, Tennis Pro Danny
DESCRIPTION:
URL:https://www.springcreekoaks.org/reservations/ch-1-court-1-tennis-pro-danny-3/2021-10-14/
CATEGORIES:Tennis
END:VEVENT
BEGIN:VEVENT
DTSTART;TZID=America/Chicago:20211013T180000
DTEND;TZID=America/Chicago:20211013T200000
DTSTAMP:20260422T165951
CREATED:20210824T133805Z
LAST-MODIFIED:20210824T133806Z
UID:10003772-1634148000-1634155200@www.springcreekoaks.org
SUMMARY:10U LIONS (Flag Football) Coach Stansifer
DESCRIPTION:
URL:https://www.springcreekoaks.org/reservations/10u-lions-flag-football-coach-stansifer-2/2021-10-13/
LOCATION:Small Soccer Field (CH 2)
CATEGORIES:Soccer Fields
END:VEVENT
BEGIN:VEVENT
DTSTART;TZID=America/Chicago:20211013T180000
DTEND;TZID=America/Chicago:20211013T200000
DTSTAMP:20260422T165951
CREATED:20200805T160749Z
LAST-MODIFIED:20200805T161100Z
UID:10001352-1634148000-1634155200@www.springcreekoaks.org
SUMMARY:CIFUENTES (Big Soccer Field)
DESCRIPTION:
URL:https://www.springcreekoaks.org/reservations/cifuentes-open-play-big-soccer-field/2021-10-13/
CATEGORIES:Soccer Fields
END:VEVENT
BEGIN:VEVENT
DTSTART;TZID=America/Chicago:20211013T160000
DTEND;TZID=America/Chicago:20211013T190000
DTSTAMP:20260422T165951
CREATED:20240109T180921Z
LAST-MODIFIED:20240109T180921Z
UID:10003918-1634140800-1634151600@www.springcreekoaks.org
SUMMARY:CH 2 courts 1-3\, Tennis Pro Danny
DESCRIPTION:
URL:https://www.springcreekoaks.org/reservations/ch-2-courts-1-3-tennis-pro-danny/2021-10-13/
CATEGORIES:Tennis
END:VEVENT
BEGIN:VEVENT
DTSTART;TZID=America/Chicago:20211013T080000
DTEND;TZID=America/Chicago:20211013T120000
DTSTAMP:20260422T165951
CREATED:20210914T223912Z
LAST-MODIFIED:20210914T223912Z
UID:10003838-1634112000-1634126400@www.springcreekoaks.org
SUMMARY:CH 1 court 1\, Tennis Pro Danny
DESCRIPTION:
URL:https://www.springcreekoaks.org/reservations/ch-1-court-1-tennis-pro-danny-3/2021-10-13/
CATEGORIES:Tennis
END:VEVENT
BEGIN:VEVENT
DTSTART;TZID=America/Chicago:20211013T080000
DTEND;TZID=America/Chicago:20211013T120000
DTSTAMP:20260422T165951
CREATED:20210512T162316Z
LAST-MODIFIED:20210512T162316Z
UID:10003266-1634112000-1634126400@www.springcreekoaks.org
SUMMARY:CH 1 courts 2-3 (pickleball)\, Hudson
DESCRIPTION:
URL:https://www.springcreekoaks.org/reservations/ch-1-courts-2-3-pickleball-hudson/2021-10-13/
CATEGORIES:Tennis
END:VEVENT
BEGIN:VEVENT
DTSTART;TZID=America/Chicago:20211012T160000
DTEND;TZID=America/Chicago:20211012T190000
DTSTAMP:20260422T165951
CREATED:20210914T224140Z
LAST-MODIFIED:20210914T224140Z
UID:10003887-1634054400-1634065200@www.springcreekoaks.org
SUMMARY:CH 2 courts 1-3\, Tennis Pro Danny
DESCRIPTION:
URL:https://www.springcreekoaks.org/reservations/ch-2-courts-1-3-tennis-pro-danny/2021-10-12/
CATEGORIES:Tennis
END:VEVENT
BEGIN:VEVENT
DTSTART;TZID=America/Chicago:20211012T083000
DTEND;TZID=America/Chicago:20211012T120000
DTSTAMP:20260422T165951
CREATED:20211006T162618Z
LAST-MODIFIED:20211006T162618Z
UID:10003992-1634027400-1634040000@www.springcreekoaks.org
SUMMARY:Kuehnle courts 1-2\, Bailey
DESCRIPTION:
URL:https://www.springcreekoaks.org/reservations/kuehnle-courts-1-2-bailey-3/
CATEGORIES:Tennis
END:VEVENT
BEGIN:VEVENT
DTSTART;TZID=America/Chicago:20211012T080000
DTEND;TZID=America/Chicago:20211012T120000
DTSTAMP:20260422T165951
CREATED:20210914T223604Z
LAST-MODIFIED:20210914T223604Z
UID:10003812-1634025600-1634040000@www.springcreekoaks.org
SUMMARY:CH 1 court 1\, Tennis Pro Danny
DESCRIPTION:
URL:https://www.springcreekoaks.org/reservations/ch-1-court-1-tennis-pro-danny/2021-10-12/
CATEGORIES:Tennis
END:VEVENT
BEGIN:VEVENT
DTSTART;TZID=America/Chicago:20211012T080000
DTEND;TZID=America/Chicago:20211012T090000
DTSTAMP:20260422T165951
CREATED:20210811T141524Z
LAST-MODIFIED:20210811T141524Z
UID:10003665-1634025600-1634029200@www.springcreekoaks.org
SUMMARY:CH 2 court 6\, Mason
DESCRIPTION:
URL:https://www.springcreekoaks.org/reservations/ch-2-court-6-mason-11/2021-10-12/
CATEGORIES:Tennis
END:VEVENT
BEGIN:VEVENT
DTSTART;TZID=America/Chicago:20211011T183000
DTEND;TZID=America/Chicago:20211011T193000
DTSTAMP:20260422T165951
CREATED:20210303T191235Z
LAST-MODIFIED:20210303T191235Z
UID:10003114-1633977000-1633980600@www.springcreekoaks.org
SUMMARY:HOA Meeting CH2
DESCRIPTION:
URL:https://www.springcreekoaks.org/reservations/hoa-meeting-ch2/2021-10-11/
LOCATION:Clubhouse 2\, 6002 Bur Oak Dr\, Spring\, 77379\, United States
CATEGORIES:Clubhouses
GEO:30.037539;-95.5070911
X-APPLE-STRUCTURED-LOCATION;VALUE=URI;X-ADDRESS=Clubhouse 2 6002 Bur Oak Dr Spring 77379 United States;X-APPLE-RADIUS=500;X-TITLE=6002 Bur Oak Dr:geo:-95.5070911,30.037539
END:VEVENT
BEGIN:VEVENT
DTSTART;TZID=America/Chicago:20211011T160000
DTEND;TZID=America/Chicago:20211011T190000
DTSTAMP:20260422T165951
CREATED:20240109T180920Z
LAST-MODIFIED:20240109T180920Z
UID:10003902-1633968000-1633978800@www.springcreekoaks.org
SUMMARY:CH 2 courts 1-3\, Tennis Pro Danny
DESCRIPTION:
URL:https://www.springcreekoaks.org/reservations/ch-2-courts-1-3-tennis-pro-danny/2021-10-11/
CATEGORIES:Tennis
END:VEVENT
BEGIN:VEVENT
DTSTART;TZID=America/Chicago:20211011T080000
DTEND;TZID=America/Chicago:20211011T120000
DTSTAMP:20260422T165952
CREATED:20210914T223709Z
LAST-MODIFIED:20210914T223709Z
UID:10003825-1633939200-1633953600@www.springcreekoaks.org
SUMMARY:CH 1 court 1\, Tennis Pro Danny
DESCRIPTION:
URL:https://www.springcreekoaks.org/reservations/ch-1-court-1-tennis-pro-danny-2/2021-10-11/
CATEGORIES:Tennis
END:VEVENT
BEGIN:VEVENT
DTSTART;TZID=America/Chicago:20211009T080000
DTEND;TZID=America/Chicago:20211009T103000
DTSTAMP:20260422T165952
CREATED:20200805T161253Z
LAST-MODIFIED:20200805T161253Z
UID:10001111-1633766400-1633775400@www.springcreekoaks.org
SUMMARY:LLERENA (Big Soccer Field)
DESCRIPTION:
URL:https://www.springcreekoaks.org/reservations/llerena-big-soccer-field/2021-10-09/
CATEGORIES:Soccer Fields
END:VEVENT
BEGIN:VEVENT
DTSTART;TZID=America/Chicago:20211008T160000
DTEND;TZID=America/Chicago:20211008T190000
DTSTAMP:20260422T165952
CREATED:20240109T180922Z
LAST-MODIFIED:20240109T180922Z
UID:10003949-1633708800-1633719600@www.springcreekoaks.org
SUMMARY:CH 2 courts 1-3\, Tennis Pro Danny
DESCRIPTION:
URL:https://www.springcreekoaks.org/reservations/ch-2-courts-1-3-tennis-pro-danny/2021-10-08/
CATEGORIES:Tennis
END:VEVENT
BEGIN:VEVENT
DTSTART;TZID=America/Chicago:20211008T080000
DTEND;TZID=America/Chicago:20211008T120000
DTSTAMP:20260422T165952
CREATED:20240109T180915Z
LAST-MODIFIED:20240109T180915Z
UID:10003869-1633680000-1633694400@www.springcreekoaks.org
SUMMARY:CH 1 court 1\, Tennis Pro Danny
DESCRIPTION:
URL:https://www.springcreekoaks.org/reservations/ch-1-court-1-tennis-pro-danny-3/2021-10-08/
CATEGORIES:Tennis
END:VEVENT
BEGIN:VEVENT
DTSTART;TZID=America/Chicago:20211008T080000
DTEND;TZID=America/Chicago:20211008T090000
DTSTAMP:20260422T165952
CREATED:20210811T141409Z
LAST-MODIFIED:20210811T141409Z
UID:10003603-1633680000-1633683600@www.springcreekoaks.org
SUMMARY:CH 2 court 6\, Mason
DESCRIPTION:
URL:https://www.springcreekoaks.org/reservations/ch-2-court-6-mason-10/2021-10-08/
CATEGORIES:Tennis
END:VEVENT
BEGIN:VEVENT
DTSTART;VALUE=DATE:20211008
DTEND;VALUE=DATE:20211009
DTSTAMP:20260422T165952
CREATED:20210915T083857Z
LAST-MODIFIED:20210915T083857Z
UID:10003976-1633651200-1633737599@www.springcreekoaks.org
SUMMARY:Roberson CH2
DESCRIPTION:
URL:https://www.springcreekoaks.org/reservations/roberson-ch2/
LOCATION:Clubhouse 2\, 6002 Bur Oak Dr\, Spring\, 77379\, United States
CATEGORIES:Clubhouses
GEO:30.037539;-95.5070911
X-APPLE-STRUCTURED-LOCATION;VALUE=URI;X-ADDRESS=Clubhouse 2 6002 Bur Oak Dr Spring 77379 United States;X-APPLE-RADIUS=500;X-TITLE=6002 Bur Oak Dr:geo:-95.5070911,30.037539
END:VEVENT
BEGIN:VEVENT
DTSTART;TZID=America/Chicago:20211007T190000
DTEND;TZID=America/Chicago:20211007T230000
DTSTAMP:20260422T165952
CREATED:20210908T231854Z
LAST-MODIFIED:20210908T231854Z
UID:10003793-1633633200-1633647600@www.springcreekoaks.org
SUMMARY:CH 2 courts 1-6\, Men's league C team
DESCRIPTION:
URL:https://www.springcreekoaks.org/reservations/ch-2-courts-1-6-mens-league-c-team-3/2021-10-07/
CATEGORIES:Tennis
END:VEVENT
BEGIN:VEVENT
DTSTART;TZID=America/Chicago:20211007T170000
DTEND;TZID=America/Chicago:20211007T210000
DTSTAMP:20260422T165952
CREATED:20191114T164535Z
LAST-MODIFIED:20191114T164535Z
UID:10000330-1633626000-1633640400@www.springcreekoaks.org
SUMMARY:CH2 5pm-9pm Waterboard Monthly Meeting
DESCRIPTION:
URL:https://www.springcreekoaks.org/reservations/ch2-5pm-9pm-waterboard-monthly-meeting/2021-10-07/
LOCATION:Clubhouse 2\, 6002 Bur Oak Dr\, Spring\, 77379\, United States
CATEGORIES:Clubhouses
GEO:30.037539;-95.5070911
X-APPLE-STRUCTURED-LOCATION;VALUE=URI;X-ADDRESS=Clubhouse 2 6002 Bur Oak Dr Spring 77379 United States;X-APPLE-RADIUS=500;X-TITLE=6002 Bur Oak Dr:geo:-95.5070911,30.037539
END:VEVENT
BEGIN:VEVENT
DTSTART;TZID=America/Chicago:20211007T160000
DTEND;TZID=America/Chicago:20211007T190000
DTSTAMP:20260422T165952
CREATED:20240109T180921Z
LAST-MODIFIED:20240109T180921Z
UID:10003933-1633622400-1633633200@www.springcreekoaks.org
SUMMARY:CH 2 courts 1-3\, Tennis Pro Danny
DESCRIPTION:
URL:https://www.springcreekoaks.org/reservations/ch-2-courts-1-3-tennis-pro-danny/2021-10-07/
CATEGORIES:Tennis
END:VEVENT
END:VCALENDAR