BEGIN:VCALENDAR
VERSION:2.0
PRODID:-//Spring Creek Oaks - ECPv6.15.20//NONSGML v1.0//EN
CALSCALE:GREGORIAN
METHOD:PUBLISH
X-WR-CALNAME:Spring Creek Oaks
X-ORIGINAL-URL:https://www.springcreekoaks.org
X-WR-CALDESC:Events for Spring Creek Oaks
REFRESH-INTERVAL;VALUE=DURATION:PT1H
X-Robots-Tag:noindex
X-PUBLISHED-TTL:PT1H
BEGIN:VTIMEZONE
TZID:America/Chicago
BEGIN:DAYLIGHT
TZOFFSETFROM:-0600
TZOFFSETTO:-0500
TZNAME:CDT
DTSTART:20200308T080000
END:DAYLIGHT
BEGIN:STANDARD
TZOFFSETFROM:-0500
TZOFFSETTO:-0600
TZNAME:CST
DTSTART:20201101T070000
END:STANDARD
BEGIN:DAYLIGHT
TZOFFSETFROM:-0600
TZOFFSETTO:-0500
TZNAME:CDT
DTSTART:20210314T080000
END:DAYLIGHT
BEGIN:STANDARD
TZOFFSETFROM:-0500
TZOFFSETTO:-0600
TZNAME:CST
DTSTART:20211107T070000
END:STANDARD
BEGIN:DAYLIGHT
TZOFFSETFROM:-0600
TZOFFSETTO:-0500
TZNAME:CDT
DTSTART:20220313T080000
END:DAYLIGHT
BEGIN:STANDARD
TZOFFSETFROM:-0500
TZOFFSETTO:-0600
TZNAME:CST
DTSTART:20221106T070000
END:STANDARD
END:VTIMEZONE
BEGIN:VEVENT
DTSTART;TZID=America/Chicago:20210912T110000
DTEND;TZID=America/Chicago:20210912T130000
DTSTAMP:20260422T192202
CREATED:20210805T164830Z
LAST-MODIFIED:20210805T164830Z
UID:10003617-1631444400-1631451600@www.springcreekoaks.org
SUMMARY:NCL gown sale CH2
DESCRIPTION:
URL:https://www.springcreekoaks.org/reservations/ncl-gown-sale-ch2/
LOCATION:Clubhouse 2\, 6002 Bur Oak Dr\, Spring\, 77379\, United States
CATEGORIES:Clubhouses
GEO:30.037539;-95.5070911
X-APPLE-STRUCTURED-LOCATION;VALUE=URI;X-ADDRESS=Clubhouse 2 6002 Bur Oak Dr Spring 77379 United States;X-APPLE-RADIUS=500;X-TITLE=6002 Bur Oak Dr:geo:-95.5070911,30.037539
END:VEVENT
BEGIN:VEVENT
DTSTART;TZID=America/Chicago:20210911T080000
DTEND;TZID=America/Chicago:20210911T103000
DTSTAMP:20260422T192203
CREATED:20200805T161253Z
LAST-MODIFIED:20200805T161253Z
UID:10001107-1631347200-1631356200@www.springcreekoaks.org
SUMMARY:LLERENA (Big Soccer Field)
DESCRIPTION:
URL:https://www.springcreekoaks.org/reservations/llerena-big-soccer-field/2021-09-11/
CATEGORIES:Soccer Fields
END:VEVENT
BEGIN:VEVENT
DTSTART;TZID=America/Chicago:20210910T083000
DTEND;TZID=America/Chicago:20210910T120000
DTSTAMP:20260422T192203
CREATED:20210818T183307Z
LAST-MODIFIED:20210818T183307Z
UID:10003741-1631262600-1631275200@www.springcreekoaks.org
SUMMARY:CH 2 courts 1-4\, JR A-2
DESCRIPTION:
URL:https://www.springcreekoaks.org/reservations/ch-2-courts-1-4-jr-a-2/2021-09-10/
CATEGORIES:Tennis
END:VEVENT
BEGIN:VEVENT
DTSTART;TZID=America/Chicago:20210910T083000
DTEND;TZID=America/Chicago:20210910T120000
DTSTAMP:20260422T192203
CREATED:20210818T183145Z
LAST-MODIFIED:20210818T183145Z
UID:10003740-1631262600-1631275200@www.springcreekoaks.org
SUMMARY:Kuehnle courts 1-4\, JR Open 2
DESCRIPTION:
URL:https://www.springcreekoaks.org/reservations/kuehnle-courts-1-4-jr-open-2-2/
CATEGORIES:Tennis
END:VEVENT
BEGIN:VEVENT
DTSTART;TZID=America/Chicago:20210910T080000
DTEND;TZID=America/Chicago:20210910T090000
DTSTAMP:20260422T192203
CREATED:20210811T141409Z
LAST-MODIFIED:20210811T141409Z
UID:10003599-1631260800-1631264400@www.springcreekoaks.org
SUMMARY:CH 2 court 6\, Mason
DESCRIPTION:
URL:https://www.springcreekoaks.org/reservations/ch-2-court-6-mason-10/2021-09-10/
CATEGORIES:Tennis
END:VEVENT
BEGIN:VEVENT
DTSTART;TZID=America/Chicago:20210909T083000
DTEND;TZID=America/Chicago:20210909T113000
DTSTAMP:20260422T192203
CREATED:20210903T154019Z
LAST-MODIFIED:20210903T154019Z
UID:10003790-1631176200-1631187000@www.springcreekoaks.org
SUMMARY:Kuehnle courts 1-2\, Lopez
DESCRIPTION:
URL:https://www.springcreekoaks.org/reservations/kuehnle-courts-1-2-lopez-2/
CATEGORIES:Tennis
END:VEVENT
BEGIN:VEVENT
DTSTART;TZID=America/Chicago:20210908T180000
DTEND;TZID=America/Chicago:20210908T200000
DTSTAMP:20260422T192203
CREATED:20210824T133805Z
LAST-MODIFIED:20210824T133806Z
UID:10003767-1631124000-1631131200@www.springcreekoaks.org
SUMMARY:10U LIONS (Flag Football) Coach Stansifer
DESCRIPTION:
URL:https://www.springcreekoaks.org/reservations/10u-lions-flag-football-coach-stansifer-2/2021-09-08/
LOCATION:Small Soccer Field (CH 2)
CATEGORIES:Soccer Fields
END:VEVENT
BEGIN:VEVENT
DTSTART;TZID=America/Chicago:20210908T180000
DTEND;TZID=America/Chicago:20210908T200000
DTSTAMP:20260422T192203
CREATED:20200805T160749Z
LAST-MODIFIED:20200805T161100Z
UID:10001347-1631124000-1631131200@www.springcreekoaks.org
SUMMARY:CIFUENTES (Big Soccer Field)
DESCRIPTION:
URL:https://www.springcreekoaks.org/reservations/cifuentes-open-play-big-soccer-field/2021-09-08/
CATEGORIES:Soccer Fields
END:VEVENT
BEGIN:VEVENT
DTSTART;TZID=America/Chicago:20210908T080000
DTEND;TZID=America/Chicago:20210908T120000
DTSTAMP:20260422T192203
CREATED:20210512T162316Z
LAST-MODIFIED:20210512T162316Z
UID:10003261-1631088000-1631102400@www.springcreekoaks.org
SUMMARY:CH 1 courts 2-3 (pickleball)\, Hudson
DESCRIPTION:
URL:https://www.springcreekoaks.org/reservations/ch-1-courts-2-3-pickleball-hudson/2021-09-08/
CATEGORIES:Tennis
END:VEVENT
BEGIN:VEVENT
DTSTART;TZID=America/Chicago:20210908T080000
DTEND;TZID=America/Chicago:20210908T110000
DTSTAMP:20260422T192203
CREATED:20210818T223331Z
LAST-MODIFIED:20210818T223331Z
UID:10003754-1631088000-1631098800@www.springcreekoaks.org
SUMMARY:CH 2 courts 5-6\, Morse
DESCRIPTION:
URL:https://www.springcreekoaks.org/reservations/ch-2-courts-5-6-morse-2/2021-09-08/
CATEGORIES:Tennis
END:VEVENT
BEGIN:VEVENT
DTSTART;TZID=America/Chicago:20210907T080000
DTEND;TZID=America/Chicago:20210907T120000
DTSTAMP:20260422T192203
CREATED:20210904T214125Z
LAST-MODIFIED:20210904T214125Z
UID:10003692-1631001600-1631016000@www.springcreekoaks.org
SUMMARY:CH 2 courts 2-3\, Whiteside
DESCRIPTION:
URL:https://www.springcreekoaks.org/reservations/ch-2-courts-2-3-whiteside/
CATEGORIES:Tennis
END:VEVENT
BEGIN:VEVENT
DTSTART;TZID=America/Chicago:20210907T080000
DTEND;TZID=America/Chicago:20210907T090000
DTSTAMP:20260422T192203
CREATED:20210811T141524Z
LAST-MODIFIED:20210811T141524Z
UID:10003660-1631001600-1631005200@www.springcreekoaks.org
SUMMARY:CH 2 court 6\, Mason
DESCRIPTION:
URL:https://www.springcreekoaks.org/reservations/ch-2-court-6-mason-11/2021-09-07/
CATEGORIES:Tennis
END:VEVENT
BEGIN:VEVENT
DTSTART;TZID=America/Chicago:20210904T080000
DTEND;TZID=America/Chicago:20210904T103000
DTSTAMP:20260422T192203
CREATED:20200805T161253Z
LAST-MODIFIED:20200805T161253Z
UID:10001106-1630742400-1630751400@www.springcreekoaks.org
SUMMARY:LLERENA (Big Soccer Field)
DESCRIPTION:
URL:https://www.springcreekoaks.org/reservations/llerena-big-soccer-field/2021-09-04/
CATEGORIES:Soccer Fields
END:VEVENT
BEGIN:VEVENT
DTSTART;TZID=America/Chicago:20210903T083000
DTEND;TZID=America/Chicago:20210903T120000
DTSTAMP:20260422T192203
CREATED:20210818T183547Z
LAST-MODIFIED:20210903T022704Z
UID:10003747-1630657800-1630670400@www.springcreekoaks.org
SUMMARY:CH 2 courts 1-6\, JR B-3
DESCRIPTION:
URL:https://www.springcreekoaks.org/reservations/ch-2-courts-1-4-jr-b-3/
CATEGORIES:Tennis
END:VEVENT
BEGIN:VEVENT
DTSTART;TZID=America/Chicago:20210903T083000
DTEND;TZID=America/Chicago:20210903T120000
DTSTAMP:20260422T192203
CREATED:20210818T183426Z
LAST-MODIFIED:20210818T183426Z
UID:10003745-1630657800-1630670400@www.springcreekoaks.org
SUMMARY:Kuehnle courts 1-4\, JR A-2
DESCRIPTION:
URL:https://www.springcreekoaks.org/reservations/kuehnle-courts-1-4-jr-a-2/2021-09-03/
CATEGORIES:Tennis
END:VEVENT
BEGIN:VEVENT
DTSTART;TZID=America/Chicago:20210903T080000
DTEND;TZID=America/Chicago:20210903T090000
DTSTAMP:20260422T192203
CREATED:20210811T141409Z
LAST-MODIFIED:20210811T141409Z
UID:10003598-1630656000-1630659600@www.springcreekoaks.org
SUMMARY:CH 2 court 6\, Mason
DESCRIPTION:
URL:https://www.springcreekoaks.org/reservations/ch-2-court-6-mason-10/2021-09-03/
CATEGORIES:Tennis
END:VEVENT
BEGIN:VEVENT
DTSTART;TZID=America/Chicago:20210902T170000
DTEND;TZID=America/Chicago:20210902T210000
DTSTAMP:20260422T192203
CREATED:20191114T164535Z
LAST-MODIFIED:20191114T164535Z
UID:10000329-1630602000-1630616400@www.springcreekoaks.org
SUMMARY:CH2 5pm-9pm Waterboard Monthly Meeting
DESCRIPTION:
URL:https://www.springcreekoaks.org/reservations/ch2-5pm-9pm-waterboard-monthly-meeting/2021-09-02/
LOCATION:Clubhouse 2\, 6002 Bur Oak Dr\, Spring\, 77379\, United States
CATEGORIES:Clubhouses
GEO:30.037539;-95.5070911
X-APPLE-STRUCTURED-LOCATION;VALUE=URI;X-ADDRESS=Clubhouse 2 6002 Bur Oak Dr Spring 77379 United States;X-APPLE-RADIUS=500;X-TITLE=6002 Bur Oak Dr:geo:-95.5070911,30.037539
END:VEVENT
BEGIN:VEVENT
DTSTART;TZID=America/Chicago:20210902T080000
DTEND;TZID=America/Chicago:20210902T120000
DTSTAMP:20260422T192203
CREATED:20210809T002903Z
LAST-MODIFIED:20210809T002903Z
UID:10003622-1630569600-1630584000@www.springcreekoaks.org
SUMMARY:CH 2 courts 5-6\, Junek
DESCRIPTION:
URL:https://www.springcreekoaks.org/reservations/ch-2-courts-5-6-junek/2021-09-02/
CATEGORIES:Tennis
END:VEVENT
BEGIN:VEVENT
DTSTART;TZID=America/Chicago:20210902T080000
DTEND;TZID=America/Chicago:20210902T110000
DTSTAMP:20260422T192203
CREATED:20210816T203332Z
LAST-MODIFIED:20210830T221519Z
UID:10003731-1630569600-1630580400@www.springcreekoaks.org
SUMMARY:CH 2 court 3\, Lopez
DESCRIPTION:
URL:https://www.springcreekoaks.org/reservations/kuehnle-courts-2-lopez-2021-09-02/
CATEGORIES:Tennis
END:VEVENT
BEGIN:VEVENT
DTSTART;TZID=America/Chicago:20210901T180000
DTEND;TZID=America/Chicago:20210901T200000
DTSTAMP:20260422T192203
CREATED:20210824T133805Z
LAST-MODIFIED:20210824T133806Z
UID:10003766-1630519200-1630526400@www.springcreekoaks.org
SUMMARY:10U LIONS (Flag Football) Coach Stansifer
DESCRIPTION:
URL:https://www.springcreekoaks.org/reservations/10u-lions-flag-football-coach-stansifer-2/2021-09-01/
LOCATION:Small Soccer Field (CH 2)
CATEGORIES:Soccer Fields
END:VEVENT
BEGIN:VEVENT
DTSTART;TZID=America/Chicago:20210901T180000
DTEND;TZID=America/Chicago:20210901T200000
DTSTAMP:20260422T192203
CREATED:20200805T160749Z
LAST-MODIFIED:20200805T161100Z
UID:10001346-1630519200-1630526400@www.springcreekoaks.org
SUMMARY:CIFUENTES (Big Soccer Field)
DESCRIPTION:
URL:https://www.springcreekoaks.org/reservations/cifuentes-open-play-big-soccer-field/2021-09-01/
CATEGORIES:Soccer Fields
END:VEVENT
BEGIN:VEVENT
DTSTART;TZID=America/Chicago:20210901T080000
DTEND;TZID=America/Chicago:20210901T170000
DTSTAMP:20260422T192203
CREATED:20210825T193413Z
LAST-MODIFIED:20210825T193413Z
UID:10003787-1630483200-1630515600@www.springcreekoaks.org
SUMMARY:Otto reception
DESCRIPTION:
URL:https://www.springcreekoaks.org/reservations/otto-reception/
LOCATION:Clubhouse 2\, 6002 Bur Oak Dr\, Spring\, 77379\, United States
CATEGORIES:Clubhouses
GEO:30.037539;-95.5070911
X-APPLE-STRUCTURED-LOCATION;VALUE=URI;X-ADDRESS=Clubhouse 2 6002 Bur Oak Dr Spring 77379 United States;X-APPLE-RADIUS=500;X-TITLE=6002 Bur Oak Dr:geo:-95.5070911,30.037539
END:VEVENT
BEGIN:VEVENT
DTSTART;TZID=America/Chicago:20210901T080000
DTEND;TZID=America/Chicago:20210901T120000
DTSTAMP:20260422T192203
CREATED:20210512T162316Z
LAST-MODIFIED:20210512T162316Z
UID:10003260-1630483200-1630497600@www.springcreekoaks.org
SUMMARY:CH 1 courts 2-3 (pickleball)\, Hudson
DESCRIPTION:
URL:https://www.springcreekoaks.org/reservations/ch-1-courts-2-3-pickleball-hudson/2021-09-01/
CATEGORIES:Tennis
END:VEVENT
BEGIN:VEVENT
DTSTART;TZID=America/Chicago:20210901T080000
DTEND;TZID=America/Chicago:20210901T110000
DTSTAMP:20260422T192203
CREATED:20210818T223331Z
LAST-MODIFIED:20210818T223331Z
UID:10003753-1630483200-1630494000@www.springcreekoaks.org
SUMMARY:CH 2 courts 5-6\, Morse
DESCRIPTION:
URL:https://www.springcreekoaks.org/reservations/ch-2-courts-5-6-morse-2/2021-09-01/
CATEGORIES:Tennis
END:VEVENT
BEGIN:VEVENT
DTSTART;TZID=America/Chicago:20210831T080000
DTEND;TZID=America/Chicago:20210831T090000
DTSTAMP:20260422T192203
CREATED:20210811T141524Z
LAST-MODIFIED:20210811T141524Z
UID:10003659-1630396800-1630400400@www.springcreekoaks.org
SUMMARY:CH 2 court 6\, Mason
DESCRIPTION:
URL:https://www.springcreekoaks.org/reservations/ch-2-court-6-mason-11/2021-08-31/
CATEGORIES:Tennis
END:VEVENT
BEGIN:VEVENT
DTSTART;TZID=America/Chicago:20210830T083000
DTEND;TZID=America/Chicago:20210830T120000
DTSTAMP:20260422T192203
CREATED:20210815T195911Z
LAST-MODIFIED:20210815T195911Z
UID:10003716-1630312200-1630324800@www.springcreekoaks.org
SUMMARY:Kuehnle courts 1-4\, HLTA A3W
DESCRIPTION:
URL:https://www.springcreekoaks.org/reservations/kuehnle-courts-1-4-hlta-a3w/2021-08-30/
CATEGORIES:Tennis
END:VEVENT
BEGIN:VEVENT
DTSTART;TZID=America/Chicago:20210830T083000
DTEND;TZID=America/Chicago:20210830T120000
DTSTAMP:20260422T192203
CREATED:20210512T170641Z
LAST-MODIFIED:20210512T170641Z
UID:10002382-1630312200-1630324800@www.springcreekoaks.org
SUMMARY:CH 2 court 6\, Hudson
DESCRIPTION:
URL:https://www.springcreekoaks.org/reservations/ch-2-court-6-hudson-3/2021-08-30/
CATEGORIES:Tennis
END:VEVENT
BEGIN:VEVENT
DTSTART;TZID=America/Chicago:20210829T080000
DTEND;TZID=America/Chicago:20210829T170000
DTSTAMP:20260422T192203
CREATED:20210328T023750Z
LAST-MODIFIED:20210328T023750Z
UID:10003183-1630224000-1630256400@www.springcreekoaks.org
SUMMARY:Gulf Coast Blood Drive CH2
DESCRIPTION:
URL:https://www.springcreekoaks.org/reservations/gulf-coast-blood-drive-ch2/
LOCATION:Clubhouse 2\, 6002 Bur Oak Dr\, Spring\, 77379\, United States
CATEGORIES:Clubhouses
GEO:30.037539;-95.5070911
X-APPLE-STRUCTURED-LOCATION;VALUE=URI;X-ADDRESS=Clubhouse 2 6002 Bur Oak Dr Spring 77379 United States;X-APPLE-RADIUS=500;X-TITLE=6002 Bur Oak Dr:geo:-95.5070911,30.037539
END:VEVENT
BEGIN:VEVENT
DTSTART;TZID=America/Chicago:20210828T080000
DTEND;TZID=America/Chicago:20210828T233000
DTSTAMP:20260422T192203
CREATED:20210523T223526Z
LAST-MODIFIED:20210523T223526Z
UID:10003384-1630137600-1630193400@www.springcreekoaks.org
SUMMARY:Lindsay CH1
DESCRIPTION:
URL:https://www.springcreekoaks.org/reservations/lindsay-ch1/
LOCATION:Clubhouse 1\, 17111 Misty Creek\, Spring\, TX\, 77379\, United States
CATEGORIES:Clubhouses
GEO:30.0346602;-95.5117522
X-APPLE-STRUCTURED-LOCATION;VALUE=URI;X-ADDRESS=Clubhouse 1 17111 Misty Creek Spring TX 77379 United States;X-APPLE-RADIUS=500;X-TITLE=17111 Misty Creek:geo:-95.5117522,30.0346602
END:VEVENT
BEGIN:VEVENT
DTSTART;TZID=America/Chicago:20210828T080000
DTEND;TZID=America/Chicago:20210828T103000
DTSTAMP:20260422T192203
CREATED:20200805T161253Z
LAST-MODIFIED:20200805T161253Z
UID:10001105-1630137600-1630146600@www.springcreekoaks.org
SUMMARY:LLERENA (Big Soccer Field)
DESCRIPTION:
URL:https://www.springcreekoaks.org/reservations/llerena-big-soccer-field/2021-08-28/
CATEGORIES:Soccer Fields
END:VEVENT
END:VCALENDAR