BEGIN:VCALENDAR
VERSION:2.0
PRODID:-//Spring Creek Oaks - ECPv6.15.20//NONSGML v1.0//EN
CALSCALE:GREGORIAN
METHOD:PUBLISH
X-ORIGINAL-URL:https://www.springcreekoaks.org
X-WR-CALDESC:Events for Spring Creek Oaks
REFRESH-INTERVAL;VALUE=DURATION:PT1H
X-Robots-Tag:noindex
X-PUBLISHED-TTL:PT1H
BEGIN:VTIMEZONE
TZID:America/Chicago
BEGIN:DAYLIGHT
TZOFFSETFROM:-0600
TZOFFSETTO:-0500
TZNAME:CDT
DTSTART:20230312T080000
END:DAYLIGHT
BEGIN:STANDARD
TZOFFSETFROM:-0500
TZOFFSETTO:-0600
TZNAME:CST
DTSTART:20231105T070000
END:STANDARD
BEGIN:DAYLIGHT
TZOFFSETFROM:-0600
TZOFFSETTO:-0500
TZNAME:CDT
DTSTART:20240310T080000
END:DAYLIGHT
BEGIN:STANDARD
TZOFFSETFROM:-0500
TZOFFSETTO:-0600
TZNAME:CST
DTSTART:20241103T070000
END:STANDARD
BEGIN:DAYLIGHT
TZOFFSETFROM:-0600
TZOFFSETTO:-0500
TZNAME:CDT
DTSTART:20250309T080000
END:DAYLIGHT
BEGIN:STANDARD
TZOFFSETFROM:-0500
TZOFFSETTO:-0600
TZNAME:CST
DTSTART:20251102T070000
END:STANDARD
END:VTIMEZONE
BEGIN:VEVENT
DTSTART;TZID=America/Chicago:20240414T060000
DTEND;TZID=America/Chicago:20240414T190000
DTSTAMP:20260422T165856
CREATED:20240312T144546Z
LAST-MODIFIED:20240312T144546Z
UID:10008082-1713074400-1713121200@www.springcreekoaks.org
SUMMARY:CH 2 courts 1-6\, Giammalva Jr tournament
DESCRIPTION:
URL:https://www.springcreekoaks.org/reservations/ch-2-courts-1-6-giammalva-jr-tournament-2/2024-04-14/
CATEGORIES:Tennis
END:VEVENT
BEGIN:VEVENT
DTSTART;TZID=America/Chicago:20240415T083000
DTEND;TZID=America/Chicago:20240415T110000
DTSTAMP:20260422T165856
CREATED:20240115T174755Z
LAST-MODIFIED:20240115T180718Z
UID:10006595-1713169800-1713178800@www.springcreekoaks.org
SUMMARY:Kuehnle courts 3-4\, Coach Danny
DESCRIPTION:
URL:https://www.springcreekoaks.org/reservations/kuehnle-courts-3-4-coach-danny/2024-04-15/
CATEGORIES:Tennis
END:VEVENT
BEGIN:VEVENT
DTSTART;TZID=America/Chicago:20240415T170000
DTEND;TZID=America/Chicago:20240415T190000
DTSTAMP:20260422T165856
CREATED:20240115T174912Z
LAST-MODIFIED:20240115T180603Z
UID:10006666-1713200400-1713207600@www.springcreekoaks.org
SUMMARY:Kuehnle courts 3-4\, Coach Danny
DESCRIPTION:
URL:https://www.springcreekoaks.org/reservations/kuehnle-courts-3-4-coach-danny-2/2024-04-15/
CATEGORIES:Tennis
END:VEVENT
BEGIN:VEVENT
DTSTART;TZID=America/Chicago:20240416T083000
DTEND;TZID=America/Chicago:20240416T120000
DTSTAMP:20260422T165856
CREATED:20231126T144446Z
LAST-MODIFIED:20231126T144859Z
UID:10003345-1713256200-1713268800@www.springcreekoaks.org
SUMMARY:CH 1 courts 2-3\, Palmer
DESCRIPTION:
URL:https://www.springcreekoaks.org/reservations/ch-1-courts-2-3-palmer/2024-04-16/
CATEGORIES:Tennis
END:VEVENT
BEGIN:VEVENT
DTSTART;TZID=America/Chicago:20240416T090000
DTEND;TZID=America/Chicago:20240416T110000
DTSTAMP:20260422T165856
CREATED:20240115T175133Z
LAST-MODIFIED:20240416T023409Z
UID:10006738-1713258000-1713265200@www.springcreekoaks.org
SUMMARY:Kuehnle courts 3-4\, Coach Danny
DESCRIPTION:
URL:https://www.springcreekoaks.org/reservations/kuehnle-courts-3-4-coach-danny-3/2024-04-16/
CATEGORIES:Tennis
END:VEVENT
BEGIN:VEVENT
DTSTART;TZID=America/Chicago:20240416T170000
DTEND;TZID=America/Chicago:20240416T193000
DTSTAMP:20260422T165856
CREATED:20240115T175240Z
LAST-MODIFIED:20240115T180452Z
UID:10006810-1713286800-1713295800@www.springcreekoaks.org
SUMMARY:Kuehnle courts 3-4\, Coach Danny
DESCRIPTION:
URL:https://www.springcreekoaks.org/reservations/kuehnle-courts-3-4-coach-danny-4/2024-04-16/
CATEGORIES:Tennis
END:VEVENT
BEGIN:VEVENT
DTSTART;TZID=America/Chicago:20240416T180000
DTEND;TZID=America/Chicago:20240416T210000
DTSTAMP:20260422T165856
CREATED:20240130T071535Z
LAST-MODIFIED:20240131T153044Z
UID:10007509-1713290400-1713301200@www.springcreekoaks.org
SUMMARY:CH 2 PB courts 1-2\, A. Cortez
DESCRIPTION:
URL:https://www.springcreekoaks.org/reservations/ch-2-pb-courts-1-2-a-cortez/2024-04-16/
CATEGORIES:Tennis
END:VEVENT
BEGIN:VEVENT
DTSTART;TZID=America/Chicago:20240416T190000
DTEND;TZID=America/Chicago:20240416T230000
DTSTAMP:20260422T165856
CREATED:20240311T233744Z
LAST-MODIFIED:20240311T233744Z
UID:10008072-1713294000-1713308400@www.springcreekoaks.org
SUMMARY:CH 2 courts 1-6\, Men’s league\, Vross
DESCRIPTION:
URL:https://www.springcreekoaks.org/reservations/ch-2-courts-1-6-mens-league-vross-5/2024-04-16/
CATEGORIES:Tennis
END:VEVENT
BEGIN:VEVENT
DTSTART;TZID=America/Chicago:20240417T083000
DTEND;TZID=America/Chicago:20240417T120000
DTSTAMP:20260422T165856
CREATED:20240118T192112Z
LAST-MODIFIED:20240118T192112Z
UID:10007473-1713342600-1713355200@www.springcreekoaks.org
SUMMARY:CH 2 courts 1-4\, NW league A2
DESCRIPTION:
URL:https://www.springcreekoaks.org/reservations/ch-2-courts-1-4-nw-league-a2/2024-04-17/
CATEGORIES:Tennis
END:VEVENT
BEGIN:VEVENT
DTSTART;TZID=America/Chicago:20240417T090000
DTEND;TZID=America/Chicago:20240417T113000
DTSTAMP:20260422T165856
CREATED:20231205T012455Z
LAST-MODIFIED:20240107T024742Z
UID:10004071-1713344400-1713353400@www.springcreekoaks.org
SUMMARY:CH 1 courts 2-3\, Hudson
DESCRIPTION:
URL:https://www.springcreekoaks.org/reservations/ch-1-courts-2-3-hudson-2/2024-04-17/
CATEGORIES:Tennis
END:VEVENT
BEGIN:VEVENT
DTSTART;TZID=America/Chicago:20240417T100000
DTEND;TZID=America/Chicago:20240417T110000
DTSTAMP:20260422T165856
CREATED:20240115T175343Z
LAST-MODIFIED:20240416T023303Z
UID:10006882-1713348000-1713351600@www.springcreekoaks.org
SUMMARY:Kuehnle courts 3-4\, Coach Danny
DESCRIPTION:
URL:https://www.springcreekoaks.org/reservations/kuehnle-courts-3-4-coach-danny-5/2024-04-17/
CATEGORIES:Tennis
END:VEVENT
BEGIN:VEVENT
DTSTART;TZID=America/Chicago:20240417T170000
DTEND;TZID=America/Chicago:20240417T190000
DTSTAMP:20260422T165856
CREATED:20240115T175440Z
LAST-MODIFIED:20240115T180134Z
UID:10006954-1713373200-1713380400@www.springcreekoaks.org
SUMMARY:Kuehnle courts 3-4\, Coach Danny
DESCRIPTION:
URL:https://www.springcreekoaks.org/reservations/kuehnle-courts-3-4-coach-danny-6/2024-04-17/
CATEGORIES:Tennis
END:VEVENT
BEGIN:VEVENT
DTSTART;TZID=America/Chicago:20240418T083000
DTEND;TZID=America/Chicago:20240418T120000
DTSTAMP:20260422T165856
CREATED:20231126T144446Z
LAST-MODIFIED:20231126T144859Z
UID:10003346-1713429000-1713441600@www.springcreekoaks.org
SUMMARY:CH 1 courts 2-3\, Palmer
DESCRIPTION:
URL:https://www.springcreekoaks.org/reservations/ch-1-courts-2-3-palmer/2024-04-18/
CATEGORIES:Tennis
END:VEVENT
BEGIN:VEVENT
DTSTART;TZID=America/Chicago:20240418T083000
DTEND;TZID=America/Chicago:20240418T120000
DTSTAMP:20260422T165856
CREATED:20240118T190533Z
LAST-MODIFIED:20240118T190533Z
UID:10007466-1713429000-1713441600@www.springcreekoaks.org
SUMMARY:Kuehnle courts 1-4\, NW league A1
DESCRIPTION:
URL:https://www.springcreekoaks.org/reservations/kuehnle-courts-1-4-nw-league-a1/2024-04-18/
CATEGORIES:Tennis
END:VEVENT
BEGIN:VEVENT
DTSTART;TZID=America/Chicago:20240418T090000
DTEND;TZID=America/Chicago:20240418T110000
DTSTAMP:20260422T165856
CREATED:20240118T194207Z
LAST-MODIFIED:20240118T194208Z
UID:10007026-1713430800-1713438000@www.springcreekoaks.org
SUMMARY:CH 2 courts 1-3\, Coach Danny
DESCRIPTION:
URL:https://www.springcreekoaks.org/reservations/kuehnle-courts-3-4-coach-danny-7-5/
CATEGORIES:Tennis
END:VEVENT
BEGIN:VEVENT
DTSTART;TZID=America/Chicago:20240418T190000
DTEND;TZID=America/Chicago:20240418T220000
DTSTAMP:20260422T165856
CREATED:20240113T021559Z
LAST-MODIFIED:20240131T152936Z
UID:10006536-1713466800-1713477600@www.springcreekoaks.org
SUMMARY:CH 2 PB courts 3-4\, P. Guzman
DESCRIPTION:
URL:https://www.springcreekoaks.org/reservations/ch-1-courts-2-3-p-guzman/2024-04-18/
CATEGORIES:Tennis
END:VEVENT
BEGIN:VEVENT
DTSTART;TZID=America/Chicago:20240418T190000
DTEND;TZID=America/Chicago:20240418T223000
DTSTAMP:20260422T165856
CREATED:20240208T140545Z
LAST-MODIFIED:20240208T140545Z
UID:10007915-1713466800-1713479400@www.springcreekoaks.org
SUMMARY:CH 2 courts 1-6\, Men’s league\, Bausch
DESCRIPTION:
URL:https://www.springcreekoaks.org/reservations/ch-2-courts-1-6-mens-league-bausch-3/2024-04-18/
CATEGORIES:Tennis
END:VEVENT
BEGIN:VEVENT
DTSTART;TZID=America/Chicago:20240418T190000
DTEND;TZID=America/Chicago:20240418T230000
DTSTAMP:20260422T165856
CREATED:20240311T234052Z
LAST-MODIFIED:20240311T234052Z
UID:10008077-1713466800-1713481200@www.springcreekoaks.org
SUMMARY:CH 2 courts 1-6\, Men’s league Bautsch
DESCRIPTION:
URL:https://www.springcreekoaks.org/reservations/ch-2-courts-1-6-mens-league-bautsch-2/2024-04-18/
CATEGORIES:Tennis
END:VEVENT
BEGIN:VEVENT
DTSTART;TZID=America/Chicago:20240419T080000
DTEND;TZID=America/Chicago:20240419T110000
DTSTAMP:20260422T165856
CREATED:20240416T014345Z
LAST-MODIFIED:20240612T235700Z
UID:10008210-1713513600-1713524400@www.springcreekoaks.org
SUMMARY:CH 2 courts 1-3\, Lopez
DESCRIPTION:
URL:https://www.springcreekoaks.org/reservations/ch-2-courts-1-3-lopez-12/2024-04-19/
CATEGORIES:Tennis
END:VEVENT
BEGIN:VEVENT
DTSTART;TZID=America/Chicago:20240419T180000
DTEND;TZID=America/Chicago:20240419T190000
DTSTAMP:20260422T165856
CREATED:20240115T175843Z
LAST-MODIFIED:20240118T192404Z
UID:10007118-1713549600-1713553200@www.springcreekoaks.org
SUMMARY:Kuehnle courts 3-4\, Coach Danny
DESCRIPTION:
URL:https://www.springcreekoaks.org/reservations/kuehnle-courts-3-4-coach-danny-9/2024-04-19/
CATEGORIES:Tennis
END:VEVENT
BEGIN:VEVENT
DTSTART;TZID=America/Chicago:20240420T083000
DTEND;TZID=America/Chicago:20240420T120000
DTSTAMP:20260422T165856
CREATED:20231126T144446Z
LAST-MODIFIED:20231126T144859Z
UID:10003347-1713601800-1713614400@www.springcreekoaks.org
SUMMARY:CH 1 courts 2-3\, Palmer
DESCRIPTION:
URL:https://www.springcreekoaks.org/reservations/ch-1-courts-2-3-palmer/2024-04-20/
CATEGORIES:Tennis
END:VEVENT
END:VCALENDAR